BEGIN:VCALENDAR
VERSION:2.0
PRODID:-//Krasl Art Center - ECPv6.15.17.1//NONSGML v1.0//EN
CALSCALE:GREGORIAN
METHOD:PUBLISH
X-WR-CALNAME:Krasl Art Center
X-ORIGINAL-URL:https://krasl.org
X-WR-CALDESC:Events for Krasl Art Center
REFRESH-INTERVAL;VALUE=DURATION:PT1H
X-Robots-Tag:noindex
X-PUBLISHED-TTL:PT1H
BEGIN:VTIMEZONE
TZID:America/Detroit
BEGIN:DAYLIGHT
TZOFFSETFROM:-0500
TZOFFSETTO:-0400
TZNAME:EDT
DTSTART:20190310T070000
END:DAYLIGHT
BEGIN:STANDARD
TZOFFSETFROM:-0400
TZOFFSETTO:-0500
TZNAME:EST
DTSTART:20191103T060000
END:STANDARD
BEGIN:DAYLIGHT
TZOFFSETFROM:-0500
TZOFFSETTO:-0400
TZNAME:EDT
DTSTART:20200308T070000
END:DAYLIGHT
BEGIN:STANDARD
TZOFFSETFROM:-0400
TZOFFSETTO:-0500
TZNAME:EST
DTSTART:20201101T060000
END:STANDARD
BEGIN:DAYLIGHT
TZOFFSETFROM:-0500
TZOFFSETTO:-0400
TZNAME:EDT
DTSTART:20210314T070000
END:DAYLIGHT
BEGIN:STANDARD
TZOFFSETFROM:-0400
TZOFFSETTO:-0500
TZNAME:EST
DTSTART:20211107T060000
END:STANDARD
BEGIN:DAYLIGHT
TZOFFSETFROM:-0500
TZOFFSETTO:-0400
TZNAME:EDT
DTSTART:20220313T070000
END:DAYLIGHT
BEGIN:STANDARD
TZOFFSETFROM:-0400
TZOFFSETTO:-0500
TZNAME:EST
DTSTART:20221106T060000
END:STANDARD
BEGIN:DAYLIGHT
TZOFFSETFROM:-0500
TZOFFSETTO:-0400
TZNAME:EDT
DTSTART:20230312T070000
END:DAYLIGHT
BEGIN:STANDARD
TZOFFSETFROM:-0400
TZOFFSETTO:-0500
TZNAME:EST
DTSTART:20231105T060000
END:STANDARD
BEGIN:DAYLIGHT
TZOFFSETFROM:-0500
TZOFFSETTO:-0400
TZNAME:EDT
DTSTART:20240310T070000
END:DAYLIGHT
BEGIN:STANDARD
TZOFFSETFROM:-0400
TZOFFSETTO:-0500
TZNAME:EST
DTSTART:20241103T060000
END:STANDARD
BEGIN:DAYLIGHT
TZOFFSETFROM:-0500
TZOFFSETTO:-0400
TZNAME:EDT
DTSTART:20250309T070000
END:DAYLIGHT
BEGIN:STANDARD
TZOFFSETFROM:-0400
TZOFFSETTO:-0500
TZNAME:EST
DTSTART:20251102T060000
END:STANDARD
END:VTIMEZONE
BEGIN:VEVENT
DTSTART;TZID=America/Detroit:20240920T203000
DTEND;TZID=America/Detroit:20240920T223000
DTSTAMP:20260421T144205
CREATED:20240814T160603Z
LAST-MODIFIED:20240814T160603Z
UID:10001220-1726864200-1726871400@krasl.org
SUMMARY:PECHAKUCHA
DESCRIPTION:PechaKucha – meaning “chit chat” in Japanese – is a presentation format that shows 20 images\, each for 20 seconds. In other words\, presenters get 400 seconds to tell their story\, with visuals guiding the way. This event will be held outside at The Ghostlight Theatre in Benton Harbor.
URL:https://krasl.org/event/pechakucha-6/
LOCATION:Ghostlight Theatre\, 101 Hinkley Street\, Benton Harbor\, 49022\, United States
CATEGORIES:Event
ATTACH;FMTTYPE=image/jpeg:https://krasl.org/wp-content/uploads/2024/08/PechaKucha-2.jpg
END:VEVENT
BEGIN:VEVENT
DTSTART;TZID=America/Detroit:20200409T190000
DTEND;TZID=America/Detroit:20200409T210000
DTSTAMP:20260421T144205
CREATED:20200203T170209Z
LAST-MODIFIED:20200416T154625Z
UID:10000739-1586458800-1586466000@krasl.org
SUMMARY:RESCHEDULED - Pecha Kucha Night @ The Ghostlight Theatre
DESCRIPTION:MOVED TO DECEMBER 4\, LOOK FOR MORE INFORMATION FALL 2020. \nThe Ghostlight Theatre\, 101 Hinkley Street\, Benton Harbor\, MI\, 49022 \n$7 per seat – Space is limited\, purchase your ticket today! \nPechaKucha’s 20×20 presentation format shows your 20 chosen images\, each for 20 seconds. In other words\, you’ve got 400 seconds to tell your story\, with visuals guiding the way. PechaKucha means “chit chat” in Japanese. \nAt the April 9th PechaKucha Night at The GhostLight Theatre\, speakers and listeners will gather at this beautiful new venue in the Benton Harbor Arts District\, to share personal presentations about their work. More info (St Joseph Pecha Kucha site) \nThis creative outlet began as nighttime get-togethers in Tokyo in 2003 by two renowned architects. Since then\, three million people have attended PechaKucha events worldwide. Inspired by their desire to “talk less\, show more\,” Astrid Klein and Mark Dytham of Tokyo’s Klein-Dytham Architecture (KDa) created PechaKucha in February 2003. It was a way to attract people to their experimental event space in Roppongi\, and to enable young designers to meet\, show their work\, and exchange ideas in 6 minutes 40 seconds. \nIn 2004\, cities in Europe began hosting PK Nights\, followed over the years by hundreds of others. As of April 2019\, PKNs had been held in more than 1\,142 cities worldwide. More than 3 million people have attended a PK Night.
URL:https://krasl.org/event/pecha-kucha-night-ghostlight-theatre/
LOCATION:Ghostlight Theatre\, 101 Hinkley Street\, Benton Harbor\, 49022\, United States
CATEGORIES:Community Engagement,Event
ATTACH;FMTTYPE=image/jpeg:https://krasl.org/wp-content/uploads/2019/08/pechakuchaLivery-1.jpg
END:VEVENT
END:VCALENDAR