BEGIN:VCALENDAR
VERSION:2.0
PRODID:-//Krasl Art Center - ECPv6.15.17.1//NONSGML v1.0//EN
CALSCALE:GREGORIAN
METHOD:PUBLISH
X-ORIGINAL-URL:https://krasl.org
X-WR-CALDESC:Events for Krasl Art Center
REFRESH-INTERVAL;VALUE=DURATION:PT1H
X-Robots-Tag:noindex
X-PUBLISHED-TTL:PT1H
BEGIN:VTIMEZONE
TZID:America/Detroit
BEGIN:DAYLIGHT
TZOFFSETFROM:-0500
TZOFFSETTO:-0400
TZNAME:EDT
DTSTART:20220313T070000
END:DAYLIGHT
BEGIN:STANDARD
TZOFFSETFROM:-0400
TZOFFSETTO:-0500
TZNAME:EST
DTSTART:20221106T060000
END:STANDARD
BEGIN:DAYLIGHT
TZOFFSETFROM:-0500
TZOFFSETTO:-0400
TZNAME:EDT
DTSTART:20230312T070000
END:DAYLIGHT
BEGIN:STANDARD
TZOFFSETFROM:-0400
TZOFFSETTO:-0500
TZNAME:EST
DTSTART:20231105T060000
END:STANDARD
BEGIN:DAYLIGHT
TZOFFSETFROM:-0500
TZOFFSETTO:-0400
TZNAME:EDT
DTSTART:20240310T070000
END:DAYLIGHT
BEGIN:STANDARD
TZOFFSETFROM:-0400
TZOFFSETTO:-0500
TZNAME:EST
DTSTART:20241103T060000
END:STANDARD
END:VTIMEZONE
BEGIN:VEVENT
DTSTART;VALUE=DATE:20230218
DTEND;VALUE=DATE:20230417
DTSTAMP:20260422T214605
CREATED:20230102T180734Z
LAST-MODIFIED:20230102T181003Z
UID:10001048-1676678400-1681689599@krasl.org
SUMMARY:IN THE LAB: SASHA STILES
DESCRIPTION:Sasha Stiles is a poet\, artist\, and AI (Artificial Intelligence) researcher. Her traditional verse\, collaborative AI poetry\, and artwork based in binary code consider a post-human reality at the intersection of art and science. For Stiles\, technology and language are closely intertwined. She considers poetry a “data storage system” that helps us express and remember ideas. \nThere are opportunities to engage with the artist while on-view: \nOPEN LAB WITH ARTIST SASHA STILES \nFRIDAY\, FEBRUARY 17\, 6 – 8 PM \nFREE and open to the public \n\n  \nARTISTS IN DIALOGUE: NATHANIEL STERN & SASHA STILES\nFEBRUARY 18\, 10 AM – 12 PM \nPre-registered Event; free \nImage: Cursive Binary (detail) by Sasha Stiles.
URL:https://krasl.org/event/in-the-lab-sasha-stiles/
LOCATION:MI
CATEGORIES:Exhibition
ATTACH;FMTTYPE=image/jpeg:https://krasl.org/wp-content/uploads/2022/11/Sasha-Stiles-black.jpg
END:VEVENT
BEGIN:VEVENT
DTSTART;TZID=America/Detroit:20230412T170000
DTEND;TZID=America/Detroit:20230412T183000
DTSTAMP:20260422T214605
CREATED:20230317T153615Z
LAST-MODIFIED:20230317T153814Z
UID:10001066-1681318800-1681324200@krasl.org
SUMMARY:April Family Night at the Benton Harbor Public Library  - Earth Day
DESCRIPTION:Wednesday\, April 12\, 5:00 PM - 6:30 PM\nFree & Open to All Ages at the Benton Harbor Public Library\n  \nCreate a character and landscape with watercolor\, pastel\, and linework based on the works of Hayao Miyazaki’s masterpiece of animation Spirited Away. What can we learn from Studio Ghibli and director Miyazaki’s message about humankind’s environmental impact? How can we change our ways to help heal the earth?
URL:https://krasl.org/event/march-family-night-at-the-benton-harbor-public-library-earth-day/
LOCATION:Benton Harbor Public Library
CATEGORIES:Community Engagement,Event
ATTACH;FMTTYPE=image/jpeg:https://krasl.org/wp-content/uploads/2023/03/FN.04.Spirited_Away.jpg
END:VEVENT
BEGIN:VEVENT
DTSTART;VALUE=DATE:20230414
DTEND;VALUE=DATE:20230605
DTSTAMP:20260422T214605
CREATED:20230309T143014Z
LAST-MODIFIED:20241115T003415Z
UID:10001065-1681430400-1685923199@krasl.org
SUMMARY:In the Gallery\, Andy Sweet's South Beach
DESCRIPTION:Andy Sweet’s South Beach\nApril 15 – June 04\, 2023\n  \nIn the late 1970s\, Miami native Andy Sweet began photographing the elderly Jewish population of South Beach. In his early 20s at the time\, Sweet was drawn to this community that had been a part of his childhood memories. The photos capture an often-overlooked yet essential moment in Miami’s cultural heritage\, where eccentricity\, fun\, glamor\, and kitsch intertwine in celebratory images. Recently\, an exhibit featuring Sweet’s work drew a diverse crowd\, sparking conversations about how the past meets the present in Miami’s nightlife—everything from historic ballrooms to modern live casinos not on gamstop that now attract visitors seeking unique\, unrestricted gaming experiences. Sweet’s vibrant images offer a nostalgic reminder of Miami’s colorful past\, beautifully contrasting with its lively\, evolving present. \n\nExhibition Preview: Andy Sweet’s South Beach \nFriday\, April 14\, 6 – 8 pm \nFree & open to the public\, Krasl Art Center \nSport your favorite 1970s leisure wear and be among the first to see this fabulous new exhibit! \n\nCoffee with the Curator \nThursday\, April 20\, 12 pm \nFree & open to the public\, Krasl Art Center \nLearn about the 10-year photographic journey undertaken by young photographer Andy Sweet from Chief Curator Tami Fauver.  \n\nFilm Screening at Vickers Theatre: The Last Resort \nSunday\, May 7\, 1 pm \nFree pre-registered event. Vickers Theatre\, Three Oaks\, MI.  \nDiscover the bygone era of 1970s Miami beach\, a sunny and eccentric haven for Jewish retirees\, documented by photographers Andy Sweet and Gary Monroe.
URL:https://krasl.org/event/in-the-gallery-andy-sweets-south-beach/
LOCATION:Krasl Art Center\, 707 Lake Blvd\, St. Joseph\, MI\, 49085\, United States
CATEGORIES:Exhibition
ATTACH;FMTTYPE=image/jpeg:https://krasl.org/wp-content/uploads/2022/11/MainGalleries.AndySweet-1-e1678367216300.jpg
END:VEVENT
BEGIN:VEVENT
DTSTART;TZID=America/Detroit:20230414T180000
DTEND;TZID=America/Detroit:20230414T200000
DTSTAMP:20260422T214605
CREATED:20230309T130124Z
LAST-MODIFIED:20230316T154018Z
UID:10001062-1681495200-1681502400@krasl.org
SUMMARY:Exhibition Preview: ‘Andy Sweet’s South Beach'
DESCRIPTION:Friday\, April 14\, 6 – 8 pm\nFREE and open to the public\nAndy Sweet’s South Beach opens just in time for our own beach season with a preview celebration. Dust off your resort wear\, grab your sunglasses\, and enjoy a first look at Sweet’s delightful photography. Live music by Pan Chicago\, cash bar\, and lite bites provided. Introduction by archivist Edward Christin at 6 pm. \nPhotograph by Andy Sweet\, 1977 – 1980. Courtesy of Andy Sweet Photo Legacy.
URL:https://krasl.org/event/exhibition-preview-andy-sweets-south-beach/
LOCATION:Krasl Art Center\, 707 Lake Blvd\, St. Joseph\, MI\, 49085\, United States
CATEGORIES:Event
ATTACH;FMTTYPE=image/jpeg:https://krasl.org/wp-content/uploads/2023/03/AS-dye-transfer-Loud-Dresses-scaled-e1678464036103.jpg
END:VEVENT
END:VCALENDAR