BEGIN:VCALENDAR
VERSION:2.0
PRODID:-//Krasl Art Center - ECPv6.15.17.1//NONSGML v1.0//EN
CALSCALE:GREGORIAN
METHOD:PUBLISH
X-WR-CALNAME:Krasl Art Center
X-ORIGINAL-URL:https://krasl.org
X-WR-CALDESC:Events for Krasl Art Center
REFRESH-INTERVAL;VALUE=DURATION:PT1H
X-Robots-Tag:noindex
X-PUBLISHED-TTL:PT1H
BEGIN:VTIMEZONE
TZID:America/Detroit
BEGIN:DAYLIGHT
TZOFFSETFROM:-0500
TZOFFSETTO:-0400
TZNAME:EDT
DTSTART:20220313T070000
END:DAYLIGHT
BEGIN:STANDARD
TZOFFSETFROM:-0400
TZOFFSETTO:-0500
TZNAME:EST
DTSTART:20221106T060000
END:STANDARD
BEGIN:DAYLIGHT
TZOFFSETFROM:-0500
TZOFFSETTO:-0400
TZNAME:EDT
DTSTART:20230312T070000
END:DAYLIGHT
BEGIN:STANDARD
TZOFFSETFROM:-0400
TZOFFSETTO:-0500
TZNAME:EST
DTSTART:20231105T060000
END:STANDARD
BEGIN:DAYLIGHT
TZOFFSETFROM:-0500
TZOFFSETTO:-0400
TZNAME:EDT
DTSTART:20240310T070000
END:DAYLIGHT
BEGIN:STANDARD
TZOFFSETFROM:-0400
TZOFFSETTO:-0500
TZNAME:EST
DTSTART:20241103T060000
END:STANDARD
END:VTIMEZONE
BEGIN:VEVENT
DTSTART;VALUE=DATE:20230128
DTEND;VALUE=DATE:20230410
DTSTAMP:20260421T070047
CREATED:20221220T164947Z
LAST-MODIFIED:20221220T165013Z
UID:10001044-1674864000-1681084799@krasl.org
SUMMARY:In The Galleries: The World After Us
DESCRIPTION:“What will digital media be\, and do\, after us? Can we plan and act toward new and different futures?” The World After Us is a solo exhibition by Nathaniel Stern that begins with questions like these. The resulting installations\, sculptures\, prints\, and photographs use e-waste and plant life to explore the questions\, and their possible answers\, through a process of both scientific and artistic experimentation. \nExplore the exhibition through upcoming programs: \n\n\n\nEXHIBITION PREVIEW RECEPTION: THE WORLD AFTER US \nFRIDAY\, JANUARY 27\, 6 – 8 PM \nFREE and open to the public \n\n\nWORKSHOP WITH ARTIST NATHANIEL STERN\nSATURDAY\, JANUARY 28\, 10 AM – 12 PM \nPre-registered Event; free \n\n\nARTISTS IN DIALOGUE: NATHANIEL STERN & SASHA STILES\nSATURDAY\, FEBRUARY 18\, 10 AM – 12 PM \nPre-registered Event; free
URL:https://krasl.org/event/in-the-galleries-the-world-after-us/
LOCATION:MI
CATEGORIES:Exhibition
ATTACH;FMTTYPE=image/jpeg:https://krasl.org/wp-content/uploads/2022/11/The-Wall-tower-scaled.jpg
END:VEVENT
BEGIN:VEVENT
DTSTART;VALUE=DATE:20230218
DTEND;VALUE=DATE:20230417
DTSTAMP:20260421T070047
CREATED:20230102T180734Z
LAST-MODIFIED:20230102T181003Z
UID:10001048-1676678400-1681689599@krasl.org
SUMMARY:IN THE LAB: SASHA STILES
DESCRIPTION:Sasha Stiles is a poet\, artist\, and AI (Artificial Intelligence) researcher. Her traditional verse\, collaborative AI poetry\, and artwork based in binary code consider a post-human reality at the intersection of art and science. For Stiles\, technology and language are closely intertwined. She considers poetry a “data storage system” that helps us express and remember ideas. \nThere are opportunities to engage with the artist while on-view: \nOPEN LAB WITH ARTIST SASHA STILES \nFRIDAY\, FEBRUARY 17\, 6 – 8 PM \nFREE and open to the public \n\n  \nARTISTS IN DIALOGUE: NATHANIEL STERN & SASHA STILES\nFEBRUARY 18\, 10 AM – 12 PM \nPre-registered Event; free \nImage: Cursive Binary (detail) by Sasha Stiles.
URL:https://krasl.org/event/in-the-lab-sasha-stiles/
LOCATION:MI
CATEGORIES:Exhibition
ATTACH;FMTTYPE=image/jpeg:https://krasl.org/wp-content/uploads/2022/11/Sasha-Stiles-black.jpg
END:VEVENT
BEGIN:VEVENT
DTSTART;TZID=America/Detroit:20230306T180000
DTEND;TZID=America/Detroit:20230306T200000
DTSTAMP:20260421T070047
CREATED:20230220T133814Z
LAST-MODIFIED:20230303T184121Z
UID:10001051-1678125600-1678132800@krasl.org
SUMMARY:RESCHEDULED - Opening Night Costume Party - Coastline Children's Film Festival
DESCRIPTION:RESCHEDULE DOF RMONDAY\, MARCH 6\n6 – 8 pm\nFREE & open to the public\n  \nCalling all party animals! The film festival kicks off FRIDAY MARCH 3 with an OPENING NIGHT COSTUME PARTY at the Krasl Art Center. Come as your favorite animated character and you could win a prize for the most creative costume. Festivities begin at 6:00 pm with popcorn\, cupcakes and a music program featuring the First Grade Choir from South Elementary School (Watervliet) led by the amazing BRANDON MATTSON. KID FLICKS One\, a selection of animated and live action shorts from the New York International Children’s Film Festival (NYICFF)\, begins at 7:00 pm. Be ready to dance and partake in serious cupcake consumption. \nPresented in partnership with the New York International Children’s Film Festival. \n\nBATTERY DADDY\nSouth Korea\, Animation\,\nJeon Seung-bae\, 2021\, 6 min.\nIn Korean with English subtitles\nEveryone relies on attentive Battery Dad to keep things well-powered and smoothly-run\, but when a field trip’s downpour hits\, will he still have the power to keep his cool and save the day?
URL:https://krasl.org/event/opening-night-costume-party-coastline-childrens-film-festival/
LOCATION:Krasl Art Center\, 707 Lake Blvd\, St. Joseph\, MI\, 49085\, United States
CATEGORIES:Community Engagement,Event
ATTACH;FMTTYPE=image/jpeg:https://krasl.org/wp-content/uploads/2023/02/CCFF-Openning-Night.jpg
END:VEVENT
BEGIN:VEVENT
DTSTART;TZID=America/Detroit:20230308T170000
DTEND;TZID=America/Detroit:20230308T183000
DTSTAMP:20260421T070047
CREATED:20230303T183026Z
LAST-MODIFIED:20230303T183026Z
UID:10001058-1678294800-1678300200@krasl.org
SUMMARY:March Family Night at the Benton Harbor Public Library - Women's History Month
DESCRIPTION:Wednesday\, March 8\, 5:00 PM – 6:30 PM \nFree & Open to All Ages at the Benton Harbor Public Library \nCome explore mixed media collage art as we cut\, paste\, glue and paint! Our project is inspired by the book Tar Beach\, written by the American painter\, children’s book author\, mixed media quilter\, performance artist and activist\, Faith Ringgold. 
URL:https://krasl.org/event/march-family-night-at-the-benton-harbor-public-library-womens-history-month/
LOCATION:Benton Harbor Public Library
CATEGORIES:Event
ATTACH;FMTTYPE=image/jpeg:https://krasl.org/wp-content/uploads/2023/03/FN.03.jpg
END:VEVENT
BEGIN:VEVENT
DTSTART;TZID=America/Detroit:20230311T110000
DTEND;TZID=America/Detroit:20230311T123000
DTSTAMP:20260421T070047
CREATED:20230303T183218Z
LAST-MODIFIED:20230303T184053Z
UID:10001059-1678532400-1678537800@krasl.org
SUMMARY:March Family Day: CCFF Mixed Media & Imagination
DESCRIPTION:Saturday\, March 11\, 11:00 am – 12:30 pm  \nFREE & Open to All Ages \nInspired by the short film Star Bound by director Richard O’Connor (featured in Kid Flix One on view at KAC during the Opening Night Costume Party\, rescheduled for Monday\, March 6) Let’s explore outer space and imagine what would our ideal planet would look like. 
URL:https://krasl.org/event/march-family-day-ccff-mixed-media-imagination/
LOCATION:Krasl Art Center\, 707 Lake Blvd\, St. Joseph\, MI\, 49085\, United States
CATEGORIES:Event
ATTACH;FMTTYPE=image/jpeg:https://krasl.org/wp-content/uploads/2023/03/FD.03.jpeg
END:VEVENT
BEGIN:VEVENT
DTSTART;TZID=America/Detroit:20230311T143000
DTEND;TZID=America/Detroit:20230311T160000
DTSTAMP:20260421T070047
CREATED:20230228T144950Z
LAST-MODIFIED:20230228T144950Z
UID:10001057-1678545000-1678550400@krasl.org
SUMMARY:CCFF FILM SCREENING - ALFONS JITTERBIT-Class Trip Chaos
DESCRIPTION:CCFF March 3-12\n10 days of films and events for kids and their families\, all for free.\nPopcorn and water too! \nAlfons Jitterbacke – Class Trip Chaos 2022 Germany subtitles 90 min 10+ \nIn a last-minute dash across town\, Alfons just barely manages to catch the bus for his class trip to the Baltic Sea. In his luggage: lots of adventures\, funny pranks and … disaster – his mother’s clothes?! Alfons can’t believe he accidentally mixed up the suitcases\, just when he was planning on showing his new classmate Leonie how cool he is. In a desperate bid to impress her – and to the astonishment of his best friends Benni and Emilia – Alfons comes up with a bright idea: he will run for class president. Unfortunately\, his arch-enemy Nico immediately realizes that Alfons is only doing it to impress Leonie and challenges him to a stupid bet. So\, the fun continues and Alfons’ fate as an eternal jinx takes its usual course! To make matters worse\, his teacher Herr Flickendorf is just waiting for something to go wrong so he can pounce and send Alfons home. Flying macaroni with tomato sauce\, exciting nights around the campfire and a dangerous climbing tour turn the class trip into one that Alfons and his friends will never forget.
URL:https://krasl.org/event/ccff-film-screening-alfons-jitterbit-class-trip-chaos/
LOCATION:Krasl Art Center\, 707 Lake Blvd\, St. Joseph\, MI\, 49085\, United States
CATEGORIES:Community Engagement,Event
ATTACH;FMTTYPE=image/jpeg:https://krasl.org/wp-content/uploads/2023/02/CCFF-March-11.jpg
END:VEVENT
END:VCALENDAR