BEGIN:VCALENDAR
VERSION:2.0
PRODID:-//Krasl Art Center - ECPv6.15.17.1//NONSGML v1.0//EN
CALSCALE:GREGORIAN
METHOD:PUBLISH
X-WR-CALNAME:Krasl Art Center
X-ORIGINAL-URL:https://krasl.org
X-WR-CALDESC:Events for Krasl Art Center
REFRESH-INTERVAL;VALUE=DURATION:PT1H
X-Robots-Tag:noindex
X-PUBLISHED-TTL:PT1H
BEGIN:VTIMEZONE
TZID:America/Detroit
BEGIN:DAYLIGHT
TZOFFSETFROM:-0500
TZOFFSETTO:-0400
TZNAME:EDT
DTSTART:20220313T070000
END:DAYLIGHT
BEGIN:STANDARD
TZOFFSETFROM:-0400
TZOFFSETTO:-0500
TZNAME:EST
DTSTART:20221106T060000
END:STANDARD
BEGIN:DAYLIGHT
TZOFFSETFROM:-0500
TZOFFSETTO:-0400
TZNAME:EDT
DTSTART:20230312T070000
END:DAYLIGHT
BEGIN:STANDARD
TZOFFSETFROM:-0400
TZOFFSETTO:-0500
TZNAME:EST
DTSTART:20231105T060000
END:STANDARD
BEGIN:DAYLIGHT
TZOFFSETFROM:-0500
TZOFFSETTO:-0400
TZNAME:EDT
DTSTART:20240310T070000
END:DAYLIGHT
BEGIN:STANDARD
TZOFFSETFROM:-0400
TZOFFSETTO:-0500
TZNAME:EST
DTSTART:20241103T060000
END:STANDARD
END:VTIMEZONE
BEGIN:VEVENT
DTSTART;VALUE=DATE:20230128
DTEND;VALUE=DATE:20230410
DTSTAMP:20260422T054524
CREATED:20221220T164947Z
LAST-MODIFIED:20221220T165013Z
UID:10001044-1674864000-1681084799@krasl.org
SUMMARY:In The Galleries: The World After Us
DESCRIPTION:“What will digital media be\, and do\, after us? Can we plan and act toward new and different futures?” The World After Us is a solo exhibition by Nathaniel Stern that begins with questions like these. The resulting installations\, sculptures\, prints\, and photographs use e-waste and plant life to explore the questions\, and their possible answers\, through a process of both scientific and artistic experimentation. \nExplore the exhibition through upcoming programs: \n\n\n\nEXHIBITION PREVIEW RECEPTION: THE WORLD AFTER US \nFRIDAY\, JANUARY 27\, 6 – 8 PM \nFREE and open to the public \n\n\nWORKSHOP WITH ARTIST NATHANIEL STERN\nSATURDAY\, JANUARY 28\, 10 AM – 12 PM \nPre-registered Event; free \n\n\nARTISTS IN DIALOGUE: NATHANIEL STERN & SASHA STILES\nSATURDAY\, FEBRUARY 18\, 10 AM – 12 PM \nPre-registered Event; free
URL:https://krasl.org/event/in-the-galleries-the-world-after-us/
LOCATION:MI
CATEGORIES:Exhibition
ATTACH;FMTTYPE=image/jpeg:https://krasl.org/wp-content/uploads/2022/11/The-Wall-tower-scaled.jpg
END:VEVENT
BEGIN:VEVENT
DTSTART;TZID=America/Detroit:20230208T170000
DTEND;TZID=America/Detroit:20230208T183000
DTSTAMP:20260422T054524
CREATED:20230130T202335Z
LAST-MODIFIED:20230130T202335Z
UID:10001050-1675875600-1675881000@krasl.org
SUMMARY:February Family Night - Freedom
DESCRIPTION:Wednesday\, February 8\, 5:00 PM – 6:30 PM \nFree & Open to All Ages at the Benton Harbor Public Library \nEnslaved people of African descent used secret messages encoded into songs and sewn into quilts to safely traverse the Underground Railroad Network. Learn about the history of the designs used in these quilt squares by freedom seekers. We will make squares like Crossroads\, Shoofly\, and North Star by utilizing paper cutting and collage techniques.
URL:https://krasl.org/event/february-family-night-freedom/
LOCATION:Benton Harbor Public Library
CATEGORIES:Community Engagement,Event
ATTACH;FMTTYPE=image/jpeg:https://krasl.org/wp-content/uploads/2023/01/image0000-e1675110162246.jpg
END:VEVENT
BEGIN:VEVENT
DTSTART;TZID=America/Detroit:20230211T110000
DTEND;TZID=America/Detroit:20230211T123000
DTSTAMP:20260422T054524
CREATED:20230125T195747Z
LAST-MODIFIED:20230125T195747Z
UID:10001049-1676113200-1676118600@krasl.org
SUMMARY:FEBRUARY FAMILY DAY: TECHNO AESTHETIC FUTURES: UPCYCLED/DISCARDED LIVING SCULPTURES
DESCRIPTION:Saturday\, February 11\, 11:00 am – 12:30 pm\nFREE & Open to All Ages\nInspired by the works of Nathaniel Stern\, we will combine scientific experimentation with artistic exploration by taking what would otherwise be considered unnecessary waste\, and turning it into living sculptures. \n  \nJoin us every second Saturday from 11 am – 12:30 pm for free and fun art activities for families at Krasl Art Center.
URL:https://krasl.org/event/february-family-day-techno-aesthetic-futures-upcycled-discarded-living-sculptures/
LOCATION:Krasl Art Center\, 707 Lake Blvd\, St. Joseph\, MI\, 49085\, United States
CATEGORIES:Community Engagement,Event
ATTACH;FMTTYPE=image/jpeg:https://krasl.org/wp-content/uploads/2022/11/stkateinstall3-scaled.jpg
END:VEVENT
END:VCALENDAR