BEGIN:VCALENDAR
VERSION:2.0
PRODID:-//Krasl Art Center - ECPv6.15.17.1//NONSGML v1.0//EN
CALSCALE:GREGORIAN
METHOD:PUBLISH
X-WR-CALNAME:Krasl Art Center
X-ORIGINAL-URL:https://krasl.org
X-WR-CALDESC:Events for Krasl Art Center
REFRESH-INTERVAL;VALUE=DURATION:PT1H
X-Robots-Tag:noindex
X-PUBLISHED-TTL:PT1H
BEGIN:VTIMEZONE
TZID:America/Detroit
BEGIN:DAYLIGHT
TZOFFSETFROM:-0500
TZOFFSETTO:-0400
TZNAME:EDT
DTSTART:20210314T070000
END:DAYLIGHT
BEGIN:STANDARD
TZOFFSETFROM:-0400
TZOFFSETTO:-0500
TZNAME:EST
DTSTART:20211107T060000
END:STANDARD
BEGIN:DAYLIGHT
TZOFFSETFROM:-0500
TZOFFSETTO:-0400
TZNAME:EDT
DTSTART:20220313T070000
END:DAYLIGHT
BEGIN:STANDARD
TZOFFSETFROM:-0400
TZOFFSETTO:-0500
TZNAME:EST
DTSTART:20221106T060000
END:STANDARD
BEGIN:DAYLIGHT
TZOFFSETFROM:-0500
TZOFFSETTO:-0400
TZNAME:EDT
DTSTART:20230312T070000
END:DAYLIGHT
BEGIN:STANDARD
TZOFFSETFROM:-0400
TZOFFSETTO:-0500
TZNAME:EST
DTSTART:20231105T060000
END:STANDARD
END:VTIMEZONE
BEGIN:VEVENT
DTSTART;VALUE=DATE:20220305
DTEND;VALUE=DATE:20220327
DTSTAMP:20260421T204522
CREATED:20220214T194655Z
LAST-MODIFIED:20220214T194655Z
UID:10000975-1646438400-1648339199@krasl.org
SUMMARY:2022 Community Student Art Exhibition at The Box Factory – Elementary School Artists
DESCRIPTION:Each year\, Berrien RESA\, The Box Factory for the Arts\, and Krasl Art Center work together to present two amazing community art exhibitions\, one for elementary students and one for middle school and high school students. \nIn addition to being on-view March 5 – 26\, all works in the middle & high school exhibition will also be featured in the curated online gallery beginning March 5 at https://communitystudentartexhibition.smugmug.com/ \nThese exhibitions provide important opportunities for school children from Berrien\, Cass\, and Van Buren Counties to exhibit their artwork at The Box Factory for the Arts through Spring of 2022. \n2022 Awards Ceremonies \nCelebrate the creativity of our young artists at the awards ceremonies. Both pre-recorded ceremonies will be listed on KAC’s YouTube page\, youtube.com/user/KraslArtCenter/videos . The middle & high school program will be published on April 16.  \nAll artworks will be on view at The Box Factory for the Arts. The middle & high school exhibition is on-view April 9 – 24. \nThe Box is open Thursday – Sunday\, 12 – 4 PM.  \nThe 2022 Community Art Exhibition is sponsored by Stonegate Plastic Surgery of Lakeland\, South Shore Women’s Health Care\, and Paul & Dorothy Cayo in Memory of their Daughter Sarah. Additional exhibition support from Barrett & Driscoll Pediatrics. Framing provided by Papachi International Custom Framing. Program support provided in part by Michigan Council for the Arts & Cultural Affairs\, National Endowment for the Arts\, and Frederick S. Upton Foundation.
URL:https://krasl.org/event/2022-community-student-art-exhibition-at-the-box-factory-elementary-school-artists/
LOCATION:Box Factory for the Arts\, 1101 Broad St\, St Joseph\, MI\, United States
ATTACH;FMTTYPE=image/jpeg:https://krasl.org/wp-content/uploads/2022/02/ElementaryCommunityShow-FB-ComCal-Image-01-03-scaled.jpg
END:VEVENT
BEGIN:VEVENT
DTSTART;VALUE=DATE:20220307
DTEND;VALUE=DATE:20220312
DTSTAMP:20260421T204522
CREATED:20220307T141811Z
LAST-MODIFIED:20220307T141811Z
UID:10000985-1646611200-1647043199@krasl.org
SUMMARY:INSTALL WEEK - BROKEN ALPHABET
DESCRIPTION:Explore The Shop and The Lounge as our curatorial team installs the next exhibition in The Lab – Broken Alphabet: a love letter to Graffiti. \nThe new exhibition opens Saturday\, March 12.
URL:https://krasl.org/event/install-week-broken-alphabet/
LOCATION:Krasl Art Center\, 707 Lake Blvd\, St. Joseph\, MI\, 49085\, United States
ATTACH;FMTTYPE=image/jpeg:https://krasl.org/wp-content/uploads/2022/02/Untitled_Artwork-scaled.jpeg
END:VEVENT
BEGIN:VEVENT
DTSTART;VALUE=DATE:20220308
DTEND;VALUE=DATE:20220309
DTSTAMP:20260421T204522
CREATED:20220118T141416Z
LAST-MODIFIED:20220118T141416Z
UID:10000960-1646697600-1646783999@krasl.org
SUMMARY:KAC Closed
DESCRIPTION:Krasl Art Center is closed Tuesdays and Sundays through March 2022.
URL:https://krasl.org/event/kac-closed/2022-03-08/
LOCATION:MI
ATTACH;FMTTYPE=image/jpeg:https://krasl.org/wp-content/uploads/2021/09/KAC_UpdatedFallEventImage-scaled.jpg
END:VEVENT
BEGIN:VEVENT
DTSTART;TZID=America/Detroit:20220310T120000
DTEND;TZID=America/Detroit:20220310T123000
DTSTAMP:20260421T204522
CREATED:20220224T210240Z
LAST-MODIFIED:20220303T151052Z
UID:10000981-1646913600-1646915400@krasl.org
SUMMARY:Live at Lunchtime: Behind the Scenes Installing 'Broken Alphabet'
DESCRIPTION:THURSDAY\, MARCH 10\, 12 PM\nFREE ON FACEBOOK LIVE \nKAC has a new exhibition in The Lab! \nSee how we are installing Broken Alphabet: A love letter to Graffiti  by ASMA Speeks..
URL:https://krasl.org/event/live-at-lunchtime-behind-the-scenes-installing-broken-alphabet/
LOCATION:Krasl Art Center\, 707 Lake Blvd\, St. Joseph\, MI\, 49085\, United States
CATEGORIES:Event
ATTACH;FMTTYPE=image/jpeg:https://krasl.org/wp-content/uploads/2022/02/IMG_9114-scaled.jpg
END:VEVENT
BEGIN:VEVENT
DTSTART;VALUE=DATE:20220312
DTEND;VALUE=DATE:20220516
DTSTAMP:20260421T204522
CREATED:20220303T150515Z
LAST-MODIFIED:20220303T152657Z
UID:10000984-1647043200-1652659199@krasl.org
SUMMARY:IN THE LAB: BROKEN ALPHABET
DESCRIPTION:With over a decade of experience\, Guillermo ‘ASMA Speeks’ Sotelo brings graffiti indoors to reveal insights to the process\, share the history and technique\, and change the stigma around this ancient art form. \nLearn more about the work on view at KAC by clicking here. \nLearn more about the work on view during special tours\, artist talks\, and virtual events: \n\nLive at Lunchtime: Behind the Scenes Installing ‘Broken Alphabet’ \nTHURSDAY\, MARCH 10\, 12 PM\nFree on Facebook Live\n\nLIVE AT LUNCHTIME FOCUS TALK: ASMA SPEEKS \nTHURSDAY\, MARCH 17\, 12 PM\nFree on Facebook Live\n\nARTIST TALK & RECEPTION: THE HISTORY OF GRAFFITI WITH ASMA SPEEKS\n\nSATURDAY\, APRIL 9 11 AM - 1 PM\nFree In-person Event
URL:https://krasl.org/event/in-the-lab-broken-alphabet/
LOCATION:Krasl Art Center\, 707 Lake Blvd\, St. Joseph\, MI\, 49085\, United States
CATEGORIES:Exhibition
ATTACH;FMTTYPE=image/jpeg:https://krasl.org/wp-content/uploads/2022/02/IMG_1027-scaled-e1645736440256.jpeg
END:VEVENT
BEGIN:VEVENT
DTSTART;TZID=America/Detroit:20220312T110000
DTEND;TZID=America/Detroit:20220312T123000
DTSTAMP:20260421T204522
CREATED:20220217T174916Z
LAST-MODIFIED:20220217T174916Z
UID:10000977-1647082800-1647088200@krasl.org
SUMMARY:March Family Day - Terracotta Pot Painting
DESCRIPTION:Saturday\, March 12\, 2022\n11 AM – 12:30 PM\nFREE & OPEN TO ALL AGES\n* Masks Required\n** SPACE LIMITED REGISTRATION REQUIRED\n\n  \nSpring is almost here! Prepare for the thaw by painting terracotta pots for your favorite flowers with Miss Dani during KAC’s Free Family Days. \n**Registration Required. 1 spot = Up to 2 participants.
URL:https://krasl.org/event/march-family-day-terracotta-pot-painting/
LOCATION:Krasl Art Center\, 707 Lake Blvd\, St. Joseph\, MI\, 49085\, United States
CATEGORIES:Exhibition
ATTACH;FMTTYPE=image/jpeg:https://krasl.org/wp-content/uploads/2022/02/IMG-8080-scaled.jpg
END:VEVENT
BEGIN:VEVENT
DTSTART;VALUE=DATE:20220313
DTEND;VALUE=DATE:20220314
DTSTAMP:20260421T204522
CREATED:20220118T141416Z
LAST-MODIFIED:20220118T141416Z
UID:10000961-1647129600-1647215999@krasl.org
SUMMARY:KAC Closed
DESCRIPTION:Krasl Art Center is closed Tuesdays and Sundays through March 2022.
URL:https://krasl.org/event/kac-closed/2022-03-13/
LOCATION:MI
ATTACH;FMTTYPE=image/jpeg:https://krasl.org/wp-content/uploads/2021/09/KAC_UpdatedFallEventImage-scaled.jpg
END:VEVENT
END:VCALENDAR