BEGIN:VCALENDAR
VERSION:2.0
PRODID:-//Krasl Art Center - ECPv6.15.17.1//NONSGML v1.0//EN
CALSCALE:GREGORIAN
METHOD:PUBLISH
X-ORIGINAL-URL:https://krasl.org
X-WR-CALDESC:Events for Krasl Art Center
REFRESH-INTERVAL;VALUE=DURATION:PT1H
X-Robots-Tag:noindex
X-PUBLISHED-TTL:PT1H
BEGIN:VTIMEZONE
TZID:America/Detroit
BEGIN:DAYLIGHT
TZOFFSETFROM:-0500
TZOFFSETTO:-0400
TZNAME:EDT
DTSTART:20210314T070000
END:DAYLIGHT
BEGIN:STANDARD
TZOFFSETFROM:-0400
TZOFFSETTO:-0500
TZNAME:EST
DTSTART:20211107T060000
END:STANDARD
BEGIN:DAYLIGHT
TZOFFSETFROM:-0500
TZOFFSETTO:-0400
TZNAME:EDT
DTSTART:20220313T070000
END:DAYLIGHT
BEGIN:STANDARD
TZOFFSETFROM:-0400
TZOFFSETTO:-0500
TZNAME:EST
DTSTART:20221106T060000
END:STANDARD
BEGIN:DAYLIGHT
TZOFFSETFROM:-0500
TZOFFSETTO:-0400
TZNAME:EDT
DTSTART:20230312T070000
END:DAYLIGHT
BEGIN:STANDARD
TZOFFSETFROM:-0400
TZOFFSETTO:-0500
TZNAME:EST
DTSTART:20231105T060000
END:STANDARD
END:VTIMEZONE
BEGIN:VEVENT
DTSTART;VALUE=DATE:20220122
DTEND;VALUE=DATE:20220307
DTSTAMP:20260422T005640
CREATED:20220117T162219Z
LAST-MODIFIED:20220117T162350Z
UID:10000944-1642809600-1646611199@krasl.org
SUMMARY:IN THE LAB: KRASL ART CENTER COLLECTION
DESCRIPTION:January 22 – March 6\, 2022 \nAn intimate display of small-scale sculptures and maquettes (models for larger sculptures) from Krasl Art Center’s collection will introduce you to new artworks\, build on well-known public art within the community\, and invite you to consider sculpture more deeply. \n*Beginning January 18\, The Galleries will be closed temporarily for HVAC updates. Keeping proper humidity and temperature is crucial to safely exhibit great art. The Lab\, The Shop\, and The Lounge will remain free and open to the public during this time.
URL:https://krasl.org/event/in-the-lab-krasl-art-center-collection/
LOCATION:MI
CATEGORIES:Exhibition
ATTACH;FMTTYPE=image/jpeg:https://krasl.org/wp-content/uploads/2022/01/IMG_2383-scaled.jpg
END:VEVENT
BEGIN:VEVENT
DTSTART;VALUE=DATE:20220222
DTEND;VALUE=DATE:20220223
DTSTAMP:20260422T005640
CREATED:20220118T141416Z
LAST-MODIFIED:20220118T141416Z
UID:10000956-1645488000-1645574399@krasl.org
SUMMARY:KAC Closed
DESCRIPTION:Krasl Art Center is closed Tuesdays and Sundays through March 2022.
URL:https://krasl.org/event/kac-closed/2022-02-22/
LOCATION:MI
ATTACH;FMTTYPE=image/jpeg:https://krasl.org/wp-content/uploads/2021/09/KAC_UpdatedFallEventImage-scaled.jpg
END:VEVENT
BEGIN:VEVENT
DTSTART;TZID=America/Detroit:20220224T120000
DTEND;TZID=America/Detroit:20220224T123000
DTSTAMP:20260422T005640
CREATED:20220210T204247Z
LAST-MODIFIED:20220210T205255Z
UID:10000973-1645704000-1645705800@krasl.org
SUMMARY:LIVE AT LUNCHTIME: PUBLIC ART WITH MATTHEW BIZOE
DESCRIPTION:New conversations related to KAC’s sculpture collection and our community’s long-standing tradition of outdoor art. We’ll hear from KAC’s Marketing Manager and how you can interact with public sculpture at KAC. \nThursdays at Noon on Facebook Live
URL:https://krasl.org/event/live-at-lunchtime-public-art-with-matthew-bizoe/
LOCATION:MI
CATEGORIES:Event
ATTACH;FMTTYPE=image/jpeg:https://krasl.org/wp-content/uploads/2022/02/IMG_6980-e1644525803213.jpg
END:VEVENT
BEGIN:VEVENT
DTSTART;VALUE=DATE:20220227
DTEND;VALUE=DATE:20220228
DTSTAMP:20260422T005640
CREATED:20220118T141416Z
LAST-MODIFIED:20220118T141416Z
UID:10000957-1645920000-1646006399@krasl.org
SUMMARY:KAC Closed
DESCRIPTION:Krasl Art Center is closed Tuesdays and Sundays through March 2022.
URL:https://krasl.org/event/kac-closed/2022-02-27/
LOCATION:MI
ATTACH;FMTTYPE=image/jpeg:https://krasl.org/wp-content/uploads/2021/09/KAC_UpdatedFallEventImage-scaled.jpg
END:VEVENT
END:VCALENDAR