BEGIN:VCALENDAR
VERSION:2.0
PRODID:-//Krasl Art Center - ECPv6.15.17.1//NONSGML v1.0//EN
CALSCALE:GREGORIAN
METHOD:PUBLISH
X-ORIGINAL-URL:https://krasl.org
X-WR-CALDESC:Events for Krasl Art Center
REFRESH-INTERVAL;VALUE=DURATION:PT1H
X-Robots-Tag:noindex
X-PUBLISHED-TTL:PT1H
BEGIN:VTIMEZONE
TZID:America/Detroit
BEGIN:DAYLIGHT
TZOFFSETFROM:-0500
TZOFFSETTO:-0400
TZNAME:EDT
DTSTART:20200308T070000
END:DAYLIGHT
BEGIN:STANDARD
TZOFFSETFROM:-0400
TZOFFSETTO:-0500
TZNAME:EST
DTSTART:20201101T060000
END:STANDARD
BEGIN:DAYLIGHT
TZOFFSETFROM:-0500
TZOFFSETTO:-0400
TZNAME:EDT
DTSTART:20210314T070000
END:DAYLIGHT
BEGIN:STANDARD
TZOFFSETFROM:-0400
TZOFFSETTO:-0500
TZNAME:EST
DTSTART:20211107T060000
END:STANDARD
BEGIN:DAYLIGHT
TZOFFSETFROM:-0500
TZOFFSETTO:-0400
TZNAME:EDT
DTSTART:20220313T070000
END:DAYLIGHT
BEGIN:STANDARD
TZOFFSETFROM:-0400
TZOFFSETTO:-0500
TZNAME:EST
DTSTART:20221106T060000
END:STANDARD
BEGIN:DAYLIGHT
TZOFFSETFROM:-0500
TZOFFSETTO:-0400
TZNAME:EDT
DTSTART:20230312T070000
END:DAYLIGHT
BEGIN:STANDARD
TZOFFSETFROM:-0400
TZOFFSETTO:-0500
TZNAME:EST
DTSTART:20231105T060000
END:STANDARD
END:VTIMEZONE
BEGIN:VEVENT
DTSTART;VALUE=DATE:20211204
DTEND;VALUE=DATE:20220118
DTSTAMP:20260423T191746
CREATED:20211116T185022Z
LAST-MODIFIED:20211116T185022Z
UID:10000938-1638576000-1642463999@krasl.org
SUMMARY:'21 KAC Members' Show: Resiliency Redux Programing
DESCRIPTION:2021 MEMBERS’ SHOW: RESILIENCY REDUX\nDECEMBER 04\, 2021 - JANUARY 17\, 2022\nFREE & OPEN TO THE PUBLIC\n \n\nEXHIBITION PREVIEW EVENING\n\n \n\n 	FRIDAY\, DECEMBER 3\n 	Free & Open to the Public\n\n 	5:30 PM: MUSIC IN THE GALLERIES\n 	6 – 8 PM: PREVIEW PARTY\n\n\n\n \n\n\n\n \n\nVIRTUAL COFFEE WITH THE CURATOR\n\n \n\n 	THURSDAY\, DECEMBER 9\, 12 PM \n 	FREE on Facebook Live\n\n \n\n\n\n \n\nTHIRD THURSDAY ART EVENT: MEMBER-LED TOUR\n\n \n\n 	THURSDAY\, DECEMBER 16\, 7 PM\n 	Free In-person Event; Advance Registration Required.\n\n \n\n\n\n \n\nLIVE AT LUNCHTIME FOCUS TALKS\n\n \n\n 	EVERY THURSDAY AT NOON\n 	Free Virtual Event Live on KAC’s Facebook Page
URL:https://krasl.org/event/21-kac-members-show-resiliency-redux-programing/
LOCATION:Krasl Art Center\, 707 Lake Blvd\, St. Joseph\, MI\, 49085\, United States
CATEGORIES:Exhibition
ATTACH;FMTTYPE=image/jpeg:https://krasl.org/wp-content/uploads/2021/11/MembersShow-1.jpg
END:VEVENT
BEGIN:VEVENT
DTSTART;VALUE=DATE:20211220
DTEND;VALUE=DATE:20211221
DTSTAMP:20260423T191746
CREATED:20210823T193155Z
LAST-MODIFIED:20210823T193155Z
UID:10000911-1639958400-1640044799@krasl.org
SUMMARY:Registration Deadline - Krasl Art Center Youth Winter Break Camps
DESCRIPTION:Get creative during Winter Break with Krasl Art Center’s youth camps designed for students ages 5–8 and 9–12. Camps are $45 ($35 for KAC Members) and run December 27–30\, register by December 20 and learn about scholarship opportunities at krasl.org/education/youth/camps/ \n\nAll camps are scheduled to be in-person with limited studio capacities. Enrolled students will receive COVID policy updates before classes begin. Krasl Art Center will follow current health guidelines in December — masks are currently required in KAC studios. \n\nYOUTH CAMPS \nYC.57.1: WINTER ABSTRACTION DISTRACTION \n– – 5–7 YRS | MON. DEC. 27\, 9 AM – 12 PM \n\nYC.57.2: MINI SKI SLOPE RACING \n– – 5–7 YRS | TUES. DEC. 28\, 9 AM – 12 PM \n\nYC.57.3: GELLI-PLATE PRINTMAKING \n– – 5–7 YRS | WED. DEC. 29\, 9 AM – 12 PM \n\nYC.57.4: PENGUIN ROCKETS \n– – 5–7 YRS | THURS. DEC. 30\, 9 AM – 12 PM \n\nYC.812.1: ARCTIC ANIMAL PAINTING \n– – 8–12 YRS | MON. DEC. 27\, 9 AM – 12 PM \n\nYC.812.2: MINI SKI SLOPE RACING \n– – 8–12 YRS | TUES. DEC. 28\, 9 AM – 12 PM \n\nYC.812.3: HOLIDAY CLAYMATION \n– – 8–12 YRS | WED. DEC. 29\, 9 AM –12 PM \n\nYC.812.4: YETI MARIONETTES \n– – 8–12 YRS | THURS. DEC. 30\, 9 AM – 12 PM
URL:https://krasl.org/event/registration-deadline-krasl-art-center-youth-winter-break-camps-2/
LOCATION:Krasl Art Center\, 707 Lake Blvd\, St. Joseph\, MI\, 49085\, United States
CATEGORIES:Community Engagement,Class,Visiting Artist,Event,Exhibition
ORGANIZER;CN="Matthew":MAILTO:marketing@krasl.org
END:VEVENT
BEGIN:VEVENT
DTSTART;TZID=America/Detroit:20211220T110000
DTEND;TZID=America/Detroit:20211220T170000
DTSTAMP:20260423T191746
CREATED:20210809T140044Z
LAST-MODIFIED:20211117T162032Z
UID:10000906-1639998000-1640019600@krasl.org
SUMMARY:Registration Deadline - Krasl Art Center Youth Winter Break Camps
DESCRIPTION:Get creative during Winter Break with Krasl Art Center’s youth camps designed for students ages 5–8 and 9–12. Camps are $45 ($35 for KAC Members) and run December 27–30\, register by December 20 and learn about scholarship opportunities HERE.\nAll camps are scheduled to be in-person with limited studio capacities. Enrolled students will receive COVID policy updates before classes begin. Krasl Art Center will follow current health guidelines in December — masks are currently required in KAC studios.
URL:https://krasl.org/event/registration-deadline-krasl-art-center-youth-winter-break-camps/
LOCATION:Krasl Art Center\, 707 Lake Blvd\, St. Joseph\, MI\, 49085\, United States
CATEGORIES:Class
ATTACH;FMTTYPE=image/jpeg:https://krasl.org/wp-content/uploads/2021/08/YC.812.4-Yeti-Marionettes-scaled.jpg
END:VEVENT
BEGIN:VEVENT
DTSTART;TZID=America/Detroit:20211223T120000
DTEND;TZID=America/Detroit:20211223T123000
DTSTAMP:20260423T191746
CREATED:20211101T154745Z
LAST-MODIFIED:20211227T151635Z
UID:10000934-1640260800-1640262600@krasl.org
SUMMARY:Live at Lunchtime Focus Talks
DESCRIPTION:EVERY THURSDAY AT NOON \nFree Virtual Event Live on KAC’s Facebook Page \nHear from a different Member Artist each week: \n\nDecember 2 – Behind the Scenes – Installing Resiliency Redux\nDecember 9 – Coffee with the Curator\nDecember 16 – Lea Bult & David Baker\nDecember 23 – Sue Lea\nDecember 30 – Rick Ott and Roger Harvery\nJanuary 6 – Winner of the People’s Choice Award – Kristin Hosbein
URL:https://krasl.org/event/live-at-lunchtime-focus-talks-4-2021-12-16/2021-12-23/
LOCATION:MI
CATEGORIES:Event
ATTACH;FMTTYPE=image/jpeg:https://krasl.org/wp-content/uploads/2021/11/Live-at-Lunch-Screen-Shot-1.jpg
END:VEVENT
END:VCALENDAR