BEGIN:VCALENDAR
VERSION:2.0
PRODID:-//Krasl Art Center - ECPv6.15.17.1//NONSGML v1.0//EN
CALSCALE:GREGORIAN
METHOD:PUBLISH
X-WR-CALNAME:Krasl Art Center
X-ORIGINAL-URL:https://krasl.org
X-WR-CALDESC:Events for Krasl Art Center
REFRESH-INTERVAL;VALUE=DURATION:PT1H
X-Robots-Tag:noindex
X-PUBLISHED-TTL:PT1H
BEGIN:VTIMEZONE
TZID:America/Detroit
BEGIN:DAYLIGHT
TZOFFSETFROM:-0500
TZOFFSETTO:-0400
TZNAME:EDT
DTSTART:20200308T070000
END:DAYLIGHT
BEGIN:STANDARD
TZOFFSETFROM:-0400
TZOFFSETTO:-0500
TZNAME:EST
DTSTART:20201101T060000
END:STANDARD
BEGIN:DAYLIGHT
TZOFFSETFROM:-0500
TZOFFSETTO:-0400
TZNAME:EDT
DTSTART:20210314T070000
END:DAYLIGHT
BEGIN:STANDARD
TZOFFSETFROM:-0400
TZOFFSETTO:-0500
TZNAME:EST
DTSTART:20211107T060000
END:STANDARD
BEGIN:DAYLIGHT
TZOFFSETFROM:-0500
TZOFFSETTO:-0400
TZNAME:EDT
DTSTART:20220313T070000
END:DAYLIGHT
BEGIN:STANDARD
TZOFFSETFROM:-0400
TZOFFSETTO:-0500
TZNAME:EST
DTSTART:20221106T060000
END:STANDARD
BEGIN:DAYLIGHT
TZOFFSETFROM:-0500
TZOFFSETTO:-0400
TZNAME:EDT
DTSTART:20230312T070000
END:DAYLIGHT
BEGIN:STANDARD
TZOFFSETFROM:-0400
TZOFFSETTO:-0500
TZNAME:EST
DTSTART:20231105T060000
END:STANDARD
END:VTIMEZONE
BEGIN:VEVENT
DTSTART;TZID=America/Detroit:20211203T173000
DTEND;TZID=America/Detroit:20211203T200000
DTSTAMP:20260423T060717
CREATED:20211101T154458Z
LAST-MODIFIED:20211116T182114Z
UID:10000931-1638552600-1638561600@krasl.org
SUMMARY:2021 Members' Exhibition: Resilience Redux Preview Evening
DESCRIPTION:FRIDAY\, DECEMBER 3  | 5:30 - 8 PM\nFree & Open to the Public\n  \n\n5:30 PM: MUSIC IN THE GALLERIES\n\n\n6 – 8 PM: PREVIEW PARTY\n\n  \nFeaturing music by Erick Oneal Fisher\, a saxophonist who shifts the atmosphere through jazz and R&B. Arrive early at 5:30 PM to enjoy a quieter moment with the music and art; at 6 PM the festivities pick up while the music continues in the background.
URL:https://krasl.org/event/2021-members-exhibition-resilience-redux-preview-evening/
LOCATION:MI
CATEGORIES:Visiting Artist,Event
ATTACH;FMTTYPE=image/jpeg:https://krasl.org/wp-content/uploads/2021/11/3B-optional-3-2.jpg
END:VEVENT
BEGIN:VEVENT
DTSTART;VALUE=DATE:20211204
DTEND;VALUE=DATE:20220118
DTSTAMP:20260423T060717
CREATED:20211116T185022Z
LAST-MODIFIED:20211116T185022Z
UID:10000938-1638576000-1642463999@krasl.org
SUMMARY:'21 KAC Members' Show: Resiliency Redux Programing
DESCRIPTION:2021 MEMBERS’ SHOW: RESILIENCY REDUX\nDECEMBER 04\, 2021 - JANUARY 17\, 2022\nFREE & OPEN TO THE PUBLIC\n \n\nEXHIBITION PREVIEW EVENING\n\n \n\n 	FRIDAY\, DECEMBER 3\n 	Free & Open to the Public\n\n 	5:30 PM: MUSIC IN THE GALLERIES\n 	6 – 8 PM: PREVIEW PARTY\n\n\n\n \n\n\n\n \n\nVIRTUAL COFFEE WITH THE CURATOR\n\n \n\n 	THURSDAY\, DECEMBER 9\, 12 PM \n 	FREE on Facebook Live\n\n \n\n\n\n \n\nTHIRD THURSDAY ART EVENT: MEMBER-LED TOUR\n\n \n\n 	THURSDAY\, DECEMBER 16\, 7 PM\n 	Free In-person Event; Advance Registration Required.\n\n \n\n\n\n \n\nLIVE AT LUNCHTIME FOCUS TALKS\n\n \n\n 	EVERY THURSDAY AT NOON\n 	Free Virtual Event Live on KAC’s Facebook Page
URL:https://krasl.org/event/21-kac-members-show-resiliency-redux-programing/
LOCATION:Krasl Art Center\, 707 Lake Blvd\, St. Joseph\, MI\, 49085\, United States
CATEGORIES:Exhibition
ATTACH;FMTTYPE=image/jpeg:https://krasl.org/wp-content/uploads/2021/11/MembersShow-1.jpg
END:VEVENT
END:VCALENDAR