BEGIN:VCALENDAR
VERSION:2.0
PRODID:-//Krasl Art Center - ECPv6.15.17.1//NONSGML v1.0//EN
CALSCALE:GREGORIAN
METHOD:PUBLISH
X-ORIGINAL-URL:https://krasl.org
X-WR-CALDESC:Events for Krasl Art Center
REFRESH-INTERVAL;VALUE=DURATION:PT1H
X-Robots-Tag:noindex
X-PUBLISHED-TTL:PT1H
BEGIN:VTIMEZONE
TZID:America/Detroit
BEGIN:DAYLIGHT
TZOFFSETFROM:-0500
TZOFFSETTO:-0400
TZNAME:EDT
DTSTART:20200308T070000
END:DAYLIGHT
BEGIN:STANDARD
TZOFFSETFROM:-0400
TZOFFSETTO:-0500
TZNAME:EST
DTSTART:20201101T060000
END:STANDARD
BEGIN:DAYLIGHT
TZOFFSETFROM:-0500
TZOFFSETTO:-0400
TZNAME:EDT
DTSTART:20210314T070000
END:DAYLIGHT
BEGIN:STANDARD
TZOFFSETFROM:-0400
TZOFFSETTO:-0500
TZNAME:EST
DTSTART:20211107T060000
END:STANDARD
BEGIN:DAYLIGHT
TZOFFSETFROM:-0500
TZOFFSETTO:-0400
TZNAME:EDT
DTSTART:20220313T070000
END:DAYLIGHT
BEGIN:STANDARD
TZOFFSETFROM:-0400
TZOFFSETTO:-0500
TZNAME:EST
DTSTART:20221106T060000
END:STANDARD
END:VTIMEZONE
BEGIN:VEVENT
DTSTART;VALUE=DATE:20211009
DTEND;VALUE=DATE:20211129
DTSTAMP:20260420T225707
CREATED:20210914T175200Z
LAST-MODIFIED:20211015T163027Z
UID:10000924-1633737600-1638143999@krasl.org
SUMMARY:EXHIBITION PROGRAMMING - ASMA + ARTLAB
DESCRIPTION:Learn more about the work on view during special tours\, artist talks\, and virtual events. Some events require advance registration. To register\, click the links below.\nHours and event details are subject to change. KAC references state health guidelines to make adjustments for the safety of our visitors. Find the most up-to-date hours\, admission information\, and safety policies under the Visit tab. \n\n \nEXHIBITION PREVIEW EVENING \nFRIDAY\, OCTOBER 8\nFree & Open to the Public\n  \n\n5:30 PM: artlab ARTISTS IN DIALOGUE\n\nArtists Andrea Peterson and Mary Uthuppurru present the butterfly\, the flying fish and the hurricane and their collaborative process behind the work. \n\n6 – 8 PM: PREVIEW PARTY\n\nFeaturing an interactive knot-tying project\, cash bar\, and live music. \n\n \nVIRTUAL COFFEE WITH THE CURATOR \nTHURSDAY\, OCTOBER 14\, 12 PM \nFREE on Facebook Live\n\n\nTHIRD THURSDAY ART EVENT: \nARTIST TALK WITH CAROL SHAHBAZ & RANDALL HIGDON\n\nTHURSDAY\, OCTOBER 21\, 7 PM\nFree In-person Event; Advance Registration Required.\n\n \nTHIRD THURSDAY ART EVENT: STUDIO TOUR WITH ANDREA PETERSON \nTHURSDAY\, NOVEMBER 18\, 7 PM\nFree In-person Event; Advance Registration Required.\n\n \nLIVE AT LUNCHTIME FOCUS TALKS \nEVERY THURSDAY AT NOON\nFree Virtual Event Live on KAC’s Facebook Page
URL:https://krasl.org/event/exhibiton-programming-american-society-for-marine-artists/
LOCATION:MI
CATEGORIES:Exhibition
ATTACH;FMTTYPE=image/jpeg:https://krasl.org/wp-content/uploads/2021/09/Reid_Jenkin_Debra_Sand_Stories_Oil_12x12.jpg
END:VEVENT
BEGIN:VEVENT
DTSTART;TZID=America/Detroit:20211111T120000
DTEND;TZID=America/Detroit:20211111T123000
DTSTAMP:20260420T225707
CREATED:20210914T174752Z
LAST-MODIFIED:20211015T170209Z
UID:10000922-1636632000-1636633800@krasl.org
SUMMARY:Live at Lunchtime: ASMA Artist Joyful Enriquez
DESCRIPTION:EVERY THURSDAY AT NOON\nFree Virtual Event Live on KAC’s Facebook Page\n  \nHear from a different marine artist each week.  \n\nOctober 21 – Chris Forrest\nOctober 28 – Stephen Roberson\nNovember 4 – Natalia Andreeva\nNovember 11 – Joyful Enriquez\nNovember 18 – Nadia Klionsky\n\n  \nImage: Joyful Enriquez. Chasing Sails. Oil. 16×20. Red Afternoon. Oil on gesso board. 12×24.
URL:https://krasl.org/event/live-at-lunchtime-asma-artists-2021-11-11/
LOCATION:MI
CATEGORIES:Event
ATTACH;FMTTYPE=image/jpeg:https://krasl.org/wp-content/uploads/2021/09/Joyful-scaled.jpg
END:VEVENT
BEGIN:VEVENT
DTSTART;TZID=America/Detroit:20211113T110000
DTEND;TZID=America/Detroit:20211113T123000
DTSTAMP:20260420T225707
CREATED:20211013T165739Z
LAST-MODIFIED:20211013T165955Z
UID:10000929-1636801200-1636806600@krasl.org
SUMMARY:November Family Day: Shadowbox Illustrations
DESCRIPTION:Saturday\, November 13\, 2021\n11 AM – 12:30 PM \nFREE & OPEN TO ALL AGES\n* MASKS REQUIRED\n** SPACE LIMITED REGISTRATION REQUIRED\n  \nExperiment with paper and other mixed media materials to create a shadow box illustration of a dreamy landscape or cozy scene of your imagination. Inspired by the work of paper artist\, Margaret Scrinkl. \n** Registration Required. 1 spot = Up to 2 participants. 
URL:https://krasl.org/event/november-family-day-shadowbox-illustrations/
LOCATION:Krasl Art Center\, 707 Lake Blvd\, St. Joseph\, MI\, 49085\, United States
CATEGORIES:Event
ATTACH;FMTTYPE=image/jpeg:https://krasl.org/wp-content/uploads/2021/10/Feb2021FamilyDay-1-1.jpg
END:VEVENT
END:VCALENDAR