BEGIN:VCALENDAR
VERSION:2.0
PRODID:-//Krasl Art Center - ECPv6.15.17.1//NONSGML v1.0//EN
CALSCALE:GREGORIAN
METHOD:PUBLISH
X-WR-CALNAME:Krasl Art Center
X-ORIGINAL-URL:https://krasl.org
X-WR-CALDESC:Events for Krasl Art Center
REFRESH-INTERVAL;VALUE=DURATION:PT1H
X-Robots-Tag:noindex
X-PUBLISHED-TTL:PT1H
BEGIN:VTIMEZONE
TZID:America/Detroit
BEGIN:DAYLIGHT
TZOFFSETFROM:-0500
TZOFFSETTO:-0400
TZNAME:EDT
DTSTART:20200308T070000
END:DAYLIGHT
BEGIN:STANDARD
TZOFFSETFROM:-0400
TZOFFSETTO:-0500
TZNAME:EST
DTSTART:20201101T060000
END:STANDARD
BEGIN:DAYLIGHT
TZOFFSETFROM:-0500
TZOFFSETTO:-0400
TZNAME:EDT
DTSTART:20210314T070000
END:DAYLIGHT
BEGIN:STANDARD
TZOFFSETFROM:-0400
TZOFFSETTO:-0500
TZNAME:EST
DTSTART:20211107T060000
END:STANDARD
BEGIN:DAYLIGHT
TZOFFSETFROM:-0500
TZOFFSETTO:-0400
TZNAME:EDT
DTSTART:20220313T070000
END:DAYLIGHT
BEGIN:STANDARD
TZOFFSETFROM:-0400
TZOFFSETTO:-0500
TZNAME:EST
DTSTART:20221106T060000
END:STANDARD
END:VTIMEZONE
BEGIN:VEVENT
DTSTART;VALUE=DATE:20211009
DTEND;VALUE=DATE:20211129
DTSTAMP:20260420T211401
CREATED:20210914T175200Z
LAST-MODIFIED:20211015T163027Z
UID:10000924-1633737600-1638143999@krasl.org
SUMMARY:EXHIBITION PROGRAMMING - ASMA + ARTLAB
DESCRIPTION:Learn more about the work on view during special tours\, artist talks\, and virtual events. Some events require advance registration. To register\, click the links below.\nHours and event details are subject to change. KAC references state health guidelines to make adjustments for the safety of our visitors. Find the most up-to-date hours\, admission information\, and safety policies under the Visit tab. \n\n \nEXHIBITION PREVIEW EVENING \nFRIDAY\, OCTOBER 8\nFree & Open to the Public\n  \n\n5:30 PM: artlab ARTISTS IN DIALOGUE\n\nArtists Andrea Peterson and Mary Uthuppurru present the butterfly\, the flying fish and the hurricane and their collaborative process behind the work. \n\n6 – 8 PM: PREVIEW PARTY\n\nFeaturing an interactive knot-tying project\, cash bar\, and live music. \n\n \nVIRTUAL COFFEE WITH THE CURATOR \nTHURSDAY\, OCTOBER 14\, 12 PM \nFREE on Facebook Live\n\n\nTHIRD THURSDAY ART EVENT: \nARTIST TALK WITH CAROL SHAHBAZ & RANDALL HIGDON\n\nTHURSDAY\, OCTOBER 21\, 7 PM\nFree In-person Event; Advance Registration Required.\n\n \nTHIRD THURSDAY ART EVENT: STUDIO TOUR WITH ANDREA PETERSON \nTHURSDAY\, NOVEMBER 18\, 7 PM\nFree In-person Event; Advance Registration Required.\n\n \nLIVE AT LUNCHTIME FOCUS TALKS \nEVERY THURSDAY AT NOON\nFree Virtual Event Live on KAC’s Facebook Page
URL:https://krasl.org/event/exhibiton-programming-american-society-for-marine-artists/
LOCATION:MI
CATEGORIES:Exhibition
ATTACH;FMTTYPE=image/jpeg:https://krasl.org/wp-content/uploads/2021/09/Reid_Jenkin_Debra_Sand_Stories_Oil_12x12.jpg
END:VEVENT
BEGIN:VEVENT
DTSTART;TZID=America/Detroit:20211104T123000
DTEND;TZID=America/Detroit:20211104T123000
DTSTAMP:20260420T211401
CREATED:20210914T174752Z
LAST-MODIFIED:20211015T165725Z
UID:10000921-1636029000-1636029000@krasl.org
SUMMARY:Live at Lunchtime: ASMA Artist Natalia Andreeva
DESCRIPTION:EVERY THURSDAY AT NOON\nFree Virtual Event Live on KAC’s Facebook Page\n  \nHear from a different marine artist each week.  \n\nOctober 21 – Chris Forrest\nOctober 28 – Stephen Roberson\nNovember 4 – Natalia Andreeva\nNovember 11 – Joyful Enriquez\nNovember 18 – Nadia Klionsky\n\n  \nImage: Natalia Andreeva. Schooner. Oil.
URL:https://krasl.org/event/live-at-lunchtime-asma-artists-2021-11-04/
LOCATION:MI
CATEGORIES:Event
ATTACH;FMTTYPE=image/jpeg:https://krasl.org/wp-content/uploads/2021/09/24-Natalia-Andreeva_CROPPED-scaled.jpg
END:VEVENT
BEGIN:VEVENT
DTSTART;TZID=America/Detroit:20211105T110000
DTEND;TZID=America/Detroit:20211106T150000
DTSTAMP:20260420T211402
CREATED:20211004T195921Z
LAST-MODIFIED:20211004T210533Z
UID:10000927-1636110000-1636210800@krasl.org
SUMMARY:Soup's On-the-Go!
DESCRIPTION:Stop by the Oval Lawn November 5 & 6 to support KAC\, discover your new favorite restaurant\, and discover unique items made by regional artists at this fundraiser & outdoor market. Guests will be encouraged to maintain 6’ distance while on site\, and are invited to explore even more artist-made goods in The Shop and in the galleries during your visit. Indoor guests are required to wear a mask. All proceeds support KAC ceramic & family programming. \nLearn more about participating artists and restaurants here.
URL:https://krasl.org/event/soups-on-the-go/
LOCATION:Krasl Art Center\, 707 Lake Blvd\, St. Joseph\, MI\, 49085\, United States
CATEGORIES:Community Engagement,Event
ATTACH;FMTTYPE=image/jpeg:https://krasl.org/wp-content/uploads/2021/10/IMG_8271-scaled.jpg
END:VEVENT
BEGIN:VEVENT
DTSTART;VALUE=DATE:20211106
DTEND;VALUE=DATE:20211107
DTSTAMP:20260420T211402
CREATED:20210823T191555Z
LAST-MODIFIED:20210823T191729Z
UID:10000910-1636156800-1636243199@krasl.org
SUMMARY:Registration Deadline – Krasl Art Center Visiting Artist Workshop: Illustrating Animals with Character with Joseph Mead
DESCRIPTION:Workshop Date: November 13\, 10 AM –1 PM & 14\, 1–4 PM \n$75 ($65 for KAC Members) \nHumans have always associated animals with human characteristics\, such as sly foxes and evil snakes.  Learn to develop your own quirky animal characters with illustrator and recent Kendall College graduate Joseph Mead! Mead will introduce a brief history of animals in illustration\, and help students use reference photos to create expressive drawings on colored paper that are full of character! \nRegistration opens August 9 and closes November 6\, 2021
URL:https://krasl.org/event/registration-deadline-krasl-art-center-visiting-artist-workshop-illustrating-animals-with-character-with-joseph-mead/
LOCATION:Krasl Art Center\, 707 Lake Blvd\, St. Joseph\, MI\, 49085\, United States
CATEGORIES:Community Engagement,Class,Event,Exhibition
ORGANIZER;CN="Matthew":MAILTO:marketing@krasl.org
END:VEVENT
BEGIN:VEVENT
DTSTART;TZID=America/Detroit:20211106T110000
DTEND;TZID=America/Detroit:20211106T170000
DTSTAMP:20260420T211402
CREATED:20210809T140012Z
LAST-MODIFIED:20210806T155627Z
UID:10000904-1636196400-1636218000@krasl.org
SUMMARY:Registration Deadline – Visiting Artist Workshop: Illustrating Animals with Character with Joseph Mead
DESCRIPTION:Workshop Date: November 13\, 10 AM –1 PM & 14\, 1–4 PM \nADVANCED REGISTRATION REQUIRED \nHumans have always associated animals with human characteristics\, such as sly foxes and evil snakes.  Learn to develop your own quirky animal characters with illustrator and recent Kendall College graduate Joseph Mead! Mead will introduce a brief history of animals in illustration\, and help students use reference photos to create expressive drawings on colored paper that are full of character! \nRegistration opens August 9 and closes November 6\, 2021
URL:https://krasl.org/event/registration-deadline-visiting-artist-workshop-illustrating-animals-with-character-with-joseph-mead/
LOCATION:Krasl Art Center\, 707 Lake Blvd\, St. Joseph\, MI\, 49085\, United States
CATEGORIES:Visiting Artist,Event
ATTACH;FMTTYPE=image/jpeg:https://krasl.org/wp-content/uploads/2021/08/WS.D.1Tango-Joseph-Mead-1-e1628265348975.jpg
END:VEVENT
END:VCALENDAR