BEGIN:VCALENDAR
VERSION:2.0
PRODID:-//Krasl Art Center - ECPv6.15.17.1//NONSGML v1.0//EN
CALSCALE:GREGORIAN
METHOD:PUBLISH
X-ORIGINAL-URL:https://krasl.org
X-WR-CALDESC:Events for Krasl Art Center
REFRESH-INTERVAL;VALUE=DURATION:PT1H
X-Robots-Tag:noindex
X-PUBLISHED-TTL:PT1H
BEGIN:VTIMEZONE
TZID:America/Detroit
BEGIN:DAYLIGHT
TZOFFSETFROM:-0500
TZOFFSETTO:-0400
TZNAME:EDT
DTSTART:20200308T070000
END:DAYLIGHT
BEGIN:STANDARD
TZOFFSETFROM:-0400
TZOFFSETTO:-0500
TZNAME:EST
DTSTART:20201101T060000
END:STANDARD
BEGIN:DAYLIGHT
TZOFFSETFROM:-0500
TZOFFSETTO:-0400
TZNAME:EDT
DTSTART:20210314T070000
END:DAYLIGHT
BEGIN:STANDARD
TZOFFSETFROM:-0400
TZOFFSETTO:-0500
TZNAME:EST
DTSTART:20211107T060000
END:STANDARD
BEGIN:DAYLIGHT
TZOFFSETFROM:-0500
TZOFFSETTO:-0400
TZNAME:EDT
DTSTART:20220313T070000
END:DAYLIGHT
BEGIN:STANDARD
TZOFFSETFROM:-0400
TZOFFSETTO:-0500
TZNAME:EST
DTSTART:20221106T060000
END:STANDARD
END:VTIMEZONE
BEGIN:VEVENT
DTSTART;VALUE=DATE:20211009
DTEND;VALUE=DATE:20211129
DTSTAMP:20260420T182353
CREATED:20210914T175200Z
LAST-MODIFIED:20211015T163027Z
UID:10000924-1633737600-1638143999@krasl.org
SUMMARY:EXHIBITION PROGRAMMING - ASMA + ARTLAB
DESCRIPTION:Learn more about the work on view during special tours\, artist talks\, and virtual events. Some events require advance registration. To register\, click the links below.\nHours and event details are subject to change. KAC references state health guidelines to make adjustments for the safety of our visitors. Find the most up-to-date hours\, admission information\, and safety policies under the Visit tab. \n\n \nEXHIBITION PREVIEW EVENING \nFRIDAY\, OCTOBER 8\nFree & Open to the Public\n  \n\n5:30 PM: artlab ARTISTS IN DIALOGUE\n\nArtists Andrea Peterson and Mary Uthuppurru present the butterfly\, the flying fish and the hurricane and their collaborative process behind the work. \n\n6 – 8 PM: PREVIEW PARTY\n\nFeaturing an interactive knot-tying project\, cash bar\, and live music. \n\n \nVIRTUAL COFFEE WITH THE CURATOR \nTHURSDAY\, OCTOBER 14\, 12 PM \nFREE on Facebook Live\n\n\nTHIRD THURSDAY ART EVENT: \nARTIST TALK WITH CAROL SHAHBAZ & RANDALL HIGDON\n\nTHURSDAY\, OCTOBER 21\, 7 PM\nFree In-person Event; Advance Registration Required.\n\n \nTHIRD THURSDAY ART EVENT: STUDIO TOUR WITH ANDREA PETERSON \nTHURSDAY\, NOVEMBER 18\, 7 PM\nFree In-person Event; Advance Registration Required.\n\n \nLIVE AT LUNCHTIME FOCUS TALKS \nEVERY THURSDAY AT NOON\nFree Virtual Event Live on KAC’s Facebook Page
URL:https://krasl.org/event/exhibiton-programming-american-society-for-marine-artists/
LOCATION:MI
CATEGORIES:Exhibition
ATTACH;FMTTYPE=image/jpeg:https://krasl.org/wp-content/uploads/2021/09/Reid_Jenkin_Debra_Sand_Stories_Oil_12x12.jpg
END:VEVENT
BEGIN:VEVENT
DTSTART;TZID=America/Detroit:20211021T120000
DTEND;TZID=America/Detroit:20211021T123000
DTSTAMP:20260420T182353
CREATED:20210914T174752Z
LAST-MODIFIED:20211015T165018Z
UID:10000919-1634817600-1634819400@krasl.org
SUMMARY:Live at Lunchtime: ASMA Artist Chris Forrest
DESCRIPTION:EVERY THURSDAY AT NOON\nFree Virtual Event Live on KAC’s Facebook Page\n  \nHear from a different marine artist each week.  \n\nOctober 21 – Chris Forrest\nOctober 28 – Stephen Roberson\nNovember 4 – Natalia Andreeva\nNovember 11 – Joyful Enriquez\nNovember 18 – Nadia Klionsky\n\n  \n[Artwork: Chris Forrest. It’s MY Driftwood. Oil.]
URL:https://krasl.org/event/live-at-lunchtime-asma-artists/
LOCATION:MI
CATEGORIES:Event
ATTACH;FMTTYPE=image/jpeg:https://krasl.org/wp-content/uploads/2021/09/19-Chris-Forrest_Cropped-scaled.jpg
END:VEVENT
BEGIN:VEVENT
DTSTART;TZID=America/Detroit:20211021T190000
DTEND;TZID=America/Detroit:20211021T200000
DTSTAMP:20260420T182353
CREATED:20210914T173702Z
LAST-MODIFIED:20210914T173702Z
UID:10000917-1634842800-1634846400@krasl.org
SUMMARY:THIRD THURSDAY ART EVENT:  ARTIST TALK WITH CAROL SHAHBAZ & RANDALL HIGDON
DESCRIPTION:THURSDAY\, OCTOBER 21\, 7 PM\nFree In-person Event; Advance Registration Required.\n  \nJoin special guests and local participating marine artists Carol Shahbaz and Randall Higdon in KAC’s galleries as they share more about their work in the North Juried Regional Exhibition as well as insights into their painting processes. \nArtworks: Randall Higdon. Looking North To Empire Bluff. Oil; Carol Shahbaz. Serenity. Acrylic. \n[Image description: On the left\, an oil painting of a lakeside landscape. Sand with grass is in the foreground with trees\, lake\, and bluff in the background. On the right is an acrylic painting of koi fish and lily pads against a white background.]
URL:https://krasl.org/event/third-thursday-art-event-artist-talk-with-carol-shahbaz-randall-higdon/
LOCATION:Krasl Art Center\, 707 Lake Blvd\, St. Joseph\, MI\, 49085\, United States
CATEGORIES:Event
ATTACH;FMTTYPE=image/jpeg:https://krasl.org/wp-content/uploads/2021/09/LiveatLunchtie_Guest_1-01-scaled.jpg
END:VEVENT
BEGIN:VEVENT
DTSTART;TZID=America/Detroit:20211024T150000
DTEND;TZID=America/Detroit:20211024T160000
DTSTAMP:20260420T182353
CREATED:20210929T131108Z
LAST-MODIFIED:20210929T131304Z
UID:10000926-1635087600-1635091200@krasl.org
SUMMARY:KAC Annual Meeting and Guest Speaker Pearl Dick - Project FIRE
DESCRIPTION:SUNDAY OCTOBER 24\, 3 PM\nFREE IN-PERSON AND ONLINE EVENT - REGISTRATION REQUIRED\n\n\nKrasl Art Center is pleased to welcome Pearl Dick to the Annual Meeting of the Membership. \nOne of two founders of Project FIRE (Fearless Initiative for Recovery and Empowerment)\, Pearl will share stories about the program and the impact art has had on her community. She currently teaches both the Fiber and Material Studies Hot Projects Glass Production class in her studio for the School of the Art Institute\, Chicago. \nThe evening will include a brief annual meeting of KAC’s membership. KAC will announce new board officers and 2022 plans that further the organization’s mission. \nRegister for this event by Friday\, October 22 at 4 PM at krasl.org/art/programregistration
URL:https://krasl.org/event/kac-annual-meeting-and-guest-speaker-pearl-dick-project-fire/
LOCATION:Krasl Art Center\, 707 Lake Blvd\, St. Joseph\, MI\, 49085\, United States
CATEGORIES:Community Engagement,Visiting Artist,Event
ATTACH;FMTTYPE=image/jpeg:https://krasl.org/wp-content/uploads/2021/09/9.-Pearl-pic-copy.jpg
END:VEVENT
END:VCALENDAR