BEGIN:VCALENDAR
VERSION:2.0
PRODID:-//Krasl Art Center - ECPv6.15.17.1//NONSGML v1.0//EN
CALSCALE:GREGORIAN
METHOD:PUBLISH
X-WR-CALNAME:Krasl Art Center
X-ORIGINAL-URL:https://krasl.org
X-WR-CALDESC:Events for Krasl Art Center
REFRESH-INTERVAL;VALUE=DURATION:PT1H
X-Robots-Tag:noindex
X-PUBLISHED-TTL:PT1H
BEGIN:VTIMEZONE
TZID:America/Detroit
BEGIN:DAYLIGHT
TZOFFSETFROM:-0500
TZOFFSETTO:-0400
TZNAME:EDT
DTSTART:20200308T070000
END:DAYLIGHT
BEGIN:STANDARD
TZOFFSETFROM:-0400
TZOFFSETTO:-0500
TZNAME:EST
DTSTART:20201101T060000
END:STANDARD
BEGIN:DAYLIGHT
TZOFFSETFROM:-0500
TZOFFSETTO:-0400
TZNAME:EDT
DTSTART:20210314T070000
END:DAYLIGHT
BEGIN:STANDARD
TZOFFSETFROM:-0400
TZOFFSETTO:-0500
TZNAME:EST
DTSTART:20211107T060000
END:STANDARD
BEGIN:DAYLIGHT
TZOFFSETFROM:-0500
TZOFFSETTO:-0400
TZNAME:EDT
DTSTART:20220313T070000
END:DAYLIGHT
BEGIN:STANDARD
TZOFFSETFROM:-0400
TZOFFSETTO:-0500
TZNAME:EST
DTSTART:20221106T060000
END:STANDARD
END:VTIMEZONE
BEGIN:VEVENT
DTSTART;TZID=America/Detroit:20210130T080000
DTEND;TZID=America/Detroit:20210328T170000
DTSTAMP:20260420T155942
CREATED:20201030T184535Z
LAST-MODIFIED:20210226T212931Z
UID:10000801-1611993600-1616950800@krasl.org
SUMMARY:KAC MEMBERS' SHOW: INSPIRED BY... EXHIBITION PROGRAMMING
DESCRIPTION:Learn more about the work on view during special tours\, artist talks\, and other virtual events. All events require advance registration. To register\, click the links below.\nHours and event details are subject to change. KAC references state health guidelines to make adjustments for the safety of our visitors. Find the most up-to-date hours\, admission information\, and safety policies under the Visit tab. \n\nINSPIRING YOUR AUDIENCE: VIRTUAL WORKSHOP \nSATURDAY\, JANUARY 9\n11 AM - 12 PM\nFree on Zoom for KAC Members; Registration Required\n\n\nSpecial single-day workshop for KAC Members! Artist El Ronan (elronan.com\, @elronanart) shares tips and tools to present your artwork online and grow your social media presence\, all while making connections with followers and inspiring your audience through art.  \n\nLIVE AT LUNCHTIME FOCUS TALKS\n\nTHURSDAYS at 12 PM\nFREE on Facebook Live\nLive at Lunchtime is a weekly series over the lunch hour on Facebook Live during which artists and art workers share more about their work at KAC and in the community. Check back often as new topics are added! \n\nFebruary 11 – Jennifer Zona\, Alternative Grid Artist\nFebruary 18 – Member Artists Inspired by… Their Medium\n\n\nFebruary 25 – Member Artists Inspired by… Nature\nMarch 4 –  Member Artists Inspired by… Social Justice\nMarch 11 – Member Artists Inspired by… Michigan\nMarch 18 – Winner of the People’s Choice Award\n\n\n2020 MEMBERS’ SHOW OPENING WEEKEND \nSATURDAY\, JANUARY 30 & SUNDAY\, JANUARY 31\nSPECIAL MEMBER ACCESS 9 AM - 11 AM\nFREE & OPEN TO THE PUBLIC 11 AM - 5 PM\n\n\nThe KAC Members’ Show: Inspired by… will open Saturday\, January 30\, with special hours for participating member artists and their guests from 9 – 11 AM on both Saturday and Sunday\, and public hours 11 AM – 5 PM. Capacity limits still apply.  \n\nVIRTUAL COFFEE WITH THE CURATOR \nTHURSDAY\, FEBRUARY 4\, 12 PM \nFREE on Facebook Live\n\n\nJoin KAC member artists and KAC Curator Tami Miller for an insightful virtual tour of the exhibition during Live at Lunchtime (And remember to pick up your Forté Coffee before we start!). \n\nTHIRD THURSDAY: INSPIRED BY… ARTIST CHRISTINA ROOT VAZQUEZ \nVIRTUAL ARTIST TALK\nTHURSDAY\, JANUARY 21\, 7 PM\nFREE; Advance Registration required \n\n\nChristina Root Vazquez was an integral part of the arts community of Southwest Michigan and KAC for several years. She managed KAC’s ceramics studio\, was a beloved teacher and a founding member of Chartreuse Artist Co-Op. She is best known for her playful artworks and rings made of eclectic ceramic shards. Learn where Christina’s geographic journeys have taken her and how they have impacted her creatively as an artist in this inspiring artist talk.  \n\nTHIRD THURSDAY: INSPIRED BY… THE MUSKEGON MUSEUM OF ART \nVIRTUAL FIELD TRIP\nTHURSDAY\, FEBRUARY 18\, 7 PM\nFREE; Advance Registration required \n\nJoin KAC on a virtual field trip to Muskegon with Deputy Director and Curator Tami Miller as we explore inspirations behind the work of artist Richard Hunt! Art Martin\, Director of Collections and Exhibitions at the Muskegon Museum of Art\, will provide a virtual tour of Richard Hunt’s monumental sculpture Muskegon Together Rising located at the heart of downtown Muskegon. The tour will be in dialogue with Saint Joseph’s own monumental Hunt sculpture\, Rising Crossing Tides. Both directors will also highlight additional works by the artist held in the museums’ collections. \n\nTHIRD THURSDAY ART EVENTS: MEMBERS’ SHOW VIRTUAL CELEBRATION \nVIRTUAL PARTY\nTHURSDAY\, MARCH 18\, 7 PM\nFREE; Advance Registration required\n  \nCelebrate the final week of KAC’s Members’ Show with us! Enjoy a virtual tour of the exhibition and hear from member artists about their work as we close out this special annual exhibition and announce the theme for next year.
URL:https://krasl.org/event/2020-members-show-inspired-by-exhibition-programming/
LOCATION:MI
CATEGORIES:Community Engagement,Visiting Artist,Event,Exhibition
ATTACH;FMTTYPE=image/jpeg:https://krasl.org/wp-content/uploads/2020/10/JRM4842-1-scaled.jpg
END:VEVENT
BEGIN:VEVENT
DTSTART;TZID=America/Detroit:20210311T120000
DTEND;TZID=America/Detroit:20210311T123000
DTSTAMP:20260420T155942
CREATED:20210201T215043Z
LAST-MODIFIED:20210302T140410Z
UID:10000832-1615464000-1615465800@krasl.org
SUMMARY:Live at Lunchtime Focus Talks: Member Artists
DESCRIPTION:THURSDAYS at 12 PM\nFREE on Facebook Live\n\n\nLive at Lunchtime is a weekly series over the lunch hour on Facebook Live during which artists and art workers share more about their work at KAC and in the community. Check back often as new topics are added! \n\nFebruary 11 – Jennifer Zona\, Alternative Grid Artist\nFebruary 18 – Member Artists Inspired by… Their Medium\, Donna Sauers\nFebruary 25 – Member Artists Inspired by… Nature\, James Bednar\nMarch 4 –  Member Artists Inspired by… Social Justice – Grace Kelmer\nMarch 11 – Member Artists Inspired by… Michigan – Julie Christian Bender & Phyllis Norris\nMarch 18 – Winner of the People’s Choice Award
URL:https://krasl.org/event/live-at-lunchtime-series-kac-members-show-inspired-by-2021-02-25-2021-03-11/
LOCATION:MI
CATEGORIES:Community Engagement,Event
ATTACH;FMTTYPE=image/jpeg:https://krasl.org/wp-content/uploads/2021/02/IMG_2570-e1614279350413.jpg
END:VEVENT
BEGIN:VEVENT
DTSTART;TZID=America/Detroit:20210311T190000
DTEND;TZID=America/Detroit:20210311T200000
DTSTAMP:20260420T155942
CREATED:20210312T000610Z
LAST-MODIFIED:20210312T000610Z
UID:10000854-1615489200-1615492800@krasl.org
SUMMARY:Third Thursday: Members' Show Virtual Celebration
DESCRIPTION:Thursday\, March 18\, 7 – 8 PM \nFREE – Registration Required! \nCelebrate the final week of KAC’s Members’ Show with us! Enjoy a virtual tour of the exhibition and hear from member artists about their work as we close out this special annual exhibition and announce the theme for next year.  \n*A link to join this virtual Zoom program will be emailed to registrants prior to the event.
URL:https://krasl.org/event/third-thursday-members-show-virtual-celebration-3/
LOCATION:Krasl Art Center\, 707 Lake Blvd\, St. Joseph\, MI\, 49085\, United States
CATEGORIES:Community Engagement,Class,Event
END:VEVENT
BEGIN:VEVENT
DTSTART;TZID=America/Detroit:20210313T110000
DTEND;TZID=America/Detroit:20210313T123000
DTSTAMP:20260420T155942
CREATED:20210224T153852Z
LAST-MODIFIED:20210225T185837Z
UID:10000841-1615633200-1615638600@krasl.org
SUMMARY:Virtual Family Day at KAC: Oopjen Costume Making
DESCRIPTION:Saturday\, March 13\, 2021\n11 AM - 12:30 PM - At your house!\nSPACE LIMITED - REGISTRATION REQUIRED BEFORE MARCH 8**\n  \nThis Family Day is inspired by the Coastline Children’s Film Festival’s feature film Jackie & Oopjen. Watch the film Friday\, March 12 at 6 PM and then tune into Virtual Family Day with Miss Dani Saturday\, March 13 at 11 AM all from the comfort of your home! Create a snowflake lace collar and ribbon bow sash to perfectly match Oopjen\, co-star of the film\, from Rembrandt’s famous painting Portrait of Oopjen Coppit.  \n\nABOUT THE FILM: \nJackie & Oopjen\, 2021 Dutch/UK. 90 min\, subtitles. Ages 9+  \n12-year-old Jackie has made Amsterdam’s Rijksmuseum\, where her mom works\, her second home. While wandering around after hours\, Oopjen from Rembrandt’s famous painting suddenly comes to life! It seems she is looking for her long-lost sister. Jackie is used to solving other people’s problems and decides to take Oopjen home\, so they can go look for her sister. For the woman from the Golden Age\, this modern world\, its customs and appliances are a great adventure. And Jackie\, who doesn’t really have any friends at school\, finally gains a true BFF! \nRegister for the film here: coastlinechildrens.eventive.org \nKAC is excited to continue offering free & fun art activities for families. All events are online and by registration only. Family Day Art Fundles will be available for pick-up the weekend before the event: Friday\, March\, 5th – Monday\, March 8th & Friday\, March 12th. Participant Zoom invitations will be emailed the day before the event.
URL:https://krasl.org/event/virtual-family-day-at-kac-oopjen-costume-making/
LOCATION:MI
CATEGORIES:Community Engagement,Event
ATTACH;FMTTYPE=image/jpeg:https://krasl.org/wp-content/uploads/2021/02/Jackie-Oopjen-1-scaled-e1614181184802.jpg
END:VEVENT
BEGIN:VEVENT
DTSTART;TZID=America/Detroit:20210313T110000
DTEND;TZID=America/Detroit:20210313T123000
DTSTAMP:20260420T155942
CREATED:20210311T235046Z
LAST-MODIFIED:20210311T235046Z
UID:10000852-1615633200-1615638600@krasl.org
SUMMARY:MARCH VIRTUAL FAMILY DAY: OOPJEN COSTUME MAKING - INSPIRED BY COASTLINE CHILDREN’S FILM FESTIVAL’S JACKIE & OOPJEN
DESCRIPTION:Saturday\, March 13\, 2021 \n11 AM – 12:30 PM – At your house! \nSPACE LIMITED REGISTRATION REQUIRED** \nThis Family Day is inspired by the Coastline Children’s Film Festival’s feature film Jackie & Oopjen. Watch the film Friday\, March 12 at 6 PM and then tune into Virtual Family Day with Miss Dani Saturday\, March 13 at 11 AM all from the comfort of your home! Create a snowflake lace collar and ribbon bow sash to perfectly match Oopjen\, co-star of the film\, from Rembrandt’s famous painting Portrait of Oopjen Coppit.  \n\nABOUT THE FILM: \nJackie & Oopjen 2021 Dutch/UK 90 min subtitles Ages 9 and up  \n12-year-old Jackie has made Amsterdam’s Rijksmuseum\, where her mom works\, her second home. While wandering around after hours\, Oopjen from Rembrandt’s famous painting suddenly comes to life! It seems she is looking for her long-lost sister. Jackie is used to solving other people’s problems and decides to take Oopjen home\, so they can go look for her sister. For the woman from the Golden Age\, this modern world\, its customs and appliances are a great adventure. And Jackie\, who doesn’t really have any friends at school\, finally gains a true BFF! \nRegister for the film at: https://coastlinechildrens.eventive.org/films/601add4e322d6800532a9c27 \nKAC is excited to continue offering free & fun art activities for families. All events are online and by registration only. Family Day Art Fundles will be available for pick-up the weekend before the event: Friday\, March\, 5th – Monday\, March 8th & Friday\, March 12th. Participant Zoom invitations will be emailed the day before the event. \n  \n  \n  \nJackie en Oopjen\, Cast\, FROUKE VERHEIJDE\, SARAH BANNIER\, KARINA SMULDERS\, SAAR VAN AKEN\, BERT HANA\, ROBEN MITCHELL\, JAAP SPIJKERS\, LENY BREEDERVELD\, JOCHEN OTTEN\, KARMELA SHAKO\, GURKAN KUCUKSENTURK\, Producers-Column Film & Fiction Valley\, CREW\, regie-ANNEMARIE VAN DE MOND\, scenario-MYRANDA JONGELING\, dop-LEX BRAND\, sound-MARCEL DE HOOGD\, prod design- FLORIAN LEGTERS\, AD- GIEL SCHUIJT- kleding-HELEEN HEINTJES\, Make Up- MONIQUE MIEROP\,
URL:https://krasl.org/event/march-virtual-family-day-oopjen-costume-making-inspired-by-coastline-childrens-film-festivals-jackie-oopjen/
LOCATION:Krasl Art Center\, 707 Lake Blvd\, St. Joseph\, MI\, 49085\, United States
END:VEVENT
END:VCALENDAR