BEGIN:VCALENDAR
VERSION:2.0
PRODID:-//Krasl Art Center - ECPv6.15.17.1//NONSGML v1.0//EN
CALSCALE:GREGORIAN
METHOD:PUBLISH
X-ORIGINAL-URL:https://krasl.org
X-WR-CALDESC:Events for Krasl Art Center
REFRESH-INTERVAL;VALUE=DURATION:PT1H
X-Robots-Tag:noindex
X-PUBLISHED-TTL:PT1H
BEGIN:VTIMEZONE
TZID:America/Detroit
BEGIN:DAYLIGHT
TZOFFSETFROM:-0500
TZOFFSETTO:-0400
TZNAME:EDT
DTSTART:20210314T070000
END:DAYLIGHT
BEGIN:STANDARD
TZOFFSETFROM:-0400
TZOFFSETTO:-0500
TZNAME:EST
DTSTART:20211107T060000
END:STANDARD
BEGIN:DAYLIGHT
TZOFFSETFROM:-0500
TZOFFSETTO:-0400
TZNAME:EDT
DTSTART:20220313T070000
END:DAYLIGHT
BEGIN:STANDARD
TZOFFSETFROM:-0400
TZOFFSETTO:-0500
TZNAME:EST
DTSTART:20221106T060000
END:STANDARD
BEGIN:DAYLIGHT
TZOFFSETFROM:-0500
TZOFFSETTO:-0400
TZNAME:EDT
DTSTART:20230312T070000
END:DAYLIGHT
BEGIN:STANDARD
TZOFFSETFROM:-0400
TZOFFSETTO:-0500
TZNAME:EST
DTSTART:20231105T060000
END:STANDARD
END:VTIMEZONE
BEGIN:VEVENT
DTSTART;VALUE=DATE:20220521
DTEND;VALUE=DATE:20220726
DTSTAMP:20260423T085106
CREATED:20220414T160753Z
LAST-MODIFIED:20220513T195438Z
UID:10000993-1653091200-1658793599@krasl.org
SUMMARY:IN THE LAB: THE ART OF EGG PRIZE EXHIBITION PROGRAMMING
DESCRIPTION:Learn more about the work on view during special tours\, artist talks\, and virtual events. Some events require advance registration. To register\, click the links below. \nHours and event details are subject to change. KAC references state health guidelines to make adjustments for the safety of our visitors. Find the most up-to-date hours\, admission information\, and safety policies under the Visit tab. \n\n\nAFTERNOON OF ART \nSATURDAY\, MAY 21\, 2 – 5 PM \nFREE and open to the public \n\n\nLIVE AT LUNCHTIME: BEHIND THE SCENES INSTALLING THREE NEW EXHIBITIONS!\nTHURSDAY\, MAY 19 12 PM \nFREE on Facebook Live \n\n\nLIVE AT LUNCHTIME: THE ART OF EGG PRIZE WITH DAVID KAIL \nTHURSDAY\, JUNE 23\, 12 PM \nFREE on Facebook Live
URL:https://krasl.org/event/the-art-of-eggprize-exhibition-programming/
LOCATION:Krasl Art Center\, 707 Lake Blvd\, St. Joseph\, MI\, 49085\, United States
CATEGORIES:Exhibition
ATTACH;FMTTYPE=image/jpeg:https://krasl.org/wp-content/uploads/2022/04/Chippies_02-scaled.jpg
END:VEVENT
BEGIN:VEVENT
DTSTART;VALUE=DATE:20220521
DTEND;VALUE=DATE:20220824
DTSTAMP:20260423T085106
CREATED:20220425T183825Z
LAST-MODIFIED:20220728T151319Z
UID:10001006-1653091200-1661299199@krasl.org
SUMMARY:NEW BIENNIAL EXHIBITION PROGRAMMING
DESCRIPTION:Learn more about the work on view during special tours\, artist talks\, and virtual events. Some events require advance registration. To register\, click the links below. \nHours and event details are subject to change. KAC references state health guidelines to make adjustments for the safety of our visitors. Find the most up-to-date hours\, admission information\, and safety policies under the Visit tab. \n\n  \n\nLIVE AT LUNCHTIME: BEHIND THE SCENES INSTALLING THREE NEW EXHIBITIONS!\nTHURSDAY\, MAY 19 12 PM \nFREE on Facebook Live \n\n\nAFTERNOON OF ART\nSATURDAY\, MAY 21\, 2 – 5 PM \nFREE and open to the public \n\n\nGRAFFITI WORKSHOPS WITH ASMA SPEEKS \nTHURSDAY\, JUNE 16\, 6 – 8 PM \nTHURSDAY\, JUNE 28\, 5 – 8 PM \nFREE and open to the public \n\n \nBOX FACTORY FOR THE ARTS RECEPTION WITH GUEST CURATORS GUY WILLEY & FOSTER WILLEY \nSATURDAY\, JULY 23 \nFree & Open to the Public | 1101 Broad St.\, St. Joseph \n\n \nKAC JOINS ARTS IN THE PARK WITH BENTON HARBOR ARTS ASSOCIATION \nFRIDAY\, AUGUST 5 \nFree & Open to the Public | Benton Harbor Arts District \n\n\n20TH ANNIVERSARY CELEBRATION OF RICHARD HUNT’S AND YOU\, SEAS\nTUESDAY\, AUGUST 23 \nFREE & Open to the Public at Silver Beach County Park \n\nSponsored by The John DeVries Insurance Agency.  \nSupported In Partnership with the Box Factory for The Arts. \nThis engagement is supported by the Arts Midwest Gig Fund\, a program of Arts Midwest that is funded by the National Endowment for the Arts. This program is also made possible in part by a grant from the Berrien Community Foundation.
URL:https://krasl.org/event/new-biennial-exhibition-programming/
LOCATION:Krasl Art Center\, 707 Lake Blvd\, St. Joseph\, MI\, 49085\, United States
CATEGORIES:Community Engagement,Visiting Artist,Event,Exhibition
ATTACH;FMTTYPE=image/jpeg:https://krasl.org/wp-content/uploads/2022/04/AD20212.jpg
END:VEVENT
BEGIN:VEVENT
DTSTART;VALUE=DATE:20220521
DTEND;VALUE=DATE:20220829
DTSTAMP:20260423T085106
CREATED:20220425T174653Z
LAST-MODIFIED:20220513T194843Z
UID:10001001-1653091200-1661731199@krasl.org
SUMMARY:RETHINKING MONUMENTS: EXHIBITION PROGAMMING
DESCRIPTION:Learn more about the work on view during special tours\, artist talks\, and virtual events. Some events require advance registration. To register\, click the links below. \nHours and event details are subject to change. KAC references state health guidelines to make adjustments for the safety of our visitors. Find the most up-to-date hours\, admission information\, and safety policies under the Visit tab. \nArtwork: Tyree Guyton. Rosa Parks\, Heidelberg Fragment. 1986. Oil paint on street sign. Detroit Institute of Arts\, gift of Tyree and Karen Guyton of the Heidelberg Project\, in memory of Sam Mackey. Image courtesy of Tyree Guyton. \n\n\nLIVE AT LUNCHTIME: BEHIND THE SCENES INSTALLING THREE NEW EXHIBITIONS!\nTHURSDAY\, MAY 19 12 PM \nFREE on Facebook Live \n\n\nLIVE AT LUNCHTIME: COFFEE WITH THE CURATOR\nTHURSDAY\, MAY 19 12 PM \nFREE in person and on Facebook Live \n\n \nAFTERNOON OF ART\nSATURDAY\, MAY 21\, 2 – 5 PM \nFREE and open to the public \n\n\nLIVE AT LUNCHTIME: MUSEUM TO MUSEUM \nTHURSDAYS IN JUNE 12 PM \nFREE on Facebook Live \n\n\n20TH ANNIVERSARY CELEBRATION OF RICHARD HUNT’S AND YOU\, SEAS\nTUESDAY\, AUGUST 23 \nFREE & Open to the Public at Silver Beach County Park \n 
URL:https://krasl.org/event/rethinking-monuments-exhibition-progamming/
LOCATION:Krasl Art Center\, 707 Lake Blvd\, St. Joseph\, MI\, 49085\, United States
CATEGORIES:Exhibition
ATTACH;FMTTYPE=image/jpeg:https://krasl.org/wp-content/uploads/2022/04/DIA-Heidelberg_SM.jpg
END:VEVENT
BEGIN:VEVENT
DTSTART;TZID=America/Detroit:20220708T170000
DTEND;TZID=America/Detroit:20220708T220000
DTSTAMP:20260423T085106
CREATED:20220317T194939Z
LAST-MODIFIED:20260226T215718Z
UID:10000986-1657299600-1657317600@krasl.org
SUMMARY:2022 Krasl Art Fair Block Party - a 60th Birthday Celebration!
DESCRIPTION:Friday\, July 8\, 5 pm - 10 pm\nTickets on sale in May\n  \nEnjoy beer and wine\, food trucks and entertainment as we celebrate the 60th Krasl Art Fair on the Bluff\, presented by 1st Source Bank and sponsored by some of the best offshore gambling sites 1st Source Bank currently manages!  \nMeet the exhibiting artists and mingle with the community as we kick off a monumental event.  \nArtist booths open Saturday morning at 10 am for general admission\, and 9 am for Community Experience packages. \nBlock Party entertainment lineup announced in May 2022 and will be listed at https://krasl.org/art-fair/block-party/.Interested in performing? Email KAC Marketing Manager\, Matthew Bizoe\, at marketing@krasl.org.
URL:https://krasl.org/event/2022-krasl-art-fair-block-party-a-60th-birthday-celebration/
LOCATION:Krasl Art Center\, 707 Lake Blvd\, St. Joseph\, MI\, 49085\, United States
CATEGORIES:Event
ATTACH;FMTTYPE=image/jpeg:https://krasl.org/wp-content/uploads/2022/03/Block-PParty-2017.jpg
END:VEVENT
BEGIN:VEVENT
DTSTART;VALUE=DATE:20220709
DTEND;VALUE=DATE:20220711
DTSTAMP:20260423T085106
CREATED:20220317T204009Z
LAST-MODIFIED:20241106T235538Z
UID:10000987-1657324800-1657497599@krasl.org
SUMMARY:2022 Krasl Art Fair on the Bluff
DESCRIPTION:Join us for the 60th Krasl Art Fair on the Bluff presented by 1st Source Bank Wealth Advisory Services and Krasl Art Center.\n\nSaturday\, July 9\, from 10 am – 6 pm\nSunday\, July 10\, from 10 pm – 5  pm\nJoin us at the Block Party on Friday\, July 8 from 5 pm – 10 pm\n\nThe 60th Krasl Art Fair kicks off on Saturday\, July 9! General Admission is from 10 am – 6 pm\, and *Collector Experience package holders get early-access today from 9 – 10 am.  \nKrasl Art Center is thrilled to celebrate the 60th Art Fair on the Bluff. As you explore the work of 172 talented artists from across the United States\, take in the stunning views of Lake Michigan and the welcoming atmosphere of St. Joseph\, Michigan. This year\, the event includes a unique interactive area where guests can experience live demonstrations inspired by trends in digital artistry\, such as those featured on platforms like Chơi ngay trên Casino Truc Tuyen Online\, blending traditional art with modern technology. With the assistance of over 400 volunteers\, you’ll easily navigate all that the Art Fair has to offer. Be sure to support the professional artists with a purchase to be cherished for years to come! \nAs the largest fundraiser for Krasl Art Center (KAC)\, proceeds help make free year-round exhibitions possible. Learn more about KAC’s mission and programs in the community at https://public.krasl.org/web/membership  \nTickets to the event will go on sale Sunday\, May 1. Advanced ticket purchases encouraged.  \nDaily admission: \n\nGeneral Admission (guests age 11+): $5\nChildren age 3 – 10: $3\nChildren under 3 receive complimentary admission; ticket required.\n\n  \nGeneral admission tickets are good for one day of the event\, and same-day re-entry is accepted.  \n\nDay-of tickets: Walk-up cash only (QR codes will be provided for credit card sales).\nCollector Experience packages start at $130 ($65 for existing KAC members) and includes an all-weekend pass plus special benefits. Limited availability.\nComplimentary ticket information will be available and announced when tickets are on sale.\n\n  \nCome for the artists\, stay for the community! Krasl Art Center is free and open to the public during fair hours\, explore two fantastic exhibitions on-view or relax in The Lounge among artwork by KAC benefactress Olga Krasl. Learn more at krasl.org/art/current-exhibitions/ \nFor free outside of the building\, discover local artists selling their creations\, art activities and demonstrations – including the Krasl Kids Zone. More information available online at krasl.org/art-fair/event-information/visiting-with-children/
URL:https://krasl.org/event/2022-krasl-art-fair-on-the-bluff/
LOCATION:Krasl Art Center\, 707 Lake Blvd\, St. Joseph\, MI\, 49085\, United States
CATEGORIES:Event
ATTACH;FMTTYPE=image/jpeg:https://krasl.org/wp-content/uploads/2022/03/Event-Information.jpg
END:VEVENT
BEGIN:VEVENT
DTSTART;TZID=America/Detroit:20220716T100000
DTEND;TZID=America/Detroit:20220716T170000
DTSTAMP:20260423T085106
CREATED:20220624T194440Z
LAST-MODIFIED:20220715T171259Z
UID:10001010-1657965600-1657990800@krasl.org
SUMMARY:July 2022 Summer Art Market on the Green
DESCRIPTION:Enjoy sunshine\, sculpture\, and support small-town artists this summer! The Summer Art Market on the Green features 11 different regional artists in four free\, outdoor community events. It is held in conjunction with the St. Joe Today Lake Bluff Artisan Fair on June 4\, July 16\, August 20\, and September 3 from 10 am – 5 pm. Purchases made support the artists directly\, and guests are encouraged to explore KAC’s gallery exhibitions indoors and public sculpture placed throughout the community during their visit. \nThe Summer Art Market events take place  on KAC’s outdoor campus. Tents will be displayed across KAC’s Oval Lawn\, Shaded Plaza\, and Patio\, selling handmade artworks ranging from $15 – $250. Guests are encouraged to explore even more artists\, local farmers\, and bakers at St. Joe Farmers Market and Artisan Fair in Lake Bluff Park during the event. \nKAC has indoor and outdoor exhibitions on view during the event. Explore ‘Rethinking Monuments: American Sculpture in its Time\, 1850-200’ in the main gallery and ‘The Art of Eggprize’ in The Lab. \nArtists include: \n\n\n\nJennifer Zona\, ceramics. Berrien Springs\, MI\n\n\n\n\nBrooke Hare & Katie Sutherfield\, jewelry. Bridgman\, MI\nJessica Midgley\, Painting. South Bend\, IN\n\n\nJon Hook\, ceramics. La Porte\, IN\n\n\nChandra Williams\, leather. Niles\, MI\n\n\nNicole Rimes\, fabric. St. Joseph\, MI\n\n\nJeff & Theresa Heaton\, weaving. Lawrence\, MI\n\n\nEliot Schlaak & Luke Mayer – Emerging Artists\, mixed media. St. Joseph\, MI\n\n\nTrevor Houseworth – Emerging Artist\, ceramics. Edwardsburg\, MI\n\n\nThe Box Factory for the Arts. St. Joseph\, MI
URL:https://krasl.org/event/july-2022-summer-art-market-on-the-green/
LOCATION:Krasl Art Center\, 707 Lake Blvd\, St. Joseph\, MI\, 49085\, United States
CATEGORIES:Visiting Artist,Event
ATTACH;FMTTYPE=image/jpeg:https://krasl.org/wp-content/uploads/2022/05/ArtMarketPhoto.jpg
END:VEVENT
BEGIN:VEVENT
DTSTART;VALUE=DATE:20220723
DTEND;VALUE=DATE:20220724
DTSTAMP:20260423T085106
CREATED:20220425T181842Z
LAST-MODIFIED:20220629T123756Z
UID:10001004-1658534400-1658620799@krasl.org
SUMMARY:BOX FACTORY FOR THE ARTS RECEPTION WITH GUEST CURATORS GUY WILLEY & FOSTER WILLEY
DESCRIPTION:SATURDAY\, JULY 23\, 5:30 – 8 PM \nFree & Open to the Public at The Box Factory | 1101 Broad St.\, St. Joseph \n“Utilizing negative space to create forms that express both mass and transparency has been the focus of many of my sculptural investigations. These formal concerns inform the symbolic content of my work\, which often involves the search for something archetypal\, innate\, and universal.” \nFoster Willey is a sculptor and Public Artist based in Detroit Michigan. The artwork on exhibit at the Box represents an overview of the past 20 years of Public Art and Commission opportunities. Also on exhibit are a series of small sculptures reflecting the artists interest in the figurative tradition\, architectural ornament\, and the early modernists.
URL:https://krasl.org/event/box-factory-for-the-arts-reception-with-guest-curators-guy-willey-foster-willey/
LOCATION:Box Factory for the Arts\, 1101 Broad St\, St Joseph\, MI\, United States
CATEGORIES:Visiting Artist,Event
ATTACH;FMTTYPE=image/jpeg:https://krasl.org/wp-content/uploads/2022/04/122017180_10157351326201960_5001346665626768573_n.jpg
END:VEVENT
BEGIN:VEVENT
DTSTART;TZID=America/Detroit:20220728T170000
DTEND;TZID=America/Detroit:20220728T200000
DTSTAMP:20260423T085106
CREATED:20220425T181235Z
LAST-MODIFIED:20220715T211748Z
UID:10001002-1659027600-1659038400@krasl.org
SUMMARY:RESCHEDULED - GRAFFITI WORKSHOPS WITH ASMA SPEEKS
DESCRIPTION:Part 1 – Graffiti Style & Breaking Letters Workshop – Thursday\, June 16\, 6 – 8 PM\nPart 2 – Legal Wall Paint Day – THURSDAY\, JULY 28 5 – 8 PM\n\nFREE and open to the public \nIn collaboration with KAC’s Teen Arts Council\, graffiti writer ASMA Speeks will lead two workshops on the history and technique behind graffiti writing. Learn how writers “break the alphabet\,” why different styles of writing developed in different cities\, and how legal graffiti walls can help build community. \nPhoto of ASMA Speeks by Kris Gibbs. \nThis engagement is supported by the Arts Midwest Gig Fund\, a program of Arts Midwest that is funded by the National Endowment for the Arts. This program is also made possible in part by a grant from the Berrien Community Foundation.
URL:https://krasl.org/event/graffiti-workshops-with-asma-speeks/
LOCATION:Krasl Art Center\, 707 Lake Blvd\, St. Joseph\, MI\, 49085\, United States
CATEGORIES:Visiting Artist,Event
ATTACH;FMTTYPE=image/jpeg:https://krasl.org/wp-content/uploads/2022/04/IMG_4681-scaled.jpg
END:VEVENT
BEGIN:VEVENT
DTSTART;TZID=America/Detroit:20220729T193000
DTEND;TZID=America/Detroit:20220729T213000
DTSTAMP:20260423T085106
CREATED:20220627T152735Z
LAST-MODIFIED:20220627T152736Z
UID:10001011-1659123000-1659130200@krasl.org
SUMMARY:Notre Dame Shakespeare Festival - All's Well That Ends Well
DESCRIPTION:Fri Jul 29\, 2022\, 7:30 pm – 9:30 pm \nFREE & Open to the Public \nWhat play reopened Shakespeare’s theatre after a forced shutdown due to the plague? Arguably\, it was All’s Well That Ends Well. A brilliant young woman named Helena determines to chart her own life’s course\, become a healer\, and select the husband of her choosing. She follows her misguided man\, Bertram\, through what feels like a fairy tale with a modern twist\, from France to Florence and back again. \nWith that much travel\, it’s the perfect play to herald the return of NDSF’s Touring Company. All’s Well That Ends Well will bring an out-of-the-trunk\, Shakespeare-in-the-Park energy to this comedy\, with live music sung and performed by the cast. Performances throughout Michiana. Free. \n\nCAST:\n\nJess Alexander: Lord 1 (Captain Dumaine)\nLouis Arata: La Few\nDavid Chudzynski: King\nJames Cullinane: Lord 2 (His brother)\nZach Harness: Bertram\nJosie Mi: Widow\nTiana Mudzimurema: Diana\nGabe Ozaki: Parolles\nAllison Pajor: Countess\nKrosby Roza: Soldier 1 (Interpreter)\nRachel Thomas: Helen
URL:https://krasl.org/event/notre-dame-shakespeare-festival-alls-well-that-ends-well/
LOCATION:MI
CATEGORIES:Event
ATTACH;FMTTYPE=image/jpeg:https://krasl.org/wp-content/uploads/2022/06/Alls-Well-Website-Event-800x600-NEW.jpg
END:VEVENT
END:VCALENDAR