BEGIN:VCALENDAR
VERSION:2.0
PRODID:-//Krasl Art Center - ECPv6.15.17.1//NONSGML v1.0//EN
CALSCALE:GREGORIAN
METHOD:PUBLISH
X-ORIGINAL-URL:https://krasl.org
X-WR-CALDESC:Events for Krasl Art Center
REFRESH-INTERVAL;VALUE=DURATION:PT1H
X-Robots-Tag:noindex
X-PUBLISHED-TTL:PT1H
BEGIN:VTIMEZONE
TZID:America/Detroit
BEGIN:DAYLIGHT
TZOFFSETFROM:-0500
TZOFFSETTO:-0400
TZNAME:EDT
DTSTART:20200308T070000
END:DAYLIGHT
BEGIN:STANDARD
TZOFFSETFROM:-0400
TZOFFSETTO:-0500
TZNAME:EST
DTSTART:20201101T060000
END:STANDARD
BEGIN:DAYLIGHT
TZOFFSETFROM:-0500
TZOFFSETTO:-0400
TZNAME:EDT
DTSTART:20210314T070000
END:DAYLIGHT
BEGIN:STANDARD
TZOFFSETFROM:-0400
TZOFFSETTO:-0500
TZNAME:EST
DTSTART:20211107T060000
END:STANDARD
BEGIN:DAYLIGHT
TZOFFSETFROM:-0500
TZOFFSETTO:-0400
TZNAME:EDT
DTSTART:20220313T070000
END:DAYLIGHT
BEGIN:STANDARD
TZOFFSETFROM:-0400
TZOFFSETTO:-0500
TZNAME:EST
DTSTART:20221106T060000
END:STANDARD
END:VTIMEZONE
BEGIN:VEVENT
DTSTART;VALUE=DATE:20210612
DTEND;VALUE=DATE:20211004
DTSTAMP:20260420T151050
CREATED:20210518T173228Z
LAST-MODIFIED:20210726T200634Z
UID:10000874-1623456000-1633305599@krasl.org
SUMMARY:BLOW UP II Exhibition Programming
DESCRIPTION:Learn more about the work on view during special tours\, artist talks\, and virtual events. Some events require advance registration. To register\, click the links below.\nHours and event details are subject to change. KAC references state health guidelines to make adjustments for the safety of our visitors. Find the most up-to-date hours\, admission information\, and safety policies under the Visit tab. \n\nOPENING CELEBRATION \n\nSATURDAY\, JUNE 12\, 11 AM - 1 PM \nFree & Open to the Public\n  \n\nVIRTUAL COFFEE WITH THE CURATOR \nTHURSDAY\, JUNE 17\, 12 PM \nFREE on Facebook Live\n\nTHIRD THURSDAY ART EVENT: ARTIST TALK WITH LIZABETH ROSSOF \nTHURSDAY\, JUNE 17\, 7 PM\nFree In-person & Virtual Event On Zoom; Advance Registration Required.\n  \n\nCANCELED: THIRD THURSDAY ART EVENT: OUTDOOR SCULPTURE WALK \nIN-PERSON WALKING TOUR\nTHURSDAY\, JULY 15\, 7 PM\nFREE; Advance Registration required.\n  \n  \n\nCOLLABORATIVE FAMILY WORKSHOP \nSATURDAY\, AUGUST 14\, 10 AM - 2:30 PM\, BYO PICNIC LUNCH\n$10 per family of up to 4 participants. Ages 8 and up. Advance Registration required.\n  \nImage courtesy of Eric Schrijver\, Levilab. \n\nTHIRD THURSDAY ART EVENT: VIRTUAL STUDIO TOUR WITH BIGthink \nVIRTUAL STUDIO TOUR\nTHURSDAY\, AUGUST 19\, 7 PM\nFREE; Advance Registration required.\n  \nGet inside the creative process of local artist collaborative BIGthink with a virtual studio tour! Learn more about air-filled art and enjoy stimulating conversation with the artists. \nBIGthink is a collaborative of artists\, scientists and educators with a mission to expand creative\, critical thinking and strengthen community relationships by integrating art\, science and technology processes for peace-filled outcomes. Their environmental installations combine levels of digital technology with innovative air/ helium sculptures\, which are designed and fabricated from high-tech and traditional art media. \nArtwork: BIGthink’s immersive installation as part of Krasl Art Center’s 2018 Sculpture Biennial. \n\nTHIRD THURSDAY ART EVENT: OUTDOOR SCULPTURE WALK \nIN-PERSON WALKING TOUR\nTHURSDAY\, SEPTEMBER 16\, 7 PM (RESCHEDULED FROM JULY)\nFREE; Advance Registration required.\n  \nLet’s talk about big art! Meet in KAC’s galleries to tour BLOW UP II with Deputy Director and Curator\, Tami Miller\, before heading out into the community to learn more about the artworks in KAC’s public sculpture collection.  \nArtwork: Ken Thompson. Steel Arch 4\, 2009. Corten steel and stainless steel. \n\nLIVE AT LUNCHTIME FOCUS TALKS \nTHURSDAYS at 12 PM\nFREE on Facebook Live\n 
URL:https://krasl.org/event/blow-up-ii-exhibition-programming/
LOCATION:Krasl Art Center\, 707 Lake Blvd\, St. Joseph\, MI\, 49085\, United States
CATEGORIES:Exhibition
ATTACH;FMTTYPE=image/jpeg:https://krasl.org/wp-content/uploads/2020/05/Engelstein-Rossof-Installation_HIGH-RES-scaled.jpg
END:VEVENT
BEGIN:VEVENT
DTSTART;VALUE=DATE:20211001
DTEND;VALUE=DATE:20211002
DTSTAMP:20260420T151050
CREATED:20210823T185946Z
LAST-MODIFIED:20210823T185946Z
UID:10000909-1633046400-1633132799@krasl.org
SUMMARY:Registration Deadline – Krasl Art Center Visiting Artist Workshop: Collaborative Bookmaking
DESCRIPTION:Workshop Date: Saturday\, October 9\, 2021 \n\nKrasl Art Center believes art has the power to connect people with diverse backgrounds and experiences and spark important conversations. KAC education programs connect people by collaborating with local and regional partner organizations\, offering cross-curricular learning opportunities at Visiting Artist Workshops.  \n\nLearn how to make a clamshell artist box and your very own accordion book to go inside with artlab artists Mary Uthuppuru and Andrea Peterson! These dynamic artists will introduce materials and techniques as you experiment with your own approach to storytelling. Combine precut linoleum block prints\, pochoir stencils\, collage and drawing to create rich imagery around the theme of water\, or a subject of your own choosing. \n\nRegistration opens August 9 and closes October 1\, 2021 \n\n– – WS.PR.1A: CREATE YOUR OWN CLAMSHELL BOX | 10 AM – 1 PM \n\n– – WS.PR.1B: CREATE YOUR OWN ACCORDION BOOK |  2–5 PM \n\n– – – FULL DAY TUITION: $110 ($100 for KAC Members) \n– – – PARTIAL DAY TUITION: $75 ($65 for KAC Members)
URL:https://krasl.org/event/registration-deadline-krasl-art-center-visiting-artist-workshop-collaborative-bookmaking-2/
LOCATION:Krasl Art Center\, 707 Lake Blvd\, St. Joseph\, MI\, 49085\, United States
CATEGORIES:Community Engagement,Class,Event,Exhibition
ORGANIZER;CN="Matthew":MAILTO:marketing@krasl.org
END:VEVENT
BEGIN:VEVENT
DTSTART;TZID=America/Detroit:20211001T110000
DTEND;TZID=America/Detroit:20211001T170000
DTSTAMP:20260420T151050
CREATED:20210809T140039Z
LAST-MODIFIED:20210806T155254Z
UID:10000905-1633086000-1633107600@krasl.org
SUMMARY:Registration Deadline – Krasl Art Center Visiting Artist Workshop: Collaborative Bookmaking
DESCRIPTION:Workshop Date: Saturday\, October 9\, 2021 \nADVANCED REGISTRATION REQUIRED \nKrasl Art Center believes art has the power to connect people with diverse backgrounds and experiences and spark important conversations. KAC education programs connect people by collaborating with local and regional partner organizations\, offering cross-curricular learning opportunities at Visiting Artist Workshops.  \nLearn how to make a clamshell artist box and your very own accordion book to go inside with artlab artists Mary Uthuppuru and Andrea Peterson! These dynamic artists will introduce materials and techniques as you experiment with your own approach to storytelling. Combine precut linoleum block prints\, pochoir stencils\, collage and drawing to create rich imagery around the theme of water\, or a subject of your own choosing. \nRegistration opens August 9 and closes October 1\, 2021 \n- - WS.PR.1A: CREATE YOUR OWN CLAMSHELL BOX | 10 AM – 1 PM\n\n- - WS.PR.1B: CREATE YOUR OWN ACCORDION BOOK |  2–5 PM\n\n\n- - - FULL DAY TUITION: $110 ($100 for KAC Members)\n\n- - - PARTIAL DAY TUITION: $75 ($65 for KAC Members)
URL:https://krasl.org/event/registration-deadline-krasl-art-center-visiting-artist-workshop-collaborative-bookmaking/
LOCATION:Krasl Art Center\, 707 Lake Blvd\, St. Joseph\, MI\, 49085\, United States
CATEGORIES:Visiting Artist,Event
ATTACH;FMTTYPE=image/jpeg:https://krasl.org/wp-content/uploads/2021/08/book-and-box-1-scaled.jpg
END:VEVENT
BEGIN:VEVENT
DTSTART;TZID=America/Detroit:20211008T053000
DTEND;TZID=America/Detroit:20211008T200000
DTSTAMP:20260420T151050
CREATED:20210914T172131Z
LAST-MODIFIED:20210914T172132Z
UID:10000915-1633671000-1633723200@krasl.org
SUMMARY:EXHIBITION PREVIEW EVENING
DESCRIPTION:FRIDAY\, OCTOBER 8\nFree & Open to the Public\n  \n5:30 PM: artlab ARTISTS IN DIALOGUE \nArtists Andrea Peterson and Mary Uthuppurru present the butterfly\, the flying fish and the hurricane and their collaborative process behind the work. \n6 – 8 PM: PREVIEW PARTY \nFeaturing an interactive knot-tying project\, cash bar\, and live music. \n  \nArtwork: Andrea Peterson & Mary Uthuppurru\, the butterfly\, the flying fish and the hurricane (detail)\, 2021. Hand-made accordion-fold artist book.
URL:https://krasl.org/event/exhibition-preview-evening/
LOCATION:Krasl Art Center\, 707 Lake Blvd\, St. Joseph\, MI\, 49085\, United States
CATEGORIES:Event
ATTACH;FMTTYPE=image/jpeg:https://krasl.org/wp-content/uploads/2021/09/p5-6-scaled.jpg
END:VEVENT
BEGIN:VEVENT
DTSTART;VALUE=DATE:20211009
DTEND;VALUE=DATE:20211129
DTSTAMP:20260420T151050
CREATED:20210914T175200Z
LAST-MODIFIED:20211015T163027Z
UID:10000924-1633737600-1638143999@krasl.org
SUMMARY:EXHIBITION PROGRAMMING - ASMA + ARTLAB
DESCRIPTION:Learn more about the work on view during special tours\, artist talks\, and virtual events. Some events require advance registration. To register\, click the links below.\nHours and event details are subject to change. KAC references state health guidelines to make adjustments for the safety of our visitors. Find the most up-to-date hours\, admission information\, and safety policies under the Visit tab. \n\n \nEXHIBITION PREVIEW EVENING \nFRIDAY\, OCTOBER 8\nFree & Open to the Public\n  \n\n5:30 PM: artlab ARTISTS IN DIALOGUE\n\nArtists Andrea Peterson and Mary Uthuppurru present the butterfly\, the flying fish and the hurricane and their collaborative process behind the work. \n\n6 – 8 PM: PREVIEW PARTY\n\nFeaturing an interactive knot-tying project\, cash bar\, and live music. \n\n \nVIRTUAL COFFEE WITH THE CURATOR \nTHURSDAY\, OCTOBER 14\, 12 PM \nFREE on Facebook Live\n\n\nTHIRD THURSDAY ART EVENT: \nARTIST TALK WITH CAROL SHAHBAZ & RANDALL HIGDON\n\nTHURSDAY\, OCTOBER 21\, 7 PM\nFree In-person Event; Advance Registration Required.\n\n \nTHIRD THURSDAY ART EVENT: STUDIO TOUR WITH ANDREA PETERSON \nTHURSDAY\, NOVEMBER 18\, 7 PM\nFree In-person Event; Advance Registration Required.\n\n \nLIVE AT LUNCHTIME FOCUS TALKS \nEVERY THURSDAY AT NOON\nFree Virtual Event Live on KAC’s Facebook Page
URL:https://krasl.org/event/exhibiton-programming-american-society-for-marine-artists/
LOCATION:MI
CATEGORIES:Exhibition
ATTACH;FMTTYPE=image/jpeg:https://krasl.org/wp-content/uploads/2021/09/Reid_Jenkin_Debra_Sand_Stories_Oil_12x12.jpg
END:VEVENT
BEGIN:VEVENT
DTSTART;TZID=America/Detroit:20211009T110000
DTEND;TZID=America/Detroit:20211009T110000
DTSTAMP:20260420T151050
CREATED:20210927T205301Z
LAST-MODIFIED:20210927T205301Z
UID:10000925-1633777200-1633777200@krasl.org
SUMMARY:Family Day: Painting Pumpkins
DESCRIPTION:Saturday\, October 9\, 2021\n11 AM – 12:30 PM\nFREE & OPEN TO ALL AGES\n**SPACE LIMITED REGISTRATION REQUIRED \nIt’s time to get into the fall spirit! This Family Day KAC will be painting pie pumpkins to celebrate this autumnal season. This event will be outdoors\, so dress according to the weather and also dress for mess! \n————————————-\n**Registration Required. 1 spot = 1 participant. 
URL:https://krasl.org/event/family-day-painting-pumpkins/
LOCATION:MI
CATEGORIES:Community Engagement,Event
ATTACH;FMTTYPE=image/jpeg:https://krasl.org/wp-content/uploads/2021/09/Painted-Pumpkin.jpg
END:VEVENT
BEGIN:VEVENT
DTSTART;TZID=America/Detroit:20211014T120000
DTEND;TZID=America/Detroit:20211014T123000
DTSTAMP:20260420T151050
CREATED:20210914T173106Z
LAST-MODIFIED:20210914T173106Z
UID:10000916-1634212800-1634214600@krasl.org
SUMMARY:VIRTUAL COFFEE WITH THE CURATOR
DESCRIPTION:THURSDAY\, OCTOBER 14\, 12 PM \nFREE on Facebook Live\n  \nJoin KAC Curator and Deputy Director Tami Miller for a first look and virtual tour of the American Society Of Marine Artists North Juried Regional Exhibition during KAC’s regular weekly art talk\, Live at Lunchtime Focus Talks.
URL:https://krasl.org/event/virtual-coffee-with-the-curator-2/
LOCATION:MI
CATEGORIES:Event
ATTACH;FMTTYPE=image/jpeg:https://krasl.org/wp-content/uploads/2021/09/File_000-scaled.jpeg
END:VEVENT
BEGIN:VEVENT
DTSTART;TZID=America/Detroit:20211021T120000
DTEND;TZID=America/Detroit:20211021T123000
DTSTAMP:20260420T151050
CREATED:20210914T174752Z
LAST-MODIFIED:20211015T165018Z
UID:10000919-1634817600-1634819400@krasl.org
SUMMARY:Live at Lunchtime: ASMA Artist Chris Forrest
DESCRIPTION:EVERY THURSDAY AT NOON\nFree Virtual Event Live on KAC’s Facebook Page\n  \nHear from a different marine artist each week.  \n\nOctober 21 – Chris Forrest\nOctober 28 – Stephen Roberson\nNovember 4 – Natalia Andreeva\nNovember 11 – Joyful Enriquez\nNovember 18 – Nadia Klionsky\n\n  \n[Artwork: Chris Forrest. It’s MY Driftwood. Oil.]
URL:https://krasl.org/event/live-at-lunchtime-asma-artists/
LOCATION:MI
CATEGORIES:Event
ATTACH;FMTTYPE=image/jpeg:https://krasl.org/wp-content/uploads/2021/09/19-Chris-Forrest_Cropped-scaled.jpg
END:VEVENT
BEGIN:VEVENT
DTSTART;TZID=America/Detroit:20211021T190000
DTEND;TZID=America/Detroit:20211021T200000
DTSTAMP:20260420T151050
CREATED:20210914T173702Z
LAST-MODIFIED:20210914T173702Z
UID:10000917-1634842800-1634846400@krasl.org
SUMMARY:THIRD THURSDAY ART EVENT:  ARTIST TALK WITH CAROL SHAHBAZ & RANDALL HIGDON
DESCRIPTION:THURSDAY\, OCTOBER 21\, 7 PM\nFree In-person Event; Advance Registration Required.\n  \nJoin special guests and local participating marine artists Carol Shahbaz and Randall Higdon in KAC’s galleries as they share more about their work in the North Juried Regional Exhibition as well as insights into their painting processes. \nArtworks: Randall Higdon. Looking North To Empire Bluff. Oil; Carol Shahbaz. Serenity. Acrylic. \n[Image description: On the left\, an oil painting of a lakeside landscape. Sand with grass is in the foreground with trees\, lake\, and bluff in the background. On the right is an acrylic painting of koi fish and lily pads against a white background.]
URL:https://krasl.org/event/third-thursday-art-event-artist-talk-with-carol-shahbaz-randall-higdon/
LOCATION:Krasl Art Center\, 707 Lake Blvd\, St. Joseph\, MI\, 49085\, United States
CATEGORIES:Event
ATTACH;FMTTYPE=image/jpeg:https://krasl.org/wp-content/uploads/2021/09/LiveatLunchtie_Guest_1-01-scaled.jpg
END:VEVENT
BEGIN:VEVENT
DTSTART;TZID=America/Detroit:20211024T150000
DTEND;TZID=America/Detroit:20211024T160000
DTSTAMP:20260420T151050
CREATED:20210929T131108Z
LAST-MODIFIED:20210929T131304Z
UID:10000926-1635087600-1635091200@krasl.org
SUMMARY:KAC Annual Meeting and Guest Speaker Pearl Dick - Project FIRE
DESCRIPTION:SUNDAY OCTOBER 24\, 3 PM\nFREE IN-PERSON AND ONLINE EVENT - REGISTRATION REQUIRED\n\n\nKrasl Art Center is pleased to welcome Pearl Dick to the Annual Meeting of the Membership. \nOne of two founders of Project FIRE (Fearless Initiative for Recovery and Empowerment)\, Pearl will share stories about the program and the impact art has had on her community. She currently teaches both the Fiber and Material Studies Hot Projects Glass Production class in her studio for the School of the Art Institute\, Chicago. \nThe evening will include a brief annual meeting of KAC’s membership. KAC will announce new board officers and 2022 plans that further the organization’s mission. \nRegister for this event by Friday\, October 22 at 4 PM at krasl.org/art/programregistration
URL:https://krasl.org/event/kac-annual-meeting-and-guest-speaker-pearl-dick-project-fire/
LOCATION:Krasl Art Center\, 707 Lake Blvd\, St. Joseph\, MI\, 49085\, United States
CATEGORIES:Community Engagement,Visiting Artist,Event
ATTACH;FMTTYPE=image/jpeg:https://krasl.org/wp-content/uploads/2021/09/9.-Pearl-pic-copy.jpg
END:VEVENT
BEGIN:VEVENT
DTSTART;TZID=America/Detroit:20211028T123000
DTEND;TZID=America/Detroit:20211028T123000
DTSTAMP:20260420T151050
CREATED:20210914T174752Z
LAST-MODIFIED:20211015T165504Z
UID:10000920-1635424200-1635424200@krasl.org
SUMMARY:Live at Lunchtime: ASMA Artist Stephen Roberson
DESCRIPTION:EVERY THURSDAY AT NOON\nFree Virtual Event Live on KAC’s Facebook Page\n  \nHear from a different marine artist each week.  \n\nOctober 21 – Chris Forrest\nOctober 28 – Stephen Roberson\nNovember 4 – Natalia Andreeva\nNovember 11 – Joyful Enriquez\nNovember 18 – Nadia Klionsky\n\n  \nImage: Stephen Roberson. Wave Crashing on Rock. Oil.
URL:https://krasl.org/event/live-at-lunchtime-asma-artists-2021-10-28/
LOCATION:MI
CATEGORIES:Event
ATTACH;FMTTYPE=image/jpeg:https://krasl.org/wp-content/uploads/2021/09/IMG_4590-scaled-e1634316859836.jpg
END:VEVENT
BEGIN:VEVENT
DTSTART;TZID=America/Detroit:20211029T200000
DTEND;TZID=America/Detroit:20211029T210000
DTSTAMP:20260420T151050
CREATED:20211006T010050Z
LAST-MODIFIED:20211006T010050Z
UID:10000928-1635537600-1635541200@krasl.org
SUMMARY:Flick-or-Treat at KAC
DESCRIPTION:FRIDAY\, OCTOBER 29\, 8 PM \nFREE on Facebook Live \nKrasl Art Center and the Coastline Children’s Film Festival (CCFF) have combined forces once again for the return of Flick-or-Treat.\nHead to KAC in St. Joseph on October 29 to decorate your own pumpkin to display at KAC and then enjoy 10 projected silent films with a live piano accompaniment from Dr. Larry Shanker on KAC’s grounds. Pull up a blanket\, enjoy popcorn\, coffee or hot cocoa from Red Arrow Roasters\, and experience 10 classic films projected on Krasl Art Center’s building. A $2 suggested donation supports CCFF and KAC collaborations. \nCALLING ALL PUMPKIN ARTISTS! \nBe a part of the event and showcase YOUR carved or decorated pumpkin to a Community Pumpkin Walk on view all weekend. Simply come by KAC from 7–8 PM and decorate to your heart’s content! The display will be illuminated evenings through October 31. \nFor a full list of films\, visit  https://krasl.org/events/flick-or-treat/ \nFlick-or-Treat 2021 is underwritten by the Virginia & Harvey Kimmel Family Foundation. This activity is supported by the Michigan Council for Arts and Cultural Affairs Minigrant Program administered by the Arts Council of Greater Kalamazoo. \nGuests will be required to adhere to current COVID safety protocols. In the event of inclement weather\, the event will take place on October 30 at the same time and location. Updates will be shared here and on both organizations’ Fac
URL:https://krasl.org/event/flick-or-treat-at-kac/
LOCATION:Krasl Art Center\, 707 Lake Blvd\, St. Joseph\, MI\, 49085\, United States
CATEGORIES:Community Engagement,Event,Exhibition
END:VEVENT
END:VCALENDAR