BEGIN:VCALENDAR
VERSION:2.0
PRODID:-//Krasl Art Center - ECPv6.15.17.1//NONSGML v1.0//EN
CALSCALE:GREGORIAN
METHOD:PUBLISH
X-WR-CALNAME:Krasl Art Center
X-ORIGINAL-URL:https://krasl.org
X-WR-CALDESC:Events for Krasl Art Center
REFRESH-INTERVAL;VALUE=DURATION:PT1H
X-Robots-Tag:noindex
X-PUBLISHED-TTL:PT1H
BEGIN:VTIMEZONE
TZID:America/Detroit
BEGIN:DAYLIGHT
TZOFFSETFROM:-0500
TZOFFSETTO:-0400
TZNAME:EDT
DTSTART:20200308T070000
END:DAYLIGHT
BEGIN:STANDARD
TZOFFSETFROM:-0400
TZOFFSETTO:-0500
TZNAME:EST
DTSTART:20201101T060000
END:STANDARD
BEGIN:DAYLIGHT
TZOFFSETFROM:-0500
TZOFFSETTO:-0400
TZNAME:EDT
DTSTART:20210314T070000
END:DAYLIGHT
BEGIN:STANDARD
TZOFFSETFROM:-0400
TZOFFSETTO:-0500
TZNAME:EST
DTSTART:20211107T060000
END:STANDARD
BEGIN:DAYLIGHT
TZOFFSETFROM:-0500
TZOFFSETTO:-0400
TZNAME:EDT
DTSTART:20220313T070000
END:DAYLIGHT
BEGIN:STANDARD
TZOFFSETFROM:-0400
TZOFFSETTO:-0500
TZNAME:EST
DTSTART:20221106T060000
END:STANDARD
END:VTIMEZONE
BEGIN:VEVENT
DTSTART;VALUE=DATE:20210612
DTEND;VALUE=DATE:20211004
DTSTAMP:20260420T043834
CREATED:20210518T173228Z
LAST-MODIFIED:20210726T200634Z
UID:10000874-1623456000-1633305599@krasl.org
SUMMARY:BLOW UP II Exhibition Programming
DESCRIPTION:Learn more about the work on view during special tours\, artist talks\, and virtual events. Some events require advance registration. To register\, click the links below.\nHours and event details are subject to change. KAC references state health guidelines to make adjustments for the safety of our visitors. Find the most up-to-date hours\, admission information\, and safety policies under the Visit tab. \n\nOPENING CELEBRATION \n\nSATURDAY\, JUNE 12\, 11 AM - 1 PM \nFree & Open to the Public\n  \n\nVIRTUAL COFFEE WITH THE CURATOR \nTHURSDAY\, JUNE 17\, 12 PM \nFREE on Facebook Live\n\nTHIRD THURSDAY ART EVENT: ARTIST TALK WITH LIZABETH ROSSOF \nTHURSDAY\, JUNE 17\, 7 PM\nFree In-person & Virtual Event On Zoom; Advance Registration Required.\n  \n\nCANCELED: THIRD THURSDAY ART EVENT: OUTDOOR SCULPTURE WALK \nIN-PERSON WALKING TOUR\nTHURSDAY\, JULY 15\, 7 PM\nFREE; Advance Registration required.\n  \n  \n\nCOLLABORATIVE FAMILY WORKSHOP \nSATURDAY\, AUGUST 14\, 10 AM - 2:30 PM\, BYO PICNIC LUNCH\n$10 per family of up to 4 participants. Ages 8 and up. Advance Registration required.\n  \nImage courtesy of Eric Schrijver\, Levilab. \n\nTHIRD THURSDAY ART EVENT: VIRTUAL STUDIO TOUR WITH BIGthink \nVIRTUAL STUDIO TOUR\nTHURSDAY\, AUGUST 19\, 7 PM\nFREE; Advance Registration required.\n  \nGet inside the creative process of local artist collaborative BIGthink with a virtual studio tour! Learn more about air-filled art and enjoy stimulating conversation with the artists. \nBIGthink is a collaborative of artists\, scientists and educators with a mission to expand creative\, critical thinking and strengthen community relationships by integrating art\, science and technology processes for peace-filled outcomes. Their environmental installations combine levels of digital technology with innovative air/ helium sculptures\, which are designed and fabricated from high-tech and traditional art media. \nArtwork: BIGthink’s immersive installation as part of Krasl Art Center’s 2018 Sculpture Biennial. \n\nTHIRD THURSDAY ART EVENT: OUTDOOR SCULPTURE WALK \nIN-PERSON WALKING TOUR\nTHURSDAY\, SEPTEMBER 16\, 7 PM (RESCHEDULED FROM JULY)\nFREE; Advance Registration required.\n  \nLet’s talk about big art! Meet in KAC’s galleries to tour BLOW UP II with Deputy Director and Curator\, Tami Miller\, before heading out into the community to learn more about the artworks in KAC’s public sculpture collection.  \nArtwork: Ken Thompson. Steel Arch 4\, 2009. Corten steel and stainless steel. \n\nLIVE AT LUNCHTIME FOCUS TALKS \nTHURSDAYS at 12 PM\nFREE on Facebook Live\n 
URL:https://krasl.org/event/blow-up-ii-exhibition-programming/
LOCATION:Krasl Art Center\, 707 Lake Blvd\, St. Joseph\, MI\, 49085\, United States
CATEGORIES:Exhibition
ATTACH;FMTTYPE=image/jpeg:https://krasl.org/wp-content/uploads/2020/05/Engelstein-Rossof-Installation_HIGH-RES-scaled.jpg
END:VEVENT
BEGIN:VEVENT
DTSTART;TZID=America/Detroit:20210902T120000
DTEND;TZID=America/Detroit:20210902T123000
DTSTAMP:20260420T043834
CREATED:20210726T195343Z
LAST-MODIFIED:20210817T130427Z
UID:10000897-1630584000-1630585800@krasl.org
SUMMARY:Live at Lunchtime Focus Talks: BLOW UP II - Live with Susan Lee-Chun
DESCRIPTION:THURSDAYS at 12 PM\nFREE on Facebook Live \nLive at Lunchtime Focus Talks is a weekly series over the lunch hour on Facebook Live during which artists and art workers share more about their work at KAC and in the community. Check back often as new topics are added! \n\nAUGUST 26: LIZ ROSSOF\nSEPTEMBER 2: LIVE WITH SUSAN LEE-CHUN
URL:https://krasl.org/event/live-at-lunchtime-focus-talks-blow-up-ii-2021-09-02/
LOCATION:MI
CATEGORIES:Event
ATTACH;FMTTYPE=image/jpeg:https://krasl.org/wp-content/uploads/2021/07/IMG_1790-scaled.jpg
END:VEVENT
BEGIN:VEVENT
DTSTART;VALUE=DATE:20210906
DTEND;VALUE=DATE:20210907
DTSTAMP:20260420T043834
CREATED:20210817T223800Z
LAST-MODIFIED:20210817T223800Z
UID:10000907-1630886400-1630972799@krasl.org
SUMMARY:
DESCRIPTION:Every student has a different set of needs\, interests\, skills\, and learning styles. Instead of a one-size-fits-all approach\, programs are designed to be adaptable and responsive to the situation\, and provide opportunities for self-expression and storytelling. \n\nRegistration opens August 9 and closes September 6\, 2021.  \n\nClasses begin the week of September 13. \n\nKrasl Art Center’s 12–week youth courses provide a safe\, equitable\, friendly\, and fun learning experience for every student! Youth classes are scheduled during and after public school hours\, tuition is $275 ($180 for KAC Members)\, and scholarships are available. Class code\, title\, date\, and teaching artist are included below — learn more and register for youth classes or apply for a scholarship at  krasl.org/education/youth/classes/ \n\nThere are no classes November 22–28. \n\nAll courses are in-person with limited studio capacities. Enrolled students will receive COVID policy updates before classes begin. Krasl Art Center will follow current health guidelines in September — masks are currently required in KAC studios. \n\nYOUTH CLASSES \nY.57.1: MONDAY MUD PUPPIES \n– – 5–7 YRS | MON. 10 AM–12 PM \n– – SEPT. 13 – DEC. 6  \n– – Teaching Artist: Keith Stevens \n\nY.57.2: WEDNESDAY MUD PUPPIES \n– – 5–7 YRS | WED. 10 AM–12 PM \n– – SEPT. 15 – DEC. 8  \n– – Teaching Artist: Sherrie Styx \n\nY.57.3: ART HISTORY SAMPLER \n– – 5–7 YRS | TUES. 10 AM–12 PM \n– – SEPT. 14 – DEC. 7  \n– – Teaching Artist: Amy Story \n\nY.57.4: MEDIA SAMPLER: DRAWING\, PAINTING\, & CLAY \n– – 5–7 YRS | THURS. 4–6 PM \n– – SEPT. 16 – DEC. 9  \n– – Teaching Artist: Keith Stevens \n\nY.812.1: MUD MAKERS AFTERNOON \n– – 8–12 YRS | WED. 1–3 PM \n– – SEPT. 15 – DEC. 8 \n– – Teaching Artist: Jennifer Zona \n\nY.812.2: MUD MAKERS EVENING \n– – 8–12 YRS | TUES. 4–6 PM \n– – SEPT. 14 – DEC. 7  \n– – Teaching Artist: Dani Davis \n\nY.812.3: DRAWING & PAINTING ANIMALS \n– – 8–12 YRS  | THURS. 4–6 PM \n– – SEPT. 16 – DEC. 9 \n– – Teaching Artist: Jessica Hightower \n\nY.812.4: MEDIA SAMPLER: DRAWING\, PAINTING\, & METALWORKING \n– – 8–12 YRS | TUES. 1–3 PM \n– – SEPT. 14 – DEC. 7  \n– – Teaching Artist: Sherrie Styx
URL:https://krasl.org/event/8720/
LOCATION:Krasl Art Center\, 707 Lake Blvd\, St. Joseph\, MI\, 49085\, United States
CATEGORIES:Community Engagement,Class,Event
ORGANIZER;CN="Matthew":MAILTO:marketing@krasl.org
END:VEVENT
BEGIN:VEVENT
DTSTART;VALUE=DATE:20210906
DTEND;VALUE=DATE:20210907
DTSTAMP:20260420T043834
CREATED:20210823T182617Z
LAST-MODIFIED:20210823T182617Z
UID:10000908-1630886400-1630972799@krasl.org
SUMMARY:Registration Deadline – Krasl Art Center Adult/Teen Class Fall ‘21
DESCRIPTION:Learn a new art form\, enhance your resiliency skills\, or create a new date night with an art class at Krasl Art Center. \n\nRegistration opens August 9 and closes September 6*\, 2021.  \n\nClasses begin the week of September 13. \n\nThe creative process is messy and unpredictable\, and that’s what KAC’s teaching artists love about it! Instead of providing a step-by-step formula that leads to a predetermined outcome\, instructors provide guidance and structured exploration through the elements and principles of art.  \n\nMeeting September 13 – November 5\, these 4 and 8-week Adult/Teen courses connect students in and beyond the classroom by engaging with art history and contemporary topics. Enrolled students will have the opportunity to sign up for 4-week extension classes running November 15 – December 10\, 2021. \n\nThere are no classes November 22–28. \n\nLearn more about adult/teen classes and scholarship opportunities at krasl.org/education/adult/classes/ \n\nAll courses are in-person with limited studio capacities. Enrolled students will receive COVID policy updates before classes begin. Krasl Art Center will follow current health guidelines in September — masks are currently required in KAC studios. \n\nADULT/TEEN CLASSES \nA.P.1: WATERCOLOR FLOWERS \n– – TUES. 6:30–9 PM | SEPT. 14 – NOV. 2 \n– – TUITION: $160 ($150 for KAC Members) \n– – Teaching Artist: Kerry Binnington \n\nA.P.2: INTRODUCTION TO ACRYLICS \n– – TUES. 1–3:30 PM | SEPT. 14 – NOV. 2 \n– – TUITION: $160 ($150 for KAC Members) \n– – Teaching Artist: Nathan Margoni \n\nA.P.3: INTRODUCTION TO OIL PAINTING \n– – THURS. 6:30–9 PM | SEPT. 16 – NOV. 4 \n– – TUITION: $160 ($150 for KAC Members)|MATERIALS FEE: $35 \n– – Teaching Artist: Lea Bult \n\nA.PH.1: DIGITAL PHOTOGRAPHY TECH \n– – THURS. 6–8:30 PM | SEPT. 16 – NOV. 4 \n– – TUITION: $160 ($150 for KAC members) \n– – BRING YOUR OWN DSLR CAMERA \n– – Teaching Artist: Tim Schroeder \n\nA.D.1: DRAWING FUNDAMENTALS \n– – TUES. 6:30–9 PM | SEPT. 14–NOV. 2 \n– – TUITION: $160 ($150 for KAC Members)|MATERIALS FEE: $15 \n– – Teaching Artist: Lea Bult \n\nA.D.2: INTRODUCTION TO FIGURE DRAWING (4 WEEK CLASS) \n– – MON. 6:30–9 PM | SEPT. 13–OCT. 4 \n– – TUITION: $80  ($70 for KAC Members)|MODEL FEE: $25 \n– – Teaching Artist: Lea Bult \n\n*A.MM.1: MIXED MEDIA TECHNIQUES (4 WEEK CLASS) \n– – MON. 6:30–9 PM | OCT. 11 – NOV. 1 \n– – REGISTRATION DEADLINE: OCT. 4 \n– – TUITION: $80  ($70 for KAC Members)|MATERIALS FEE: $25 \n– – Teaching Artist: Lea Bult \n\nA.D.3: INTERMEDIATE DRAWING AND PAINTING: ASK THE COACH! \n– – MON. 1–3:30 PM | SEPT. 13 – NOV. 1 \n– – TUITION: $160 ($150 for KAC members) \n– – Teaching Artist: David Baker \n\nA.D.4: INDEPENDENT STUDY & PORTFOLIO DEVELOPMENT \n– – THURS. 1–3:30 PM | SEPT. 16 – NOV. 4 \n– – TUITION: $160 ($150 for KAC Members) \n– – Teaching Artist: Lea Bult \n\nA.J.1: INTRODUCTION TO METALSMITHING: MATCHING SET OF RINGS & EARRINGS \n– – TUES. 6:30–9 PM | SEPT. 14 – NOV. 2 \n– – TUITION: $200 ($175 for KAC Members)|MATERIALS FEE: $75 \n– – Teaching Artist: Tabitha Gulino \n\nA.S.1: BEGINNING WOODCARVING (6 STUDENT MAX) \n– – THURS. 6–8:30 PM | SEPT. 16 – NOV. 11 (NO CLASS OCT. 14) \n– – TUITION: $160 ($150 for KAC Members)|MATERIALS FEE: $35 \n– – Teaching Artist: John DeLapa \n\nA.C.1: INTRODUCTION TO CERAMICS \n– – TUES. 6:30–9 PM | SEPT. 14 – NOV. 2 \n– – TUITION: $160 ($150 for KAC Members)|CLAY: $25 PER BAG \n– – Teaching Artist: Jennifer Zona \n\nA.C.2: INTRODUCTION TO WHEELTHROWING \n– – MON. 6:30–9 PM | SEPT. 20 – NOV. 8 \n– – TUITION: $160 ($150 for KAC Members)|CLAY: $25 PER BAG \n– – Teaching Artist: Paola Gracida \n\nA.C.3: DAYTIME WHEELTHROWING \n– – THURS. 10 AM–12:30 PM | SEPT. 16 – NOV. 4 \n– – TUITION: $160 ($150 for KAC Members)|CLAY: $25 PER BAG \n– – Teaching Artist: Jon Hook
URL:https://krasl.org/event/registration-deadline-krasl-art-center-adult-teen-class-fall-21-2/
LOCATION:Krasl Art Center\, 707 Lake Blvd\, St. Joseph\, MI\, 49085\, United States
CATEGORIES:Community Engagement,Class,Visiting Artist,Event,Exhibition
ORGANIZER;CN="Matthew":MAILTO:marketing@krasl.org
END:VEVENT
BEGIN:VEVENT
DTSTART;TZID=America/Detroit:20210906T110000
DTEND;TZID=America/Detroit:20210906T170000
DTSTAMP:20260420T043834
CREATED:20210809T140001Z
LAST-MODIFIED:20210806T154726Z
UID:10000902-1630926000-1630947600@krasl.org
SUMMARY:Registration Deadline – Krasl Art Center Adult/Teen Class Fall ‘21
DESCRIPTION:Learn a new art form\, enhance your resiliency skills\, or create a new date night with an art class at Krasl Art Center. \nRegistration opens August 9 and closes September 6*\, 2021.  \nClasses begin the week of September 13. \nThe creative process is messy and unpredictable\, and that’s what KAC’s teaching artists love about it! Instead of providing a step-by-step formula that leads to a predetermined outcome\, instructors provide guidance and structured exploration through the elements and principles of art.  \nMeeting September 13 – November 5\, these 4 and 8-week Adult/Teen courses connect students in and beyond the classroom by engaging with art history and contemporary topics. Enrolled students will have the opportunity to sign up for 4-week extension classes running November 15 – December 10\, 2021. \nThere are no classes November 22–28. \nLearn more about adult/teen classes and scholarship opportunities HERE \nAll courses are in-person with limited studio capacities. Enrolled students will receive COVID policy updates before classes begin. Krasl Art Center will follow current health guidelines in September — masks are currently required in KAC studios. \n\n*A.MM.1: MIXED MEDIA TECHNIQUES (4 WEEK CLASS)\n- - REGISTRATION DEADLINE: OCT. 4
URL:https://krasl.org/event/registration-deadline-krasl-art-center-adult-teen-class-fall-21/
LOCATION:Krasl Art Center\, 707 Lake Blvd\, St. Joseph\, MI\, 49085\, United States
CATEGORIES:Class
ATTACH;FMTTYPE=image/jpeg:https://krasl.org/wp-content/uploads/2021/08/AP1.Watercolor-Flowers-2.jpg
END:VEVENT
BEGIN:VEVENT
DTSTART;TZID=America/Detroit:20210906T110000
DTEND;TZID=America/Detroit:20210906T170000
DTSTAMP:20260420T043834
CREATED:20210809T140003Z
LAST-MODIFIED:20210806T154344Z
UID:10000903-1630926000-1630947600@krasl.org
SUMMARY:Registration Deadline – Krasl Art Center Youth Class Fall ‘21
DESCRIPTION:Every student has a different set of needs\, interests\, skills\, and learning styles. Instead of a one-size-fits-all approach\, programs are designed to be adaptable and responsive to the situation\, and provide opportunities for self-expression and storytelling. \nRegistration opens August 9 and closes September 6\, 2021.  \nClasses begin the week of September 13. \nKrasl Art Center’s 12–week youth courses provide a safe\, equitable\, friendly\, and fun learning experience for every student! Youth classes are scheduled during and after public school hours\, tuition is $275 ($180 for KAC Members)\, and scholarships are available. Class code\, title\, date\, and teaching artist are included below — learn more and register for youth classes or apply for a scholarship HERE \nThere are no classes November 22–28. \n 
URL:https://krasl.org/event/registration-deadline-krasl-art-center-youth-class-fall-21/
LOCATION:MI
CATEGORIES:Class
ATTACH;FMTTYPE=image/jpeg:https://krasl.org/wp-content/uploads/2021/08/IMG_2194-scaled-e1628264371415.jpg
END:VEVENT
BEGIN:VEVENT
DTSTART;TZID=America/Detroit:20210906T110000
DTEND;TZID=America/Detroit:20210906T170000
DTSTAMP:20260420T043834
CREATED:20210901T192433Z
LAST-MODIFIED:20210901T192612Z
UID:10000912-1630926000-1630947600@krasl.org
SUMMARY:September Family Day Registration Deadline
DESCRIPTION:Family Day Information:\nSaturday\, September 11\, 2021\n11 AM – 12:30 PM \nFREE & OPEN TO ALL AGES\n**SPACE LIMITED REGISTRATION REQUIRED. 1 spot per family for up to 3 participants. \n\n\n Alexander Calder is known for his mobile sculptures designed to hang from the ceiling and move with air currents. Learn to use wire and other simple materials to create your own Calder-inspired mobile.
URL:https://krasl.org/event/september-family-day-registration-deadline/
LOCATION:Krasl Art Center\, 707 Lake Blvd\, St. Joseph\, MI\, 49085\, United States
CATEGORIES:Event
ATTACH;FMTTYPE=image/jpeg:https://krasl.org/wp-content/uploads/2021/09/FAM9_-Calder-Mobiles-Family-Day-scaled-e1630524030628.jpg
END:VEVENT
BEGIN:VEVENT
DTSTART;TZID=America/Detroit:20210908T120000
DTEND;TZID=America/Detroit:20210908T123000
DTSTAMP:20260420T043834
CREATED:20210908T123801Z
LAST-MODIFIED:20210908T124009Z
UID:10000913-1631102400-1631104200@krasl.org
SUMMARY:Live at Lunchtime: Unified Civic Monuments Project
DESCRIPTION:THURSDAY\, SEPTEMBER 9\n12 PM ON FACEBOOK LIVE \nJoin Sharon and Emanuel Brown of the AFrican AMErican History & Literature Gallery and KAC’s Tami Miller live over your lunch break to discuss the Unified Civic Monuments Project. The group aims to raise public art in Benton Harbor and St. Joseph in honor of Dr. Rev. Martin Luther King Jr. while unifying the cities through conversations about history\, social justice\, and positive change.\nLearn more at unifiedmonuments.org.
URL:https://krasl.org/event/live-at-lunchtime-unified-civic-monuments-project/
LOCATION:MI
CATEGORIES:Community Engagement,Event
ATTACH;FMTTYPE=image/jpeg:https://krasl.org/wp-content/uploads/2021/09/UnifiedCivicMonuments.jpg
END:VEVENT
BEGIN:VEVENT
DTSTART;TZID=America/Detroit:20210909T120000
DTEND;TZID=America/Detroit:20210909T123000
DTSTAMP:20260420T043834
CREATED:20210726T195343Z
LAST-MODIFIED:20210817T130229Z
UID:10000889-1631188800-1631190600@krasl.org
SUMMARY:Live at Lunchtime Focus Talks: BLOW UP II - Liz Rossof
DESCRIPTION:THURSDAYS at 12 PM\nFREE on Facebook Live \nLive at Lunchtime Focus Talks is a weekly series over the lunch hour on Facebook Live during which artists and art workers share more about their work at KAC and in the community. Check back often as new topics are added! \n\nAUGUST 26: LIZ ROSSOF\nSEPTEMBER 2: LIVE WITH SUSAN LEE-CHUN
URL:https://krasl.org/event/live-at-lunchtime-focus-talks-blow-up-ii/2021-09-09/
LOCATION:MI
CATEGORIES:Event
ATTACH;FMTTYPE=image/jpeg:https://krasl.org/wp-content/uploads/2021/07/IMG_1777-scaled.jpg
END:VEVENT
BEGIN:VEVENT
DTSTART;TZID=America/Detroit:20210911T110000
DTEND;TZID=America/Detroit:20210911T123000
DTSTAMP:20260420T043834
CREATED:20210908T124458Z
LAST-MODIFIED:20210908T124702Z
UID:10000914-1631358000-1631363400@krasl.org
SUMMARY:September Family Day - Calder Mobiles; Registration Required!
DESCRIPTION:Saturday\, September 11\, 2021\n11 AM – 12:30 PM\nFREE & OPEN TO ALL AGES\n**SPACE LIMITED REGISTRATION REQUIRED. 1 spot per family for up to 3 participants.\nKAC is excited to host an in-person Family Day this September! \nAlexander Calder is known for his mobile sculptures designed to hang from the ceiling and move with air currents. Learn to use wire and other simple materials to create your own Calder-inspired mobile. \n 
URL:https://krasl.org/event/september-family-day-calder-mobiles-registration-required/
LOCATION:Krasl Art Center\, 707 Lake Blvd\, St. Joseph\, MI\, 49085\, United States
CATEGORIES:Community Engagement,Event
ATTACH;FMTTYPE=image/jpeg:https://krasl.org/wp-content/uploads/2021/09/FAM9_-Calder-Mobiles-Family-Day-scaled-e1630524030628.jpg
END:VEVENT
BEGIN:VEVENT
DTSTART;TZID=America/Detroit:20210916T120000
DTEND;TZID=America/Detroit:20210916T123000
DTSTAMP:20260420T043834
CREATED:20210726T195343Z
LAST-MODIFIED:20210817T130229Z
UID:10000890-1631793600-1631795400@krasl.org
SUMMARY:Live at Lunchtime Focus Talks: BLOW UP II - Liz Rossof
DESCRIPTION:THURSDAYS at 12 PM\nFREE on Facebook Live \nLive at Lunchtime Focus Talks is a weekly series over the lunch hour on Facebook Live during which artists and art workers share more about their work at KAC and in the community. Check back often as new topics are added! \n\nAUGUST 26: LIZ ROSSOF\nSEPTEMBER 2: LIVE WITH SUSAN LEE-CHUN
URL:https://krasl.org/event/live-at-lunchtime-focus-talks-blow-up-ii/2021-09-16/
LOCATION:MI
CATEGORIES:Event
ATTACH;FMTTYPE=image/jpeg:https://krasl.org/wp-content/uploads/2021/07/IMG_1777-scaled.jpg
END:VEVENT
BEGIN:VEVENT
DTSTART;TZID=America/Detroit:20210916T190000
DTEND;TZID=America/Detroit:20210916T200000
DTSTAMP:20260420T043834
CREATED:20210726T194558Z
LAST-MODIFIED:20210726T194558Z
UID:10000882-1631818800-1631822400@krasl.org
SUMMARY:THIRD THURSDAY ART EVENT: OUTDOOR SCULPTURE WALK
DESCRIPTION:IN-PERSON WALKING TOUR\nTHURSDAY\, SEPTEMBER 16\, 7 PM (RESCHEDULED FROM JULY)\nFREE; Advance Registration required.\n  \nLet’s talk about big art! Meet in KAC’s galleries to tour BLOW UP II with Deputy Director and Curator\, Tami Miller\, before heading out into the community to learn more about the artworks in KAC’s public sculpture collection.  \nArtwork: Ken Thompson. Steel Arch 4\, 2009. Corten steel and stainless steel.
URL:https://krasl.org/event/third-thursday-art-event-outdoor-sculpture-walk-2/
LOCATION:MI
CATEGORIES:Community Engagement,Event
ATTACH;FMTTYPE=image/jpeg:https://krasl.org/wp-content/uploads/2021/05/Steel-Arch-4-1.jpg
END:VEVENT
BEGIN:VEVENT
DTSTART;TZID=America/Detroit:20210923T120000
DTEND;TZID=America/Detroit:20210923T123000
DTSTAMP:20260420T043834
CREATED:20210726T195343Z
LAST-MODIFIED:20210817T130229Z
UID:10000891-1632398400-1632400200@krasl.org
SUMMARY:Live at Lunchtime Focus Talks: BLOW UP II - Liz Rossof
DESCRIPTION:THURSDAYS at 12 PM\nFREE on Facebook Live \nLive at Lunchtime Focus Talks is a weekly series over the lunch hour on Facebook Live during which artists and art workers share more about their work at KAC and in the community. Check back often as new topics are added! \n\nAUGUST 26: LIZ ROSSOF\nSEPTEMBER 2: LIVE WITH SUSAN LEE-CHUN
URL:https://krasl.org/event/live-at-lunchtime-focus-talks-blow-up-ii/2021-09-23/
LOCATION:MI
CATEGORIES:Event
ATTACH;FMTTYPE=image/jpeg:https://krasl.org/wp-content/uploads/2021/07/IMG_1777-scaled.jpg
END:VEVENT
BEGIN:VEVENT
DTSTART;TZID=America/Detroit:20210930T120000
DTEND;TZID=America/Detroit:20210930T123000
DTSTAMP:20260420T043834
CREATED:20210726T195343Z
LAST-MODIFIED:20210817T130229Z
UID:10000892-1633003200-1633005000@krasl.org
SUMMARY:Live at Lunchtime Focus Talks: BLOW UP II - Liz Rossof
DESCRIPTION:THURSDAYS at 12 PM\nFREE on Facebook Live \nLive at Lunchtime Focus Talks is a weekly series over the lunch hour on Facebook Live during which artists and art workers share more about their work at KAC and in the community. Check back often as new topics are added! \n\nAUGUST 26: LIZ ROSSOF\nSEPTEMBER 2: LIVE WITH SUSAN LEE-CHUN
URL:https://krasl.org/event/live-at-lunchtime-focus-talks-blow-up-ii/2021-09-30/
LOCATION:MI
CATEGORIES:Event
ATTACH;FMTTYPE=image/jpeg:https://krasl.org/wp-content/uploads/2021/07/IMG_1777-scaled.jpg
END:VEVENT
END:VCALENDAR