BEGIN:VCALENDAR
VERSION:2.0
PRODID:-//Krasl Art Center - ECPv6.15.17.1//NONSGML v1.0//EN
CALSCALE:GREGORIAN
METHOD:PUBLISH
X-ORIGINAL-URL:https://krasl.org
X-WR-CALDESC:Events for Krasl Art Center
REFRESH-INTERVAL;VALUE=DURATION:PT1H
X-Robots-Tag:noindex
X-PUBLISHED-TTL:PT1H
BEGIN:VTIMEZONE
TZID:America/Detroit
BEGIN:DAYLIGHT
TZOFFSETFROM:-0500
TZOFFSETTO:-0400
TZNAME:EDT
DTSTART:20190310T070000
END:DAYLIGHT
BEGIN:STANDARD
TZOFFSETFROM:-0400
TZOFFSETTO:-0500
TZNAME:EST
DTSTART:20191103T060000
END:STANDARD
BEGIN:DAYLIGHT
TZOFFSETFROM:-0500
TZOFFSETTO:-0400
TZNAME:EDT
DTSTART:20200308T070000
END:DAYLIGHT
BEGIN:STANDARD
TZOFFSETFROM:-0400
TZOFFSETTO:-0500
TZNAME:EST
DTSTART:20201101T060000
END:STANDARD
BEGIN:DAYLIGHT
TZOFFSETFROM:-0500
TZOFFSETTO:-0400
TZNAME:EDT
DTSTART:20210314T070000
END:DAYLIGHT
BEGIN:STANDARD
TZOFFSETFROM:-0400
TZOFFSETTO:-0500
TZNAME:EST
DTSTART:20211107T060000
END:STANDARD
BEGIN:DAYLIGHT
TZOFFSETFROM:-0500
TZOFFSETTO:-0400
TZNAME:EDT
DTSTART:20220313T070000
END:DAYLIGHT
BEGIN:STANDARD
TZOFFSETFROM:-0400
TZOFFSETTO:-0500
TZNAME:EST
DTSTART:20221106T060000
END:STANDARD
END:VTIMEZONE
BEGIN:VEVENT
DTSTART;VALUE=DATE:20200904
DTEND;VALUE=DATE:20210125
DTSTAMP:20260420T160206
CREATED:20200820T123204Z
LAST-MODIFIED:20210219T215436Z
UID:10000791-1599177600-1611532799@krasl.org
SUMMARY:ARTISTS AS INFLUENCERS + SHELTER-IN-PLACE - EXHIBITION PROGRAMMING
DESCRIPTION:Learn more about the work on view during special tours\, artist talks\, and parties – both in person and online. All events require advance registration. To register\, explore Adult/Teen Classes\, Tours\, & Kits under the Education tab.\n  \nVIRTUAL COFFEE WITH THE CURATOR\nWITH SPECIAL GUEST LYNNE CLAYTON \nOF WATER STREET GLASSWORKS\nWEDNESDAY\, SEPTEMBER 9\, 12 PM\nFREE on Facebook Live\n\n\nJoin Lynne Clayton\, Executive Director of Water Street Glassworks and Tami Miller\, KAC Curator for an insightful virtual tour of the exhibition. \n\nSPECIAL EVENT WITH PARTICIPATING ARTIST EDGAR VALENTINE\nFEATURED ON THE NETFLIX SERIES “BLOWN AWAY”\nFRIDAY\, SEPTEMBER 11\n\n\nKrasl Art Center celebrates Artists as Influencers with participating artist Edgar Valentine\, featured on the Netflix series “Blown Away.” KAC Members have the unique opportunity to join Valentine and KAC Curator Tami Miller in gallery tours all evening for an intimate introduction to the exhibition and Valentine’s artwork. Virtual and in-person tour formats are available: \nKAC MEMBERS-ONLY VIRTUAL GALLERY TOUR WITH EDGAR VALENTINE\n5 - 5:30 PM\nFREE on Zoom; Register here\n  \nIN-PERSON GALLERY TOURS WITH EDGAR VALENTINE\n6 PM\, 6:45 PM\, and 7:30 PM\n$15; Register here\n  \nIN-PERSON GLASS DEMO WITH EDGAR VALENTINE AT WATER STREET GLASSWORKS\n8:30 PM\n\n\nEvent details will be posted on Water Street Glasswork’s Facebook page. \n\nTHIRD THURSDAY: SHELTER-IN-PLACE VIRTUAL PARTY\nTHURSDAY\, SEPTEMBER 17\, 7 - 8 PM\nFREE on Zoom; Register here\n\n\nJoin artists from the Shelter-in-Place exhibition in a virtual Zoom party during the first Third Thursday of the season! Mix a craft cocktail\, hear stories behind the work\, gain insights into the artistic process\, and celebrate our community’s ability to overcome challenges with creative talent! \n\nTHIRD THURSDAY: GLASS ARTIST & WATER STREET GLASSWORKS STUDIO MANAGER ELI ZILKE\nOCTOBER 15 \nArtists as Influencers artist and Studio Manager at Water Street Glassworks\, Eli Zilke leads visitors on an intimate tour during this October Third Thursday. Hear Zilke’s perspectives on the exhibition and learn more about his process as you explore the artwork in KAC’s Galleries. \nVIRTUAL GALLERY TOUR WITH ELI ZILKE\n6 - 6:30 PM\nFREE on Zoom; Register here\n\n\n\nIN-PERSON GALLERY TOUR WITH ELI ZILKE\n7 - 8 PM\n$15; Register here\n\nTHIRD THURSDAY: GLASS ARTIST WES HUNTING\nNOVEMBER 19 \nArtists as Influencers artist Wes Hunting works with his son\, Justin\, in rural Wisconsin. Join us virtually as the Huntings connect from their Wisconsin studio to give us a tour\, reveal insights into their work\, and share their personal collection of glass art during this November Third Thursday. \nVIRTUAL GALLERY TOUR WITH WES HUNTING\n6 - 6:30 PM\nFREE on Zoom; Register here\n\n\n\n(CANCELED) IN-PERSON GALLERY TOUR WITH WES HUNTING\n 
URL:https://krasl.org/event/exhibition-programming-artists-as-influencers-shelter-in-place/
LOCATION:MI
CATEGORIES:Event,Exhibition
ATTACH;FMTTYPE=image/jpeg:https://krasl.org/wp-content/uploads/2020/08/05_Edgar_New-2-1-e1598037420156.jpg
END:VEVENT
BEGIN:VEVENT
DTSTART;TZID=America/Detroit:20210109T110000
DTEND;TZID=America/Detroit:20210109T120000
DTSTAMP:20260420T160206
CREATED:20201030T184739Z
LAST-MODIFIED:20201102T192906Z
UID:10000803-1610190000-1610193600@krasl.org
SUMMARY:INSPIRING YOUR AUDIENCE: VIRTUAL WORKSHOP
DESCRIPTION:SATURDAY\, JANUARY 9\n11 AM - 12 PM\nFREE on Zoom for KAC Members; Register here.\n  \nSpecial single-day workshop for KAC Members! Artist El Ronan (elronan.com\, @elronanart) shares tips and tools to present your artwork online and grow your social media presence\, all while making connections with followers and inspiring your audience through art.
URL:https://krasl.org/event/inspiring-your-audience-virtual-workshop/
LOCATION:MI
CATEGORIES:Event
ATTACH;FMTTYPE=image/jpeg:https://krasl.org/wp-content/uploads/2020/10/IMG_4290-scaled-e1604064410439.jpg
END:VEVENT
BEGIN:VEVENT
DTSTART;TZID=America/Detroit:20210115T110000
DTEND;TZID=America/Detroit:20210115T170000
DTSTAMP:20260420T160206
CREATED:20210112T210256Z
LAST-MODIFIED:20210113T173847Z
UID:10000815-1610708400-1610730000@krasl.org
SUMMARY:MLK JR. CELEBRATION WEEK - FREE ART FUNDLES
DESCRIPTION:FRIDAY\, JANUARY 15 - MONDAY\, JANUARY 18\, 2021\nDuring KAC Open Hours\, 11 AM - 5 PM\n(no registration required\, available on a first-come-first-served basis) \nArt Fundles (fun bundles of art) are free art activity kits for students of all ages in our community. This Art Fundle focuses on the theme of the MLK Jr. Celebration Week: “Now Is The Time”\, through the lens of King’s “Letter From A Birmingham Jail.” The Art Fundle includes a lesson plan on King’s famous letter\, the political history of printmaking\, and ultimately\, teaches the participant how to make their very own printing plate for printmaking. \nThis activity is to provide students with an art-filled way to celebrate Martin Luther King Jr. Day\, on Monday\, January 18\, or during the MLK Celebration Week. Learn more about Lake Michigan College’s Martin Luther King Jr. Celebration Week here: https://www.lakemichigancollege.edu/community/mlk \nSponsored by Lake Michigan College\, Whirlpool Corporation\, and with support sponsorship by Kinexus Group\, & Horizon Bank.
URL:https://krasl.org/event/mlk-jr-celebration-week-free-art-fundles/2021-01-15/
LOCATION:MI
CATEGORIES:Community Engagement,Event
ATTACH;FMTTYPE=image/jpeg:https://krasl.org/wp-content/uploads/2021/01/File_000-scaled.jpeg
END:VEVENT
BEGIN:VEVENT
DTSTART;TZID=America/Detroit:20210116T110000
DTEND;TZID=America/Detroit:20210116T123000
DTSTAMP:20260420T160206
CREATED:20201221T191822Z
LAST-MODIFIED:20201221T191822Z
UID:10000808-1610794800-1610800200@krasl.org
SUMMARY:VIRTUAL FAMILY DAY: CRYSTAL SNOWFLAKES WITH MISS DANI
DESCRIPTION:Saturday\, January 16\, 2021\,\n11 AM - 12:30 PM - At your house!\n\nFREE & OPEN TO ALL AGES\nSPACE LIMITED\, REGISTRATION REQUIRED\nkrasl.org/education/youth/classes/\n\n\nGet creative with Miss Dani on Zoom! Experiment with science and art while you create your own crystal snowflakes at home. \nKAC is excited to continue offering free & fun art activities for families. All events are online and by registration only. Family Day Art Fundles will be available for pick-up by appointment the week before the event: Monday\, January 11 – Friday\, January 15. Participant Zoom invitations will be emailed the day before the event.
URL:https://krasl.org/event/virtual-family-day-crystal-snowflakes-with-miss-dani/
LOCATION:MI
CATEGORIES:Event
ATTACH;FMTTYPE=image/png:https://krasl.org/wp-content/uploads/2020/12/2021.FD_.January-Snowflakes.png
END:VEVENT
BEGIN:VEVENT
DTSTART;TZID=America/Detroit:20210116T110000
DTEND;TZID=America/Detroit:20210116T170000
DTSTAMP:20260420T160206
CREATED:20210112T210256Z
LAST-MODIFIED:20210113T173847Z
UID:10000816-1610794800-1610816400@krasl.org
SUMMARY:MLK JR. CELEBRATION WEEK - FREE ART FUNDLES
DESCRIPTION:FRIDAY\, JANUARY 15 - MONDAY\, JANUARY 18\, 2021\nDuring KAC Open Hours\, 11 AM - 5 PM\n(no registration required\, available on a first-come-first-served basis) \nArt Fundles (fun bundles of art) are free art activity kits for students of all ages in our community. This Art Fundle focuses on the theme of the MLK Jr. Celebration Week: “Now Is The Time”\, through the lens of King’s “Letter From A Birmingham Jail.” The Art Fundle includes a lesson plan on King’s famous letter\, the political history of printmaking\, and ultimately\, teaches the participant how to make their very own printing plate for printmaking. \nThis activity is to provide students with an art-filled way to celebrate Martin Luther King Jr. Day\, on Monday\, January 18\, or during the MLK Celebration Week. Learn more about Lake Michigan College’s Martin Luther King Jr. Celebration Week here: https://www.lakemichigancollege.edu/community/mlk \nSponsored by Lake Michigan College\, Whirlpool Corporation\, and with support sponsorship by Kinexus Group\, & Horizon Bank.
URL:https://krasl.org/event/mlk-jr-celebration-week-free-art-fundles/2021-01-16/
LOCATION:MI
CATEGORIES:Community Engagement,Event
ATTACH;FMTTYPE=image/jpeg:https://krasl.org/wp-content/uploads/2021/01/File_000-scaled.jpeg
END:VEVENT
BEGIN:VEVENT
DTSTART;TZID=America/Detroit:20210117T110000
DTEND;TZID=America/Detroit:20210117T170000
DTSTAMP:20260420T160206
CREATED:20210112T210256Z
LAST-MODIFIED:20210113T173847Z
UID:10000817-1610881200-1610902800@krasl.org
SUMMARY:MLK JR. CELEBRATION WEEK - FREE ART FUNDLES
DESCRIPTION:FRIDAY\, JANUARY 15 - MONDAY\, JANUARY 18\, 2021\nDuring KAC Open Hours\, 11 AM - 5 PM\n(no registration required\, available on a first-come-first-served basis) \nArt Fundles (fun bundles of art) are free art activity kits for students of all ages in our community. This Art Fundle focuses on the theme of the MLK Jr. Celebration Week: “Now Is The Time”\, through the lens of King’s “Letter From A Birmingham Jail.” The Art Fundle includes a lesson plan on King’s famous letter\, the political history of printmaking\, and ultimately\, teaches the participant how to make their very own printing plate for printmaking. \nThis activity is to provide students with an art-filled way to celebrate Martin Luther King Jr. Day\, on Monday\, January 18\, or during the MLK Celebration Week. Learn more about Lake Michigan College’s Martin Luther King Jr. Celebration Week here: https://www.lakemichigancollege.edu/community/mlk \nSponsored by Lake Michigan College\, Whirlpool Corporation\, and with support sponsorship by Kinexus Group\, & Horizon Bank.
URL:https://krasl.org/event/mlk-jr-celebration-week-free-art-fundles/2021-01-17/
LOCATION:MI
CATEGORIES:Community Engagement,Event
ATTACH;FMTTYPE=image/jpeg:https://krasl.org/wp-content/uploads/2021/01/File_000-scaled.jpeg
END:VEVENT
BEGIN:VEVENT
DTSTART;TZID=America/Detroit:20210118T110000
DTEND;TZID=America/Detroit:20210118T170000
DTSTAMP:20260420T160206
CREATED:20210112T210256Z
LAST-MODIFIED:20210113T173847Z
UID:10000818-1610967600-1610989200@krasl.org
SUMMARY:MLK JR. CELEBRATION WEEK - FREE ART FUNDLES
DESCRIPTION:FRIDAY\, JANUARY 15 - MONDAY\, JANUARY 18\, 2021\nDuring KAC Open Hours\, 11 AM - 5 PM\n(no registration required\, available on a first-come-first-served basis) \nArt Fundles (fun bundles of art) are free art activity kits for students of all ages in our community. This Art Fundle focuses on the theme of the MLK Jr. Celebration Week: “Now Is The Time”\, through the lens of King’s “Letter From A Birmingham Jail.” The Art Fundle includes a lesson plan on King’s famous letter\, the political history of printmaking\, and ultimately\, teaches the participant how to make their very own printing plate for printmaking. \nThis activity is to provide students with an art-filled way to celebrate Martin Luther King Jr. Day\, on Monday\, January 18\, or during the MLK Celebration Week. Learn more about Lake Michigan College’s Martin Luther King Jr. Celebration Week here: https://www.lakemichigancollege.edu/community/mlk \nSponsored by Lake Michigan College\, Whirlpool Corporation\, and with support sponsorship by Kinexus Group\, & Horizon Bank.
URL:https://krasl.org/event/mlk-jr-celebration-week-free-art-fundles/2021-01-18/
LOCATION:MI
CATEGORIES:Community Engagement,Event
ATTACH;FMTTYPE=image/jpeg:https://krasl.org/wp-content/uploads/2021/01/File_000-scaled.jpeg
END:VEVENT
BEGIN:VEVENT
DTSTART;TZID=America/Detroit:20210121T120000
DTEND;TZID=America/Detroit:20210121T123000
DTSTAMP:20260420T160206
CREATED:20210104T204020Z
LAST-MODIFIED:20210119T173606Z
UID:10000809-1611230400-1611232200@krasl.org
SUMMARY:Live at Lunchtime: Members' Show
DESCRIPTION:THURSDAYS at 12 PM\nFREE on Facebook Live\nLive at Lunchtime is a weekly series over the lunch hour on Facebook Live during which artists and art workers share more about their work at KAC and in the community. Check back often as new topics are added! \n\nJANUARY 21 – RE-AIRING OF EL RONAN’S SOCIAL MEDIA WORKSHOP\nJANUARY 28 – INSTALLING THE MEMBERS’ SHOW
URL:https://krasl.org/event/live-at-lunchtime-members-show-2021-01-21/2021-01-21/
LOCATION:MI
CATEGORIES:Visiting Artist,Event,Exhibition
ATTACH;FMTTYPE=image/jpeg:https://krasl.org/wp-content/uploads/2020/12/Campus-2-scaled-e1608137214416.jpg
END:VEVENT
BEGIN:VEVENT
DTSTART;TZID=America/Detroit:20210121T190000
DTEND;TZID=America/Detroit:20210121T200000
DTSTAMP:20260420T160206
CREATED:20210104T211531Z
LAST-MODIFIED:20210113T204840Z
UID:10000813-1611255600-1611259200@krasl.org
SUMMARY:THIRD THURSDAY: INSPIRED BY... ARTIST CHRISTINA ROOT VAZQUEZ
DESCRIPTION:VIRTUAL ARTIST TALK\nTHURSDAY\, JANUARY 21\, 7 PM\nFREE; Advance Registration required\n  \nChristina Root Vazquez was an integral part of the arts community of Southwest Michigan and KAC for several years. She managed KAC’s ceramics studio\, was a beloved teacher and a founding member of Chartreuse Artist Co-Op. She is best known for her playful artworks and rings made of eclectic ceramic shards. Learn where Christina’s geographic journeys have taken her and how they have impacted her creatively as an artist in this inspiring artist talk.
URL:https://krasl.org/event/third-thursday-inspired-by-artist-christina-root-vazquez/
LOCATION:MI
CATEGORIES:Visiting Artist,Event
ATTACH;FMTTYPE=image/jpeg:https://krasl.org/wp-content/uploads/2021/01/Root-Third-Thurs-e1610570876828.jpg
END:VEVENT
BEGIN:VEVENT
DTSTART;VALUE=DATE:20210122
DTEND;VALUE=DATE:20210126
DTSTAMP:20260420T160206
CREATED:20201120T142033Z
LAST-MODIFIED:20201120T142033Z
UID:10000805-1611273600-1611619199@krasl.org
SUMMARY:KAC Members' Show Artwork Dropoff
DESCRIPTION:HOW TO SUBMIT ARTWORK\nMembers interested in submitting work for the exhibition must complete this form before bringing artwork to Krasl Art Center. \nARTWORK DROP OFF:\nJanuary 22-25\, 2021. Check back for additional details in December. \nGUIDELINES:\n\n1 artwork per member or collaborating artist group\nArtists must share their source of inspiration for the artwork\nArtworks must fit through the front door and be display ready.\n\n\n\nMEMBER BENEFITS\nIn addition to being eligible to exhibit their work in the annual Members’ Exhibition\, KAC members will have access to special benefits during the month of January to prepare for the show. Check back in December to learn more and register for January workshops and events. \nNot a KAC Member? Join now at krasl.org or when you bring in your artwork.
URL:https://krasl.org/event/kac-members-show-artwork-dropoff/
LOCATION:MI
CATEGORIES:Event
ATTACH;FMTTYPE=image/jpeg:https://krasl.org/wp-content/uploads/2020/10/JRM4842-1-scaled.jpg
END:VEVENT
BEGIN:VEVENT
DTSTART;VALUE=DATE:20210128
DTEND;VALUE=DATE:20210129
DTSTAMP:20260420T160206
CREATED:20210122T135526Z
LAST-MODIFIED:20210122T140259Z
UID:10000819-1611792000-1611878399@krasl.org
SUMMARY:Live at Lunchtime: Installing the Members’ Show
DESCRIPTION:Live at Lunchtime is a weekly series over the lunch hour on Facebook Live during which artists and art workers share more about their work at KAC and in the community. Join us this week as we see how “KAC’s Members’ Show: Inspired By…” is installed.
URL:https://krasl.org/event/live-at-lunchtime-installing-the-members-show/
LOCATION:Krasl Art Center\, 707 Lake Blvd\, St. Joseph\, MI\, 49085\, United States
CATEGORIES:Community Engagement,Visiting Artist,Event,Exhibition
ORGANIZER;CN="Matthew":MAILTO:marketing@krasl.org
END:VEVENT
BEGIN:VEVENT
DTSTART;TZID=America/Detroit:20210128T120000
DTEND;TZID=America/Detroit:20210128T123000
DTSTAMP:20260420T160206
CREATED:20210104T204020Z
LAST-MODIFIED:20210119T173606Z
UID:10000810-1611835200-1611837000@krasl.org
SUMMARY:Live at Lunchtime: Members' Show
DESCRIPTION:THURSDAYS at 12 PM\nFREE on Facebook Live\nLive at Lunchtime is a weekly series over the lunch hour on Facebook Live during which artists and art workers share more about their work at KAC and in the community. Check back often as new topics are added! \n\nJANUARY 21 – RE-AIRING OF EL RONAN’S SOCIAL MEDIA WORKSHOP\nJANUARY 28 – INSTALLING THE MEMBERS’ SHOW
URL:https://krasl.org/event/live-at-lunchtime-members-show-2021-01-21/2021-01-28/
LOCATION:MI
CATEGORIES:Visiting Artist,Event,Exhibition
ATTACH;FMTTYPE=image/jpeg:https://krasl.org/wp-content/uploads/2020/12/Campus-2-scaled-e1608137214416.jpg
END:VEVENT
BEGIN:VEVENT
DTSTART;TZID=America/Detroit:20210130T080000
DTEND;TZID=America/Detroit:20210328T170000
DTSTAMP:20260420T160206
CREATED:20201030T184535Z
LAST-MODIFIED:20210226T212931Z
UID:10000801-1611993600-1616950800@krasl.org
SUMMARY:KAC MEMBERS' SHOW: INSPIRED BY... EXHIBITION PROGRAMMING
DESCRIPTION:Learn more about the work on view during special tours\, artist talks\, and other virtual events. All events require advance registration. To register\, click the links below.\nHours and event details are subject to change. KAC references state health guidelines to make adjustments for the safety of our visitors. Find the most up-to-date hours\, admission information\, and safety policies under the Visit tab. \n\nINSPIRING YOUR AUDIENCE: VIRTUAL WORKSHOP \nSATURDAY\, JANUARY 9\n11 AM - 12 PM\nFree on Zoom for KAC Members; Registration Required\n\n\nSpecial single-day workshop for KAC Members! Artist El Ronan (elronan.com\, @elronanart) shares tips and tools to present your artwork online and grow your social media presence\, all while making connections with followers and inspiring your audience through art.  \n\nLIVE AT LUNCHTIME FOCUS TALKS\n\nTHURSDAYS at 12 PM\nFREE on Facebook Live\nLive at Lunchtime is a weekly series over the lunch hour on Facebook Live during which artists and art workers share more about their work at KAC and in the community. Check back often as new topics are added! \n\nFebruary 11 – Jennifer Zona\, Alternative Grid Artist\nFebruary 18 – Member Artists Inspired by… Their Medium\n\n\nFebruary 25 – Member Artists Inspired by… Nature\nMarch 4 –  Member Artists Inspired by… Social Justice\nMarch 11 – Member Artists Inspired by… Michigan\nMarch 18 – Winner of the People’s Choice Award\n\n\n2020 MEMBERS’ SHOW OPENING WEEKEND \nSATURDAY\, JANUARY 30 & SUNDAY\, JANUARY 31\nSPECIAL MEMBER ACCESS 9 AM - 11 AM\nFREE & OPEN TO THE PUBLIC 11 AM - 5 PM\n\n\nThe KAC Members’ Show: Inspired by… will open Saturday\, January 30\, with special hours for participating member artists and their guests from 9 – 11 AM on both Saturday and Sunday\, and public hours 11 AM – 5 PM. Capacity limits still apply.  \n\nVIRTUAL COFFEE WITH THE CURATOR \nTHURSDAY\, FEBRUARY 4\, 12 PM \nFREE on Facebook Live\n\n\nJoin KAC member artists and KAC Curator Tami Miller for an insightful virtual tour of the exhibition during Live at Lunchtime (And remember to pick up your Forté Coffee before we start!). \n\nTHIRD THURSDAY: INSPIRED BY… ARTIST CHRISTINA ROOT VAZQUEZ \nVIRTUAL ARTIST TALK\nTHURSDAY\, JANUARY 21\, 7 PM\nFREE; Advance Registration required \n\n\nChristina Root Vazquez was an integral part of the arts community of Southwest Michigan and KAC for several years. She managed KAC’s ceramics studio\, was a beloved teacher and a founding member of Chartreuse Artist Co-Op. She is best known for her playful artworks and rings made of eclectic ceramic shards. Learn where Christina’s geographic journeys have taken her and how they have impacted her creatively as an artist in this inspiring artist talk.  \n\nTHIRD THURSDAY: INSPIRED BY… THE MUSKEGON MUSEUM OF ART \nVIRTUAL FIELD TRIP\nTHURSDAY\, FEBRUARY 18\, 7 PM\nFREE; Advance Registration required \n\nJoin KAC on a virtual field trip to Muskegon with Deputy Director and Curator Tami Miller as we explore inspirations behind the work of artist Richard Hunt! Art Martin\, Director of Collections and Exhibitions at the Muskegon Museum of Art\, will provide a virtual tour of Richard Hunt’s monumental sculpture Muskegon Together Rising located at the heart of downtown Muskegon. The tour will be in dialogue with Saint Joseph’s own monumental Hunt sculpture\, Rising Crossing Tides. Both directors will also highlight additional works by the artist held in the museums’ collections. \n\nTHIRD THURSDAY ART EVENTS: MEMBERS’ SHOW VIRTUAL CELEBRATION \nVIRTUAL PARTY\nTHURSDAY\, MARCH 18\, 7 PM\nFREE; Advance Registration required\n  \nCelebrate the final week of KAC’s Members’ Show with us! Enjoy a virtual tour of the exhibition and hear from member artists about their work as we close out this special annual exhibition and announce the theme for next year.
URL:https://krasl.org/event/2020-members-show-inspired-by-exhibition-programming/
LOCATION:MI
CATEGORIES:Community Engagement,Visiting Artist,Event,Exhibition
ATTACH;FMTTYPE=image/jpeg:https://krasl.org/wp-content/uploads/2020/10/JRM4842-1-scaled.jpg
END:VEVENT
BEGIN:VEVENT
DTSTART;TZID=America/Detroit:20210130T090000
DTEND;TZID=America/Detroit:20210130T170000
DTSTAMP:20260420T160206
CREATED:20210104T205416Z
LAST-MODIFIED:20210104T205416Z
UID:10000811-1611997200-1612026000@krasl.org
SUMMARY:KAC MEMBERS’ SHOW OPENING WEEKEND
DESCRIPTION:SATURDAY\, JANUARY 30 & SUNDAY\, JANUARY 31\n\nSPECIAL MEMBER ACCESS 9 AM - 11 AM\nFREE & OPEN TO THE PUBLIC 11 AM - 5 PM\n  \nThe KAC Members’ Show: Inspired by… will open Saturday\, January 30\, with special hours for participating member artists and their guests from 9 – 11 AM on both Saturday and Sunday\, and public hours 11 AM – 5 PM. Capacity limits still apply.
URL:https://krasl.org/event/kac-members-show-opening-weekend/2021-01-30/
LOCATION:MI
CATEGORIES:Event,Exhibition
ATTACH;FMTTYPE=image/jpeg:https://krasl.org/wp-content/uploads/2021/01/Opening-Weekend.jpg
END:VEVENT
BEGIN:VEVENT
DTSTART;TZID=America/Detroit:20210131T090000
DTEND;TZID=America/Detroit:20210131T170000
DTSTAMP:20260420T160206
CREATED:20210104T205416Z
LAST-MODIFIED:20210104T205416Z
UID:10000812-1612083600-1612112400@krasl.org
SUMMARY:KAC MEMBERS’ SHOW OPENING WEEKEND
DESCRIPTION:SATURDAY\, JANUARY 30 & SUNDAY\, JANUARY 31\n\nSPECIAL MEMBER ACCESS 9 AM - 11 AM\nFREE & OPEN TO THE PUBLIC 11 AM - 5 PM\n  \nThe KAC Members’ Show: Inspired by… will open Saturday\, January 30\, with special hours for participating member artists and their guests from 9 – 11 AM on both Saturday and Sunday\, and public hours 11 AM – 5 PM. Capacity limits still apply.
URL:https://krasl.org/event/kac-members-show-opening-weekend/2021-01-31/
LOCATION:MI
CATEGORIES:Event,Exhibition
ATTACH;FMTTYPE=image/jpeg:https://krasl.org/wp-content/uploads/2021/01/Opening-Weekend.jpg
END:VEVENT
END:VCALENDAR