BEGIN:VCALENDAR
VERSION:2.0
PRODID:-//Krasl Art Center - ECPv6.15.17.1//NONSGML v1.0//EN
CALSCALE:GREGORIAN
METHOD:PUBLISH
X-ORIGINAL-URL:https://krasl.org
X-WR-CALDESC:Events for Krasl Art Center
REFRESH-INTERVAL;VALUE=DURATION:PT1H
X-Robots-Tag:noindex
X-PUBLISHED-TTL:PT1H
BEGIN:VTIMEZONE
TZID:America/Detroit
BEGIN:DAYLIGHT
TZOFFSETFROM:-0500
TZOFFSETTO:-0400
TZNAME:EDT
DTSTART:20190310T070000
END:DAYLIGHT
BEGIN:STANDARD
TZOFFSETFROM:-0400
TZOFFSETTO:-0500
TZNAME:EST
DTSTART:20191103T060000
END:STANDARD
BEGIN:DAYLIGHT
TZOFFSETFROM:-0500
TZOFFSETTO:-0400
TZNAME:EDT
DTSTART:20200308T070000
END:DAYLIGHT
BEGIN:STANDARD
TZOFFSETFROM:-0400
TZOFFSETTO:-0500
TZNAME:EST
DTSTART:20201101T060000
END:STANDARD
BEGIN:DAYLIGHT
TZOFFSETFROM:-0500
TZOFFSETTO:-0400
TZNAME:EDT
DTSTART:20210314T070000
END:DAYLIGHT
BEGIN:STANDARD
TZOFFSETFROM:-0400
TZOFFSETTO:-0500
TZNAME:EST
DTSTART:20211107T060000
END:STANDARD
END:VTIMEZONE
BEGIN:VEVENT
DTSTART;TZID=America/Detroit:20200801T100000
DTEND;TZID=America/Detroit:20200801T170000
DTSTAMP:20260422T071545
CREATED:20200729T165616Z
LAST-MODIFIED:20200730T185824Z
UID:10000788-1596276000-1596301200@krasl.org
SUMMARY:Summer Art Market on the Green
DESCRIPTION:Through July\, KAC continued the spirit of the Krasl Art Fair on the Bluff with this outdoor art-buying experience. This August\, the Summer Art Market on the Green continues! \nMarkets feature local artists and will take place Saturdays\, August 1\, 8\, 15\, 22\, & 29 from 10 AM – 2 PM on the oval lawn at KAC. Some artists accept credit cards\, all accept cash payments. Though these markets and entrance to KAC are always free and open to the public\, a $1 donation is encouraged. \nPlease Note: Guests and artists are expected to follow social distancing practices\, sanitize hands often\, and must wear face coverings while at the Market. Drinks are not allowed in the market on KAC’s Oval Lawn\, but are encouraged in other areas of campus. \nParticipating artists for August 1 include:\nNicole Rimes\, Jewelry & Fibers\nJeff & Theresa Heaton\, Fibers\nBill Boyce\, Sculpture\nEliot Schlaack\, Drawing & Printmaking \nFor a full list of participating artists\, visit https://krasl.org/events/summer-art-market-on-the-green/ \nThe Summer Art Markets on the Green are underwritten by an anonymous long-time patron of the Krasl Art Fair on the Bluff.
URL:https://krasl.org/event/sumemr-art-market-on-the-green/
LOCATION:MI
CATEGORIES:Community Engagement,Visiting Artist,Event
ATTACH;FMTTYPE=image/jpeg:https://krasl.org/wp-content/uploads/2020/07/20200711_113558-scaled.jpg
END:VEVENT
END:VCALENDAR