BEGIN:VCALENDAR
VERSION:2.0
PRODID:-//Krasl Art Center - ECPv6.15.17.1//NONSGML v1.0//EN
CALSCALE:GREGORIAN
METHOD:PUBLISH
X-WR-CALNAME:Krasl Art Center
X-ORIGINAL-URL:https://krasl.org
X-WR-CALDESC:Events for Krasl Art Center
REFRESH-INTERVAL;VALUE=DURATION:PT1H
X-Robots-Tag:noindex
X-PUBLISHED-TTL:PT1H
BEGIN:VTIMEZONE
TZID:America/Detroit
BEGIN:DAYLIGHT
TZOFFSETFROM:-0500
TZOFFSETTO:-0400
TZNAME:EDT
DTSTART:20240310T070000
END:DAYLIGHT
BEGIN:STANDARD
TZOFFSETFROM:-0400
TZOFFSETTO:-0500
TZNAME:EST
DTSTART:20241103T060000
END:STANDARD
BEGIN:DAYLIGHT
TZOFFSETFROM:-0500
TZOFFSETTO:-0400
TZNAME:EDT
DTSTART:20250309T070000
END:DAYLIGHT
BEGIN:STANDARD
TZOFFSETFROM:-0400
TZOFFSETTO:-0500
TZNAME:EST
DTSTART:20251102T060000
END:STANDARD
BEGIN:DAYLIGHT
TZOFFSETFROM:-0500
TZOFFSETTO:-0400
TZNAME:EDT
DTSTART:20260308T070000
END:DAYLIGHT
BEGIN:STANDARD
TZOFFSETFROM:-0400
TZOFFSETTO:-0500
TZNAME:EST
DTSTART:20261101T060000
END:STANDARD
END:VTIMEZONE
BEGIN:VEVENT
DTSTART;TZID=America/Detroit:20250920T030000
DTEND;TZID=America/Detroit:20250920T170000
DTSTAMP:20260421T165041
CREATED:20250724T132614Z
LAST-MODIFIED:20250724T134949Z
UID:10001337-1758337200-1758387600@krasl.org
SUMMARY:George Krasl Memorial Concert
DESCRIPTION:Presented in memory of founder George Krasl\, the Krasl Art Center and Richard Hunt Studio Center welcome the Chicago-based company BEYOND THIS POINT. Founded by percussionist John Corkhill\, Beyond this Point is known for their collaborative\, innovative and immersive multimedia performances. Befitting of the vision of George and Olga Krasl to “make life more worthwhile\,” this performance promises to fill the emerging arts space of the Richard Hunt Studio Center with an unforgettable live exploration of the intersections of percussion\, sculpture\, performance art\, lights\, movement and text.
URL:https://krasl.org/event/george-krasl-memorial-concert-2/
LOCATION:Richard Hunt Studio Center\, 258 Territorial Road\, Benton Harbor\, MI\, 49022\, United States
CATEGORIES:Event
END:VEVENT
BEGIN:VEVENT
DTSTART;TZID=America/Detroit:20250920T130000
DTEND;TZID=America/Detroit:20250920T140000
DTSTAMP:20260421T165041
CREATED:20250724T132342Z
LAST-MODIFIED:20250916T173009Z
UID:10001336-1758373200-1758376800@krasl.org
SUMMARY:Hull-House Panel Discussion & Performance
DESCRIPTION:1:00 PM: Panel Discussion at Krasl Art Center\n\nFeaturing Guest Curator Michael R. Hill\, PhD\, Independent Art History Educator and Curator Anne Morse\, Nina Carazzo\, and University of Chicago Graham School Instructor Lin Atnip \n 
URL:https://krasl.org/event/hull-house-panel-discussion-performance/
LOCATION:Krasl Art Center\, 707 Lake Blvd\, St. Joseph\, MI\, 49085\, United States
CATEGORIES:Event
ATTACH;FMTTYPE=image/jpeg:https://krasl.org/wp-content/uploads/2025/08/Burroughs-Jane-Addams-1.jpg
END:VEVENT
BEGIN:VEVENT
DTSTART;TZID=America/Detroit:20250920T150000
DTEND;TZID=America/Detroit:20250920T170000
DTSTAMP:20260421T165041
CREATED:20250909T200533Z
LAST-MODIFIED:20250909T200533Z
UID:10001348-1758380400-1758387600@krasl.org
SUMMARY:George Krasl Memorial Concert FT. Beyond This Point
DESCRIPTION:Following the Panel Discussion from 3-5PM at Krasl Art Center\, the George Krasl Memorial Concert will be held at The Livery\, 190 5th St\, Benton Harbor\, MI.\nMusical performance is featuring\, Beyond this Point.\nBeyond This Point is a Chicago-based collaborative music ensemble dedicated to the advancement of experimental and contemporary culture. This multifaceted collective of musicians\, performers\, and arts practitioners builds experimental projects that engage with written music\, sound art\, lighting\, installation\, improvisation and live electronics. From the intimate to the monumental\, BTP is known for producing unique performances that offer captivating and exhilarating experiences
URL:https://krasl.org/event/george-krasl-memorial-concert-ft-beyond-this-point/
LOCATION:The Livery\, 190 5th Street\, Benton Harbor\, MI\, United States
CATEGORIES:Event
ATTACH;FMTTYPE=image/jpeg:https://krasl.org/wp-content/uploads/2025/09/Freq-fest-tribune-2-hi-res.jpg
END:VEVENT
END:VCALENDAR