BEGIN:VCALENDAR
VERSION:2.0
PRODID:-//Krasl Art Center - ECPv6.15.17.1//NONSGML v1.0//EN
CALSCALE:GREGORIAN
METHOD:PUBLISH
X-ORIGINAL-URL:https://krasl.org
X-WR-CALDESC:Events for Krasl Art Center
REFRESH-INTERVAL;VALUE=DURATION:PT1H
X-Robots-Tag:noindex
X-PUBLISHED-TTL:PT1H
BEGIN:VTIMEZONE
TZID:America/Detroit
BEGIN:DAYLIGHT
TZOFFSETFROM:-0500
TZOFFSETTO:-0400
TZNAME:EDT
DTSTART:20240310T070000
END:DAYLIGHT
BEGIN:STANDARD
TZOFFSETFROM:-0400
TZOFFSETTO:-0500
TZNAME:EST
DTSTART:20241103T060000
END:STANDARD
BEGIN:DAYLIGHT
TZOFFSETFROM:-0500
TZOFFSETTO:-0400
TZNAME:EDT
DTSTART:20250309T070000
END:DAYLIGHT
BEGIN:STANDARD
TZOFFSETFROM:-0400
TZOFFSETTO:-0500
TZNAME:EST
DTSTART:20251102T060000
END:STANDARD
BEGIN:DAYLIGHT
TZOFFSETFROM:-0500
TZOFFSETTO:-0400
TZNAME:EDT
DTSTART:20260308T070000
END:DAYLIGHT
BEGIN:STANDARD
TZOFFSETFROM:-0400
TZOFFSETTO:-0500
TZNAME:EST
DTSTART:20261101T060000
END:STANDARD
END:VTIMEZONE
BEGIN:VEVENT
DTSTART;TZID=America/Detroit:20250910T170000
DTEND;TZID=America/Detroit:20250910T183000
DTSTAMP:20260421T222038
CREATED:20250909T173748Z
LAST-MODIFIED:20250909T173748Z
UID:10001347-1757523600-1757529000@krasl.org
SUMMARY:FAMILY NIGHT at Benton Harbor Public Library | Funky Backpack Charms!
DESCRIPTION:Wednesday\, September 10th\, 5:00 PM – 6:30 PM\nFree & Open to All Ages\nat the Benton Harbor Public Library \nJoin Miss Jessica on Wednesday September 10th from 5 – 6:30pm \nDon’t drop the beads!! Let’s make fun Backpack Charms together to celebrate Back-to-School! All ages welcome! \nOn the second Wednesday of every month\, KAC hosts free artmaking activities in the evening for the whole family at the Benton Harbor Public Library! \n  \nProjects have included DIY Button Making\, Pumpkin Painting\, Pinewood Racing\, and more! See what we have planned this month at krasl.org/events/featured-events/ \n  \nCome to 213 E. Wall St\, Benton Harbor from 5  – 6:30 pm and create something special.
URL:https://krasl.org/event/family-night-at-benton-harbor-public-library-funky-backpack-charms/
LOCATION:MI
CATEGORIES:Community Engagement,Event
ATTACH;FMTTYPE=image/jpeg:https://krasl.org/wp-content/uploads/2025/09/IMG_1571-1.jpeg
END:VEVENT
BEGIN:VEVENT
DTSTART;TZID=America/Detroit:20250912T203000
DTEND;TZID=America/Detroit:20250912T230000
DTSTAMP:20260421T222038
CREATED:20250908T203059Z
LAST-MODIFIED:20250908T203059Z
UID:10001344-1757709000-1757718000@krasl.org
SUMMARY:PechaKucha Vol. 34
DESCRIPTION:Members of the community\, friends\, families\, and all those in-between are all cordially invited to attend the PechaKucha St. Joseph/Benton Harbor Volume 34 Event. The ticketed event takes place outside at The Livery on Friday\, September 12\, 2025\, from 8:30 – 11:00 PM. Doors open at 7:45 PM. PechaKucha’s – meaning “chit chat” in Japanese – presentation format shows 20 images\, each for 20 seconds. In other words\, presenters get 400 seconds to tell their story\, with visuals guiding the way.\n\nPechaKucha St. Joeseph/Benton Harbor has been bringing local creatives to center-stage for 10 years in 2025\, and Volume 34 brings more creative stories! This is a special\, ticketed event- make sure to get your tickets in advance so you don’t miss out!\n\nPurchase tickets here!\n\nFollow PechaKucha SJ/BH on Facebook as we reveal the lineup for volume 34! https://www.facebook.com/pechakuchasjbh\n\nThe event is planned for outside in the beer garden area of The Livery. Rain location is inside the building of The Livery.\n\nBeer and pizza will be available for sale. CASH ONLY!\n\nLimited chairs available. PLEASE BRING YOUR OWN CHAIRS!
URL:https://krasl.org/event/pechakucha-vol-34/
LOCATION:The Livery\, 190 5th Street\, Benton Harbor\, MI\, United States
CATEGORIES:Event
ATTACH;FMTTYPE=image/jpeg:https://krasl.org/wp-content/uploads/2025/09/PechaKucha2.jpg
END:VEVENT
BEGIN:VEVENT
DTSTART;TZID=America/Detroit:20250913T110000
DTEND;TZID=America/Detroit:20250913T123000
DTSTAMP:20260421T222038
CREATED:20250909T172937Z
LAST-MODIFIED:20250909T172937Z
UID:10001345-1757761200-1757766600@krasl.org
SUMMARY:FAMILY DAY at Krasl Art Center | Backpack Charms!
DESCRIPTION:Saturday\, September 13th\, 11 am – 12:30 pm\nFree & Open to All Ages \nJoin Miss Jessica on Saturday\, September 13th from 11 – 12:30pm at the Krasl Art Center \nCelebrate Back-to-School by creating a fun\, funky Backpack Charm! All ages welcome—drop in and have fun! \nOn the second Saturday of every month\, Krasl Art Center has free artmaking activities for the whole family! \n  \nProjects have included DIY Bubble Wands\, Rock Painting\, Ski Slope Racing\, and much more! See what we have planned this month at krasl.org/events/featured-events/ \n  \nCome down to 707 Lake Boulevard from 11 am – 12:30 pm and create something special.
URL:https://krasl.org/event/family-day-at-krasl-art-center-backpack-charms/
LOCATION:MI
CATEGORIES:Community Engagement,Event
ATTACH;FMTTYPE=image/jpeg:https://krasl.org/wp-content/uploads/2025/09/IMG_1570.jpeg
END:VEVENT
END:VCALENDAR