BEGIN:VCALENDAR
VERSION:2.0
PRODID:-//Krasl Art Center - ECPv6.15.17.1//NONSGML v1.0//EN
CALSCALE:GREGORIAN
METHOD:PUBLISH
X-ORIGINAL-URL:https://krasl.org
X-WR-CALDESC:Events for Krasl Art Center
REFRESH-INTERVAL;VALUE=DURATION:PT1H
X-Robots-Tag:noindex
X-PUBLISHED-TTL:PT1H
BEGIN:VTIMEZONE
TZID:America/Detroit
BEGIN:DAYLIGHT
TZOFFSETFROM:-0500
TZOFFSETTO:-0400
TZNAME:EDT
DTSTART:20240310T070000
END:DAYLIGHT
BEGIN:STANDARD
TZOFFSETFROM:-0400
TZOFFSETTO:-0500
TZNAME:EST
DTSTART:20241103T060000
END:STANDARD
BEGIN:DAYLIGHT
TZOFFSETFROM:-0500
TZOFFSETTO:-0400
TZNAME:EDT
DTSTART:20250309T070000
END:DAYLIGHT
BEGIN:STANDARD
TZOFFSETFROM:-0400
TZOFFSETTO:-0500
TZNAME:EST
DTSTART:20251102T060000
END:STANDARD
BEGIN:DAYLIGHT
TZOFFSETFROM:-0500
TZOFFSETTO:-0400
TZNAME:EDT
DTSTART:20260308T070000
END:DAYLIGHT
BEGIN:STANDARD
TZOFFSETFROM:-0400
TZOFFSETTO:-0500
TZNAME:EST
DTSTART:20261101T060000
END:STANDARD
END:VTIMEZONE
BEGIN:VEVENT
DTSTART;TZID=America/Detroit:20250807T120000
DTEND;TZID=America/Detroit:20250807T130000
DTSTAMP:20260421T194337
CREATED:20250724T131251Z
LAST-MODIFIED:20250805T170312Z
UID:10001334-1754568000-1754571600@krasl.org
SUMMARY:Coffee with the Curator
DESCRIPTION:Grab a coffee at Krasl and come learn all about the new exhibition on view\, Hull-House Artists in Chicago and Beyond. Chief Curator Tami Fauver will discuss the pieces and dive deeper into the installation from 12-1pm.
URL:https://krasl.org/event/coffee-with-the-curator-8/
LOCATION:Krasl Art Center\, 707 Lake Blvd\, St. Joseph\, MI\, 49085\, United States
CATEGORIES:Event
ATTACH;FMTTYPE=image/heic:https://krasl.org/wp-content/uploads/2025/07/IMG_9185.heic
END:VEVENT
BEGIN:VEVENT
DTSTART;TZID=America/Detroit:20250809T110000
DTEND;TZID=America/Detroit:20250809T123000
DTSTAMP:20260421T194337
CREATED:20250731T195556Z
LAST-MODIFIED:20250731T195556Z
UID:10001339-1754737200-1754742600@krasl.org
SUMMARY:FAMILY DAY at Krasl Art Center | Pet Portraits!
DESCRIPTION:Saturday\, August 9th\, 11 am – 12:30 pm\nFree & Open to All Ages \nJoin Miss Jessica on Saturday\, June 14th from 11 – 12:30pm at the Krasl Art Center \nCreate a pet portrait inspired by your beloved cat (or doggies too)! All ages welcome—drop in and have fun! \nOn the second Saturday of every month\, Krasl Art Center has free artmaking activities for the whole family! \n  \nProjects have included DIY Bubble Wands\, Rock Painting\, Ski Slope Racing\, and much more! See what we have planned this month at krasl.org/events/featured-events/ \n  \nCome down to 707 Lake Boulevard from 11 am – 12:30 pm and create something special.
URL:https://krasl.org/event/family-day-at-krasl-art-center-pet-portraits/
LOCATION:MI
CATEGORIES:Community Engagement,Event
ATTACH;FMTTYPE=image/jpeg:https://krasl.org/wp-content/uploads/2025/07/IMG_1207.jpeg
END:VEVENT
END:VCALENDAR