BEGIN:VCALENDAR
VERSION:2.0
PRODID:-//Krasl Art Center - ECPv6.15.17.1//NONSGML v1.0//EN
CALSCALE:GREGORIAN
METHOD:PUBLISH
X-WR-CALNAME:Krasl Art Center
X-ORIGINAL-URL:https://krasl.org
X-WR-CALDESC:Events for Krasl Art Center
REFRESH-INTERVAL;VALUE=DURATION:PT1H
X-Robots-Tag:noindex
X-PUBLISHED-TTL:PT1H
BEGIN:VTIMEZONE
TZID:America/Detroit
BEGIN:DAYLIGHT
TZOFFSETFROM:-0500
TZOFFSETTO:-0400
TZNAME:EDT
DTSTART:20240310T070000
END:DAYLIGHT
BEGIN:STANDARD
TZOFFSETFROM:-0400
TZOFFSETTO:-0500
TZNAME:EST
DTSTART:20241103T060000
END:STANDARD
BEGIN:DAYLIGHT
TZOFFSETFROM:-0500
TZOFFSETTO:-0400
TZNAME:EDT
DTSTART:20250309T070000
END:DAYLIGHT
BEGIN:STANDARD
TZOFFSETFROM:-0400
TZOFFSETTO:-0500
TZNAME:EST
DTSTART:20251102T060000
END:STANDARD
BEGIN:DAYLIGHT
TZOFFSETFROM:-0500
TZOFFSETTO:-0400
TZNAME:EDT
DTSTART:20260308T070000
END:DAYLIGHT
BEGIN:STANDARD
TZOFFSETFROM:-0400
TZOFFSETTO:-0500
TZNAME:EST
DTSTART:20261101T060000
END:STANDARD
END:VTIMEZONE
BEGIN:VEVENT
DTSTART;TZID=America/Detroit:20250709T170000
DTEND;TZID=America/Detroit:20250709T183000
DTSTAMP:20260424T001036
CREATED:20250703T181326Z
LAST-MODIFIED:20250703T181326Z
UID:10001332-1752080400-1752085800@krasl.org
SUMMARY:FAMILY NIGHT at Benton Harbor Public Library | Children's Art Fair Art Making!
DESCRIPTION:Wednesday\, July 9th\, 5:00 PM – 6:30 PM\nFree & Open to All Ages\nat the Benton Harbor Public Library \nJoin Miss Jessica on Wednesday June 9th from 5 – 6:30pm \nCome make beautiful artwork for the Benton Harbor Children’s Art Fair\, we will have all the supplies you need to create a masterpiece! All artwork will be displayed in Arts Park on Saturday\, July 19th from 10am to 2pm.  All ages welcome! \nOn the second Wednesday of every month\, KAC hosts free artmaking activities in the evening for the whole family at the Benton Harbor Public Library! \n  \nProjects have included DIY Button Making\, Pumpkin Painting\, Pinewood Racing\, and more! See what we have planned this month at krasl.org/events/featured-events/ \n  \nCome to 213 E. Wall St\, Benton Harbor from 5  – 6:30 pm and create something special.
URL:https://krasl.org/event/family-night-at-benton-harbor-public-library-childrens-art-fair-art-making/
LOCATION:MI
CATEGORIES:Community Engagement,Event
ATTACH;FMTTYPE=image/jpeg:https://krasl.org/wp-content/uploads/2025/07/20240809_110528.jpeg
END:VEVENT
END:VCALENDAR