BEGIN:VCALENDAR
VERSION:2.0
PRODID:-//Krasl Art Center - ECPv6.15.17.1//NONSGML v1.0//EN
CALSCALE:GREGORIAN
METHOD:PUBLISH
X-ORIGINAL-URL:https://krasl.org
X-WR-CALDESC:Events for Krasl Art Center
REFRESH-INTERVAL;VALUE=DURATION:PT1H
X-Robots-Tag:noindex
X-PUBLISHED-TTL:PT1H
BEGIN:VTIMEZONE
TZID:America/Detroit
BEGIN:DAYLIGHT
TZOFFSETFROM:-0500
TZOFFSETTO:-0400
TZNAME:EDT
DTSTART:20250309T070000
END:DAYLIGHT
BEGIN:STANDARD
TZOFFSETFROM:-0400
TZOFFSETTO:-0500
TZNAME:EST
DTSTART:20251102T060000
END:STANDARD
BEGIN:DAYLIGHT
TZOFFSETFROM:-0500
TZOFFSETTO:-0400
TZNAME:EDT
DTSTART:20260308T070000
END:DAYLIGHT
BEGIN:STANDARD
TZOFFSETFROM:-0400
TZOFFSETTO:-0500
TZNAME:EST
DTSTART:20261101T060000
END:STANDARD
BEGIN:DAYLIGHT
TZOFFSETFROM:-0500
TZOFFSETTO:-0400
TZNAME:EDT
DTSTART:20270314T070000
END:DAYLIGHT
BEGIN:STANDARD
TZOFFSETFROM:-0400
TZOFFSETTO:-0500
TZNAME:EST
DTSTART:20271107T060000
END:STANDARD
END:VTIMEZONE
BEGIN:VEVENT
DTSTART;TZID=America/Detroit:20260507T180000
DTEND;TZID=America/Detroit:20260507T190000
DTSTAMP:20260424T044102
CREATED:20260422T144215Z
LAST-MODIFIED:20260422T144421Z
UID:10001387-1778176800-1778180400@krasl.org
SUMMARY:Malcolm Taylor: Gallery Walkthrough
DESCRIPTION:Walk and learn in the Project Space with artist Malcolm Taylor for his exhibition\, Malcolm Taylor: Prologue\, The State of Play.\n\nMalcolm Taylor is a Benton Harbor–based artist and a lifelong collector of pop culture artifacts. His photographic practice celebrates craftsmanship\, cultural significance\, and the enduring power of storytelling.The State of Play marks Benton Harbor–based photographer Malcolm Taylor’s first gallery exhibition\, offering an adventurous exploration of storytelling through action figure photography. Taylor stages intricate miniature sets and captures them in vivid\, cinematic photographs that blur the line between play and narrative. Featuring characters drawn from comics\, video games\, and pop culture\, the works are infused with humor\, nostalgia\, and imagination\, inviting viewers into fully realized worlds at a toy-sized scale.\n\nThe exhibition is on view in the Project Space through May 9th.
URL:https://krasl.org/event/malcolm-taylor-gallery-walkthrough/
LOCATION:Krasl Art Center ArtLab\, 707 Lake BLVD\, St. Joesph\, MI\, 49085\, United States
CATEGORIES:Community Engagement,Visiting Artist,Event
ATTACH;FMTTYPE=image/jpeg:https://krasl.org/wp-content/uploads/2025/12/IMG_4539.jpeg
END:VEVENT
END:VCALENDAR